Workbook
Name _Hlk70666672: 'Surat Kelulusan'!$A$1

Sheet Menu Utama
J5: ¿ IDENTITAS SEKOLAH (Isi manual di bawah ini)
J6: NPSN | K6: 20319975
J7: Nama Sekolah | K7: PRINGSARI 01
J8: Alamat | K8: RT 03 RW 04 Kertosari, Pringsari, Kec.Pringapus
J9: Kepala Sekolah | K9: Tohar, S.Pd
J10: NIP | K10: 19660609 199201 1 001
J11: Kelas/ Semester | K11: 6 (Enam) | M11: Genap
J12: Tahun Pelajaran | K12: 2021/2022
J13: Guru Kelas | K13: PUJI UTAMI, S.PdSD
J14: NIP | K14: 198607232009022004
J15: Desa | K15: PRINGSARI
J16: Kecamatan | K16: PRINGAPUS
J17: Kabupaten/Kota | K17: SEMARANG
J18: Propinsi | K18: JAWA TENGAH
J19: Tanggal Kelulusan | K19: Pringsari,
J20: Jumlah siswa | K20: 24
P22: Puji Utami

Sheet SKM
C8: SKM | D8: : | E8: 50 | M8: : | N8: =(100-E8)/3 -> 16.666667
E11: 0 | F11: - | G11: =$E$8-1 -> 49 | H11: =G11+1 -> 50 | I11: - | J11: =$E$8+$N$8-1 -> 65.666667 | K11: =$E$8+$N$8 -> 66.666667 | L11: - | M11: =$E$8+$N$8+$N$8-1 -> 82.333333 | N11: =$E$8+$N$8+$N$8 -> 83.333333 | O11: - | P11: =$E$8+$N$8+$N$8+$N$8 -> 100
F12: =IF(G11<$E$8,"D",IF(G11<$E$8+$N$8,"C",IF(G11<$E$8+$N$8+$N$8,"B",IF(G11<=$E$8+$N$8+$N$8+$N$8,"A")))) -> D | I12: =IF(J11<$E$8,"D",IF(J11<$E$8+$N$8,"C",IF(J11<$E$8+$N$8+$N$8,"B",IF(J11<=$E$8+$N$8+$N$8+$N$8,"A")))) -> C | L12: =IF(M11<$E$8,"D",IF(M11<$E$8+$N$8,"C",IF(M11<$E$8+$N$8+$N$8,"B",IF(M11<=$E$8+$N$8+$N$8+$N$8,"A")))) -> B | O12: =IF(P11<$E$8,"D",IF(P11<$E$8+$N$8,"C",IF(P11<$E$8+$N$8+$N$8,"B",IF(P11<=$E$8+$N$8+$N$8+$N$8,"A")))) -> A
E14: =O12 -> A | F14: = | G14: SANGAT BAIK
E15: =L12 -> B | F15: = | G15: BAIK
E16: =I12 -> C | F16: = | G16: CUKUP
E17: =F12 -> D | F17: = | G17: PERLU BIMBINGAN
C19: Silahkan tulis KKM satuan pendidikan di tempat yang disediakan
B31: Puji237

Sheet DAFTAR SISWA
A1: DATA SISWA
A3: NO | B3: No. Induk | C3: NISN | D3: Nama | E3: Tempat Tanggal Lahir | F3: Nama Orang Tua
A5: 1 | B5: 2 | C5: 3 | D5: 4 | E5: 5 | F5: 6
A6: 1 | B6: 1255 | C6: 0097179388 | D6: Adya Woro Anggraeni | E6: Kab. Semarang, 6 November 2009 | F6: Adi Wibowo
A7: 2 | B7: 1349 | C7: 00109936452 | D7: Amanda Nikeisya Sudibyo | E7: Semarang, 13 Januari 2010 | F7: Yulianto Sudibyo
A8: 3 | B8: 1257 | C8: 0096836083 | D8: Bimo Anggamahenda | E8: Pekanbaru, 10 Juni 2009 | F8: Supianto
A9: 4 | B9: 1258 | C9: 0096546046 | D9: Bungah Rizki Rokhimah | E9: Semarang, 4 Maret 2010 | F9: Sunoko
A10: 5 | B10: 1259 | C10: 0095246769 | D10: Enggar Megawantoro | E10: Kab.Semarang, 8 Mei 2009 | F10: Minanto
A11: 6 | B11: 1260 | C11: 0102039164 | D11: Firman Ainur Rahmad | E11: Kab. Semarang, 6 Januari 2010 | F11: Rohmad
A12: 7 | B12: 1263 | C12: 0096060217 | D12: Indra Setyawan | E12: Purbalingga,28 Juli 2009 | F12: Giyono
A13: 8 | B13: 1311 | C13: 0062163309 | D13: Ismi Nur Fadilah | E13: Kab.Semarang, 17 Juli 2006 | F13: Sunadi
A14: 9 | B14: 1264 | C14: 0108445988 | D14: Jordan Ahmad Kautsar | E14: Kab.Semarang, 25 Juni 2010 | F14: Purwanto
A15: 10 | B15: 1351 | C15: 0106225197 | D15: Kahfila Zahra Aulia | E15: Semarang, 20 Juli 2010 | F15: Agung Fitrianto
A16: 11 | B16: 1265 | C16: 0107053186 | D16: Marvin Aditya Pratama | E16: Kab. Semarang, 23 Juni 2010 | F16: Ari Setiawan
A17: 12 | B17: 1266 | C17: 0104081443 | D17: Muhammad Jibril Al Hafidz | E17: Kab.Semarang, 3 Februari 2010 | F17: Muhammad Taufiq
... A30: 25 | B30: 1249 | C30: 0087535922 | D30: Zaidan Arley | E30: Semarang, 1 Oktober 2008 | F30: Lilik Kurniawan
D49: dono

Sheet  RaporPAI
B1: AGAMA (RAPOR)
B2: NO | C2: No.Induk | D2: Nama | T2: NILAI RAPOR
E3: Kelas IV Semester I | G3: Rata-rata | H3: Kelas IV Semester II | J3: Rata-rata | K3: Kelas V Semester I | M3: Rata-rata | N3: Kelas V Semester II | P3: Rata-rata | Q3: Kelas VI Semester I | S3: Rata-rata
E4: Pengetahuan | F4: Keterampilan | H4: Pengetahuan | I4: Keterampilan | K4: Pengetahuan | L4: Keterampilan | N4: Pengetahuan | O4: Keterampilan | Q4: Pengetahuan | R4: Keterampilan
B5: 1 | C5: 2 | D5: 3 | E5: 4 | F5: 5 | G5: 6 | H5: 7 | I5: 8 | J5: 9 | K5: 10 | L5: 11 | M5: 12 | N5: 13 | O5: 14 | P5: 15 | Q5: 16 | R5: 17 | S5: 18 | T5: 19
B6: ='DAFTAR SISWA'!A6 -> 1 | C6: ='DAFTAR SISWA'!B6 -> 1255 | D6: ='DAFTAR SISWA'!D6 -> Adya Woro Anggraeni | E6: 2 | F6: 3 | G6: =AVERAGE(E6:F6) -> 2.5 | H6: 4 | I6: 5 | J6: =AVERAGE(H6:I6) -> 4.5 | K6: 70 | L6: 60 | M6: =AVERAGE(K6:L6) -> 65 | N6: 75 | O6: 80 | P6: =AVERAGE(N6:O6) -> 77.5 | Q6: 95 | R6: 90 | S6: =AVERAGE(Q6:R6) -> 92.5 | T6: =AVERAGE(G6+J6+M6+P6+S6)/5 -> 48.4
B7: 2 | C7: ='DAFTAR SISWA'!B7 -> 1349 | D7: ='DAFTAR SISWA'!D7 -> Amanda Nikeisya Sudibyo | E7: 3 | G7: =AVERAGE(E7:F7) -> 3 | H7: 2 | J7: =AVERAGE(H7:I7) -> 2 | K7: 45 | L7: 6 | M7: =AVERAGE(K7:L7) -> 25.5 | N7: 2 | O7: 4 | P7: =AVERAGE(N7:O7) -> 3 | Q7: 80 | S7: =AVERAGE(Q7:R7) -> 80 | T7: =AVERAGE(G7+J7+M7+P7+S7)/5 -> 22.7
B8: 3 | C8: ='DAFTAR SISWA'!B8 -> 1257 | D8: ='DAFTAR SISWA'!D8 -> Bimo Anggamahenda | E8: 4 | G8: =AVERAGE(E8:F8) -> 4 | H8: 0 | J8: =AVERAGE(H8:I8) -> 0 | K8: 1 | L8: 3 | M8: =AVERAGE(K8:L8) -> 2 | N8: 3 | P8: =AVERAGE(N8:O8) -> 3 | Q8: 1 | S8: =AVERAGE(Q8:R8) -> 1 | T8: =AVERAGE(G8+J8+M8+P8+S8)/5 -> 2
B9: 4 | C9: ='DAFTAR SISWA'!B9 -> 1258 | D9: ='DAFTAR SISWA'!D9 -> Bungah Rizki Rokhimah | E9: 5 | G9: =AVERAGE(E9:F9) -> 5 | H9: -2 | J9: =AVERAGE(H9:I9) -> -2 | K9: 15 | M9: =AVERAGE(K9:L9) -> 15 | N9: 4 | P9: =AVERAGE(N9:O9) -> 4 | Q9: 0 | R9: 67 | S9: =AVERAGE(Q9:R9) -> 33.5 | T9: =AVERAGE(G9+J9+M9+P9+S9)/5 -> 11.1
B10: 5 | C10: ='DAFTAR SISWA'!B10 -> 1259 | D10: ='DAFTAR SISWA'!D10 -> Enggar Megawantoro | E10: 70 | G10: =AVERAGE(E10:F10) -> 70 | H10: -4 | J10: =AVERAGE(H10:I10) -> -4 | K10: 14.5 | M10: =AVERAGE(K10:L10) -> 14.5 | N10: 5 | P10: =AVERAGE(N10:O10) -> 5 | Q10: -1 | S10: =AVERAGE(Q10:R10) -> -1 | T10: =AVERAGE(G10+J10+M10+P10+S10)/5 -> 16.9
B11: 6 | C11: ='DAFTAR SISWA'!B11 -> 1260 | D11: ='DAFTAR SISWA'!D11 -> Firman Ainur Rahmad | E11: 7 | G11: =AVERAGE(E11:F11) -> 7 | H11: -6 | J11: =AVERAGE(H11:I11) -> -6 | K11: 14 | M11: =AVERAGE(K11:L11) -> 14 | N11: 6 | P11: =AVERAGE(N11:O11) -> 6 | Q11: -2 | S11: =AVERAGE(Q11:R11) -> -2 | T11: =AVERAGE(G11+J11+M11+P11+S11)/5 -> 3.8
B12: 7 | C12: ='DAFTAR SISWA'!B12 -> 1263 | D12: ='DAFTAR SISWA'!D12 -> Indra Setyawan | E12: 8 | G12: =AVERAGE(E12:F12) -> 8 | H12: -8 | J12: =AVERAGE(H12:I12) -> -8 | K12: 13.5 | M12: =AVERAGE(K12:L12) -> 13.5 | N12: 7 | P12: =AVERAGE(N12:O12) -> 7 | Q12: -3 | S12: =AVERAGE(Q12:R12) -> -3 | T12: =AVERAGE(G12+J12+M12+P12+S12)/5 -> 3.5
B13: 8 | C13: ='DAFTAR SISWA'!B13 -> 1311 | D13: ='DAFTAR SISWA'!D13 -> Ismi Nur Fadilah | E13: 90 | G13: =AVERAGE(E13:F13) -> 90 | H13: -10 | J13: =AVERAGE(H13:I13) -> -10 | K13: 13 | M13: =AVERAGE(K13:L13) -> 13 | N13: 8 | P13: =AVERAGE(N13:O13) -> 8 | Q13: -4 | S13: =AVERAGE(Q13:R13) -> -4 | T13: =AVERAGE(G13+J13+M13+P13+S13)/5 -> 19.4
B14: 9 | C14: ='DAFTAR SISWA'!B14 -> 1264 | D14: ='DAFTAR SISWA'!D14 -> Jordan Ahmad Kautsar | E14: 10 | G14: =AVERAGE(E14:F14) -> 10 | H14: -12 | J14: =AVERAGE(H14:I14) -> -12 | K14: 12.5 | M14: =AVERAGE(K14:L14) -> 12.5 | N14: 9 | P14: =AVERAGE(N14:O14) -> 9 | Q14: -5 | S14: =AVERAGE(Q14:R14) -> -5 | T14: =AVERAGE(G14+J14+M14+P14+S14)/5 -> 2.9
B15: 10 | C15: ='DAFTAR SISWA'!B15 -> 1351 | D15: ='DAFTAR SISWA'!D15 -> Kahfila Zahra Aulia | E15: 11 | G15: =AVERAGE(E15:F15) -> 11 | H15: -14 | J15: =AVERAGE(H15:I15) -> -14 | K15: 12 | M15: =AVERAGE(K15:L15) -> 12 | N15: 10 | P15: =AVERAGE(N15:O15) -> 10 | Q15: -6 | S15: =AVERAGE(Q15:R15) -> -6 | T15: =AVERAGE(G15+J15+M15+P15+S15)/5 -> 2.6
B16: 11 | C16: ='DAFTAR SISWA'!B16 -> 1265 | D16: ='DAFTAR SISWA'!D16 -> Marvin Aditya Pratama | E16: 12 | G16: =AVERAGE(E16:F16) -> 12 | H16: -16 | J16: =AVERAGE(H16:I16) -> -16 | K16: 11.5 | M16: =AVERAGE(K16:L16) -> 11.5 | N16: 11 | P16: =AVERAGE(N16:O16) -> 11 | Q16: -7 | S16: =AVERAGE(Q16:R16) -> -7 | T16: =AVERAGE(G16+J16+M16+P16+S16)/5 -> 2.3
B17: 12 | C17: ='DAFTAR SISWA'!B17 -> 1266 | D17: ='DAFTAR SISWA'!D17 -> Muhammad Jibril Al Hafidz | E17: 13 | G17: =AVERAGE(E17:F17) -> 13 | H17: -18 | J17: =AVERAGE(H17:I17) -> -18 | K17: 11 | M17: =AVERAGE(K17:L17) -> 11 | N17: 12 | P17: =AVERAGE(N17:O17) -> 12 | Q17: -8 | S17: =AVERAGE(Q17:R17) -> -8 | T17: =AVERAGE(G17+J17+M17+P17+S17)/5 -> 2
B18: 13 | C18: ='DAFTAR SISWA'!B18 -> 1267 | D18: ='DAFTAR SISWA'!D18 -> Muhammad Khoirun Hanafi | E18: 14 | G18: =AVERAGE(E18:F18) -> 14 | H18: -20 | J18: =AVERAGE(H18:I18) -> -20 | K18: 10.5 | M18: =AVERAGE(K18:L18) -> 10.5 | N18: 13 | P18: =AVERAGE(N18:O18) -> 13 | Q18: -9 | S18: =AVERAGE(Q18:R18) -> -9 | T18: =AVERAGE(G18+J18+M18+P18+S18)/5 -> 1.7
B19: 14 | C19: ='DAFTAR SISWA'!B19 -> 1269 | D19: ='DAFTAR SISWA'!D19 -> Nila Nafira | E19: 15 | G19: =AVERAGE(E19:F19) -> 15 | H19: -22 | J19: =AVERAGE(H19:I19) -> -22 | K19: 10 | M19: =AVERAGE(K19:L19) -> 10 | N19: 14 | P19: =AVERAGE(N19:O19) -> 14 | Q19: -10 | S19: =AVERAGE(Q19:R19) -> -10 | T19: =AVERAGE(G19+J19+M19+P19+S19)/5 -> 1.4
B20: 15 | C20: ='DAFTAR SISWA'!B20 -> 1389 | D20: ='DAFTAR SISWA'!D20 -> Oktavia Vivi Novita | E20: 16 | G20: =AVERAGE(E20:F20) -> 16 | H20: -24 | J20: =AVERAGE(H20:I20) -> -24 | K20: 9.5 | M20: =AVERAGE(K20:L20) -> 9.5 | N20: 15 | P20: =AVERAGE(N20:O20) -> 15 | Q20: -11 | S20: =AVERAGE(Q20:R20) -> -11 | T20: =AVERAGE(G20+J20+M20+P20+S20)/5 -> 1.1
B21: 16 | C21: ='DAFTAR SISWA'!B21 -> 1270 | D21: ='DAFTAR SISWA'!D21 -> Patricia Chiquitita | E21: 17 | G21: =AVERAGE(E21:F21) -> 17 | H21: -26 | J21: =AVERAGE(H21:I21) -> -26 | K21: 9 | M21: =AVERAGE(K21:L21) -> 9 | N21: 16 | P21: =AVERAGE(N21:O21) -> 16 | Q21: -12 | S21: =AVERAGE(Q21:R21) -> -12 | T21: =AVERAGE(G21+J21+M21+P21+S21)/5 -> 0.8
... B30: 25 | C30: ='DAFTAR SISWA'!B30 -> 1249 | D30: ='DAFTAR SISWA'!D30 -> Zaidan Arley | E30: 26 | G30: =AVERAGE(E30:F30) -> 26 | H30: -44 | J30: =AVERAGE(H30:I30) -> -44 | K30: 4.5 | M30: =AVERAGE(K30:L30) -> 4.5 | N30: 25 | P30: =AVERAGE(N30:O30) -> 25 | Q30: -21 | S30: =AVERAGE(Q30:R30) -> -21 | T30: =AVERAGE(G30+J30+M30+P30+S30)/5 -> -1.9
D31: ='DAFTAR SISWA'!D31 -> 0

Sheet RaporPKn
B1: PKN (RAPOR)
B2: NO | C2: No.Induk | D2: Nama | T2: NILAI RAPOR
E3: Kelas IV Semester I | G3: Rata-rata | H3: Kelas IV Semester II | J3: Rata-rata | K3: Kelas V Semester I | M3: Rata-rata | N3: Kelas V Semester II | P3: Rata-rata | Q3: Kelas VI Semester I | S3: Rata-rata
E4: Pengetahuan | F4: Keterampilan | H4: Pengetahuan | I4: Keterampilan | K4: Pengetahuan | L4: Keterampilan | N4: Pengetahuan | O4: Keterampilan | Q4: Pengetahuan | R4: Keterampilan
B5: 1 | C5: 2 | D5: 3 | T5: 13
B6: 1 | C6: ='DAFTAR SISWA'!B6 -> 1255 | D6: ='DAFTAR SISWA'!D6 -> Adya Woro Anggraeni | E6: 2 | F6: 3 | G6: =AVERAGE(E6:F6) -> 2.5 | H6: 4 | I6: 5 | J6: =AVERAGE(H6:I6) -> 4.5 | K6: 70 | L6: 60 | M6: =AVERAGE(K6:L6) -> 65 | N6: 75 | O6: 80 | P6: =AVERAGE(N6:O6) -> 77.5 | Q6: 85 | R6: 90 | S6: =AVERAGE(Q6:R6) -> 87.5 | T6: =AVERAGE(G6+J6+M6+P6+S6)/5 -> 47.4
B7: 2 | C7: ='DAFTAR SISWA'!B7 -> 1349 | D7: ='DAFTAR SISWA'!D7 -> Amanda Nikeisya Sudibyo | E7: 3 | G7: =AVERAGE(E7:F7) -> 3 | H7: 2 | J7: =AVERAGE(H7:I7) -> 2 | K7: 45 | L7: 6 | M7: =AVERAGE(K7:L7) -> 25.5 | N7: 2 | O7: 4 | P7: =AVERAGE(N7:O7) -> 3 | Q7: 2 | S7: =AVERAGE(Q7:R7) -> 2 | T7: =AVERAGE(G7+J7+M7+P7+S7)/5 -> 7.1
B8: 3 | C8: ='DAFTAR SISWA'!B8 -> 1257 | D8: ='DAFTAR SISWA'!D8 -> Bimo Anggamahenda | E8: 4 | G8: =AVERAGE(E8:F8) -> 4 | H8: 0 | J8: =AVERAGE(H8:I8) -> 0 | K8: 1 | L8: 3 | M8: =AVERAGE(K8:L8) -> 2 | N8: 3 | P8: =AVERAGE(N8:O8) -> 3 | Q8: 1 | S8: =AVERAGE(Q8:R8) -> 1 | T8: =AVERAGE(G8+J8+M8+P8+S8)/5 -> 2
B9: 4 | C9: ='DAFTAR SISWA'!B9 -> 1258 | D9: ='DAFTAR SISWA'!D9 -> Bungah Rizki Rokhimah | E9: 5 | G9: =AVERAGE(E9:F9) -> 5 | H9: -2 | J9: =AVERAGE(H9:I9) -> -2 | K9: 15 | M9: =AVERAGE(K9:L9) -> 15 | N9: 4 | P9: =AVERAGE(N9:O9) -> 4 | Q9: 0 | R9: 67 | S9: =AVERAGE(Q9:R9) -> 33.5 | T9: =AVERAGE(G9+J9+M9+P9+S9)/5 -> 11.1
B10: 5 | C10: ='DAFTAR SISWA'!B10 -> 1259 | D10: ='DAFTAR SISWA'!D10 -> Enggar Megawantoro | E10: 6 | G10: =AVERAGE(E10:F10) -> 6 | H10: -4 | J10: =AVERAGE(H10:I10) -> -4 | K10: 14.5 | M10: =AVERAGE(K10:L10) -> 14.5 | N10: 5 | P10: =AVERAGE(N10:O10) -> 5 | Q10: -1 | S10: =AVERAGE(Q10:R10) -> -1 | T10: =AVERAGE(G10+J10+M10+P10+S10)/5 -> 4.1
B11: 6 | C11: ='DAFTAR SISWA'!B11 -> 1260 | D11: ='DAFTAR SISWA'!D11 -> Firman Ainur Rahmad | E11: 7 | G11: =AVERAGE(E11:F11) -> 7 | H11: -6 | J11: =AVERAGE(H11:I11) -> -6 | K11: 14 | M11: =AVERAGE(K11:L11) -> 14 | N11: 6 | P11: =AVERAGE(N11:O11) -> 6 | Q11: -2 | S11: =AVERAGE(Q11:R11) -> -2 | T11: =AVERAGE(G11+J11+M11+P11+S11)/5 -> 3.8
B12: 7 | C12: ='DAFTAR SISWA'!B12 -> 1263 | D12: ='DAFTAR SISWA'!D12 -> Indra Setyawan | E12: 8 | G12: =AVERAGE(E12:F12) -> 8 | H12: -8 | J12: =AVERAGE(H12:I12) -> -8 | K12: 13.5 | M12: =AVERAGE(K12:L12) -> 13.5 | N12: 7 | P12: =AVERAGE(N12:O12) -> 7 | Q12: -3 | S12: =AVERAGE(Q12:R12) -> -3 | T12: =AVERAGE(G12+J12+M12+P12+S12)/5 -> 3.5
B13: 8 | C13: ='DAFTAR SISWA'!B13 -> 1311 | D13: ='DAFTAR SISWA'!D13 -> Ismi Nur Fadilah | E13: 9 | G13: =AVERAGE(E13:F13) -> 9 | H13: -10 | J13: =AVERAGE(H13:I13) -> -10 | K13: 13 | M13: =AVERAGE(K13:L13) -> 13 | N13: 8 | P13: =AVERAGE(N13:O13) -> 8 | Q13: -4 | S13: =AVERAGE(Q13:R13) -> -4 | T13: =AVERAGE(G13+J13+M13+P13+S13)/5 -> 3.2
B14: 9 | C14: ='DAFTAR SISWA'!B14 -> 1264 | D14: ='DAFTAR SISWA'!D14 -> Jordan Ahmad Kautsar | E14: 10 | G14: =AVERAGE(E14:F14) -> 10 | H14: -12 | J14: =AVERAGE(H14:I14) -> -12 | K14: 12.5 | M14: =AVERAGE(K14:L14) -> 12.5 | N14: 9 | P14: =AVERAGE(N14:O14) -> 9 | Q14: -5 | S14: =AVERAGE(Q14:R14) -> -5 | T14: =AVERAGE(G14+J14+M14+P14+S14)/5 -> 2.9
B15: 10 | C15: ='DAFTAR SISWA'!B15 -> 1351 | D15: ='DAFTAR SISWA'!D15 -> Kahfila Zahra Aulia | E15: 11 | G15: =AVERAGE(E15:F15) -> 11 | H15: -14 | J15: =AVERAGE(H15:I15) -> -14 | K15: 12 | M15: =AVERAGE(K15:L15) -> 12 | N15: 10 | P15: =AVERAGE(N15:O15) -> 10 | Q15: -6 | S15: =AVERAGE(Q15:R15) -> -6 | T15: =AVERAGE(G15+J15+M15+P15+S15)/5 -> 2.6
B16: 11 | C16: ='DAFTAR SISWA'!B16 -> 1265 | D16: ='DAFTAR SISWA'!D16 -> Marvin Aditya Pratama | E16: 12 | G16: =AVERAGE(E16:F16) -> 12 | H16: -16 | J16: =AVERAGE(H16:I16) -> -16 | K16: 11.5 | M16: =AVERAGE(K16:L16) -> 11.5 | N16: 11 | P16: =AVERAGE(N16:O16) -> 11 | Q16: -7 | S16: =AVERAGE(Q16:R16) -> -7 | T16: =AVERAGE(G16+J16+M16+P16+S16)/5 -> 2.3
B17: 12 | C17: ='DAFTAR SISWA'!B17 -> 1266 | D17: ='DAFTAR SISWA'!D17 -> Muhammad Jibril Al Hafidz | E17: 13 | G17: =AVERAGE(E17:F17) -> 13 | H17: -18 | J17: =AVERAGE(H17:I17) -> -18 | K17: 11 | M17: =AVERAGE(K17:L17) -> 11 | N17: 12 | P17: =AVERAGE(N17:O17) -> 12 | Q17: -8 | S17: =AVERAGE(Q17:R17) -> -8 | T17: =AVERAGE(G17+J17+M17+P17+S17)/5 -> 2
B18: 13 | C18: ='DAFTAR SISWA'!B18 -> 1267 | D18: ='DAFTAR SISWA'!D18 -> Muhammad Khoirun Hanafi | E18: 14 | G18: =AVERAGE(E18:F18) -> 14 | H18: -20 | J18: =AVERAGE(H18:I18) -> -20 | K18: 10.5 | M18: =AVERAGE(K18:L18) -> 10.5 | N18: 13 | P18: =AVERAGE(N18:O18) -> 13 | Q18: -9 | S18: =AVERAGE(Q18:R18) -> -9 | T18: =AVERAGE(G18+J18+M18+P18+S18)/5 -> 1.7
B19: 14 | C19: ='DAFTAR SISWA'!B19 -> 1269 | D19: ='DAFTAR SISWA'!D19 -> Nila Nafira | E19: 15 | G19: =AVERAGE(E19:F19) -> 15 | H19: -22 | J19: =AVERAGE(H19:I19) -> -22 | K19: 10 | M19: =AVERAGE(K19:L19) -> 10 | N19: 14 | P19: =AVERAGE(N19:O19) -> 14 | Q19: -10 | S19: =AVERAGE(Q19:R19) -> -10 | T19: =AVERAGE(G19+J19+M19+P19+S19)/5 -> 1.4
B20: 15 | C20: ='DAFTAR SISWA'!B20 -> 1389 | D20: ='DAFTAR SISWA'!D20 -> Oktavia Vivi Novita | E20: 16 | G20: =AVERAGE(E20:F20) -> 16 | H20: -24 | J20: =AVERAGE(H20:I20) -> -24 | K20: 9.5 | M20: =AVERAGE(K20:L20) -> 9.5 | N20: 15 | P20: =AVERAGE(N20:O20) -> 15 | Q20: -11 | S20: =AVERAGE(Q20:R20) -> -11 | T20: =AVERAGE(G20+J20+M20+P20+S20)/5 -> 1.1
B21: 16 | C21: ='DAFTAR SISWA'!B21 -> 1270 | D21: ='DAFTAR SISWA'!D21 -> Patricia Chiquitita | E21: 17 | G21: =AVERAGE(E21:F21) -> 17 | H21: -26 | J21: =AVERAGE(H21:I21) -> -26 | K21: 9 | M21: =AVERAGE(K21:L21) -> 9 | N21: 16 | P21: =AVERAGE(N21:O21) -> 16 | Q21: -12 | S21: =AVERAGE(Q21:R21) -> -12 | T21: =AVERAGE(G21+J21+M21+P21+S21)/5 -> 0.8
... B30: 25 | C30: ='DAFTAR SISWA'!B30 -> 1249 | D30: ='DAFTAR SISWA'!D30 -> Zaidan Arley | E30: 26 | G30: =AVERAGE(E30:F30) -> 26 | H30: -44 | J30: =AVERAGE(H30:I30) -> -44 | K30: 4.5 | M30: =AVERAGE(K30:L30) -> 4.5 | N30: 25 | P30: =AVERAGE(N30:O30) -> 25 | Q30: -21 | S30: =AVERAGE(Q30:R30) -> -21 | T30: =AVERAGE(G30+J30+M30+P30+S30)/5 -> -1.9

Sheet RaporB.Ind
B1: B.IND (RAPOR)
B2: NO | C2: No.Induk | D2: Nama | T2: NILAI RAPOR
E3: Kelas IV Semester I | G3: Rata-rata | H3: Kelas IV Semester II | J3: Rata-rata | K3: Kelas V Semester I | M3: Rata-rata | N3: Kelas V Semester II | P3: Rata-rata | Q3: Kelas VI Semester I | S3: Rata-rata
E4: Pengetahuan | F4: Keterampilan | H4: Pengetahuan | I4: Keterampilan | K4: Pengetahuan | L4: Keterampilan | N4: Pengetahuan | O4: Keterampilan | Q4: Pengetahuan | R4: Keterampilan
B5: 1 | C5: 2 | D5: 3 | T5: 13
B6: 1 | C6: ='DAFTAR SISWA'!B6 -> 1255 | D6: ='DAFTAR SISWA'!D6 -> Adya Woro Anggraeni | E6: 2 | F6: 3 | G6: =AVERAGE(E6:F6) -> 2.5 | H6: 4 | I6: 5 | J6: =AVERAGE(H6:I6) -> 4.5 | K6: 70 | L6: 60 | M6: =AVERAGE(K6:L6) -> 65 | N6: 75 | O6: 80 | P6: =AVERAGE(N6:O6) -> 77.5 | Q6: 90 | R6: 90 | S6: =AVERAGE(Q6:R6) -> 90 | T6: =AVERAGE(G6+J6+M6+P6+S6)/5 -> 47.9
B7: 2 | C7: ='DAFTAR SISWA'!B7 -> 1349 | D7: ='DAFTAR SISWA'!D7 -> Amanda Nikeisya Sudibyo | E7: 3 | G7: =AVERAGE(E7:F7) -> 3 | H7: 2 | J7: =AVERAGE(H7:I7) -> 2 | K7: 45 | L7: 6 | M7: =AVERAGE(K7:L7) -> 25.5 | N7: 2 | O7: 4 | P7: =AVERAGE(N7:O7) -> 3 | Q7: 2 | S7: =AVERAGE(Q7:R7) -> 2 | T7: =AVERAGE(G7+J7+M7+P7+S7)/5 -> 7.1
B8: 3 | C8: ='DAFTAR SISWA'!B8 -> 1257 | D8: ='DAFTAR SISWA'!D8 -> Bimo Anggamahenda | E8: 4 | G8: =AVERAGE(E8:F8) -> 4 | H8: 0 | J8: =AVERAGE(H8:I8) -> 0 | K8: 1 | L8: 3 | M8: =AVERAGE(K8:L8) -> 2 | N8: 3 | P8: =AVERAGE(N8:O8) -> 3 | Q8: 1 | S8: =AVERAGE(Q8:R8) -> 1 | T8: =AVERAGE(G8+J8+M8+P8+S8)/5 -> 2
B9: 4 | C9: ='DAFTAR SISWA'!B9 -> 1258 | D9: ='DAFTAR SISWA'!D9 -> Bungah Rizki Rokhimah | E9: 5 | G9: =AVERAGE(E9:F9) -> 5 | H9: -2 | J9: =AVERAGE(H9:I9) -> -2 | K9: 15 | M9: =AVERAGE(K9:L9) -> 15 | N9: 4 | P9: =AVERAGE(N9:O9) -> 4 | Q9: 0 | R9: 67 | S9: =AVERAGE(Q9:R9) -> 33.5 | T9: =AVERAGE(G9+J9+M9+P9+S9)/5 -> 11.1
B10: 5 | C10: ='DAFTAR SISWA'!B10 -> 1259 | D10: ='DAFTAR SISWA'!D10 -> Enggar Megawantoro | E10: 6 | G10: =AVERAGE(E10:F10) -> 6 | H10: -4 | J10: =AVERAGE(H10:I10) -> -4 | K10: 14.5 | M10: =AVERAGE(K10:L10) -> 14.5 | N10: 5 | P10: =AVERAGE(N10:O10) -> 5 | Q10: -1 | S10: =AVERAGE(Q10:R10) -> -1 | T10: =AVERAGE(G10+J10+M10+P10+S10)/5 -> 4.1
B11: 6 | C11: ='DAFTAR SISWA'!B11 -> 1260 | D11: ='DAFTAR SISWA'!D11 -> Firman Ainur Rahmad | E11: 7 | G11: =AVERAGE(E11:F11) -> 7 | H11: -6 | J11: =AVERAGE(H11:I11) -> -6 | K11: 14 | M11: =AVERAGE(K11:L11) -> 14 | N11: 6 | P11: =AVERAGE(N11:O11) -> 6 | Q11: -2 | S11: =AVERAGE(Q11:R11) -> -2 | T11: =AVERAGE(G11+J11+M11+P11+S11)/5 -> 3.8
B12: 7 | C12: ='DAFTAR SISWA'!B12 -> 1263 | D12: ='DAFTAR SISWA'!D12 -> Indra Setyawan | E12: 8 | G12: =AVERAGE(E12:F12) -> 8 | H12: -8 | J12: =AVERAGE(H12:I12) -> -8 | K12: 13.5 | M12: =AVERAGE(K12:L12) -> 13.5 | N12: 7 | P12: =AVERAGE(N12:O12) -> 7 | Q12: -3 | S12: =AVERAGE(Q12:R12) -> -3 | T12: =AVERAGE(G12+J12+M12+P12+S12)/5 -> 3.5
B13: 8 | C13: ='DAFTAR SISWA'!B13 -> 1311 | D13: ='DAFTAR SISWA'!D13 -> Ismi Nur Fadilah | E13: 9 | G13: =AVERAGE(E13:F13) -> 9 | H13: -10 | J13: =AVERAGE(H13:I13) -> -10 | K13: 13 | M13: =AVERAGE(K13:L13) -> 13 | N13: 8 | P13: =AVERAGE(N13:O13) -> 8 | Q13: -4 | S13: =AVERAGE(Q13:R13) -> -4 | T13: =AVERAGE(G13+J13+M13+P13+S13)/5 -> 3.2
B14: 9 | C14: ='DAFTAR SISWA'!B14 -> 1264 | D14: ='DAFTAR SISWA'!D14 -> Jordan Ahmad Kautsar | E14: 10 | G14: =AVERAGE(E14:F14) -> 10 | H14: -12 | J14: =AVERAGE(H14:I14) -> -12 | K14: 12.5 | M14: =AVERAGE(K14:L14) -> 12.5 | N14: 9 | P14: =AVERAGE(N14:O14) -> 9 | Q14: -5 | S14: =AVERAGE(Q14:R14) -> -5 | T14: =AVERAGE(G14+J14+M14+P14+S14)/5 -> 2.9
B15: 10 | C15: ='DAFTAR SISWA'!B15 -> 1351 | D15: ='DAFTAR SISWA'!D15 -> Kahfila Zahra Aulia | E15: 11 | G15: =AVERAGE(E15:F15) -> 11 | H15: -14 | J15: =AVERAGE(H15:I15) -> -14 | K15: 12 | M15: =AVERAGE(K15:L15) -> 12 | N15: 10 | P15: =AVERAGE(N15:O15) -> 10 | Q15: -6 | S15: =AVERAGE(Q15:R15) -> -6 | T15: =AVERAGE(G15+J15+M15+P15+S15)/5 -> 2.6
B16: 11 | C16: ='DAFTAR SISWA'!B16 -> 1265 | D16: ='DAFTAR SISWA'!D16 -> Marvin Aditya Pratama | E16: 12 | G16: =AVERAGE(E16:F16) -> 12 | H16: -16 | J16: =AVERAGE(H16:I16) -> -16 | K16: 11.5 | M16: =AVERAGE(K16:L16) -> 11.5 | N16: 11 | P16: =AVERAGE(N16:O16) -> 11 | Q16: -7 | S16: =AVERAGE(Q16:R16) -> -7 | T16: =AVERAGE(G16+J16+M16+P16+S16)/5 -> 2.3
B17: 12 | C17: ='DAFTAR SISWA'!B17 -> 1266 | D17: ='DAFTAR SISWA'!D17 -> Muhammad Jibril Al Hafidz | E17: 13 | G17: =AVERAGE(E17:F17) -> 13 | H17: -18 | J17: =AVERAGE(H17:I17) -> -18 | K17: 11 | M17: =AVERAGE(K17:L17) -> 11 | N17: 12 | P17: =AVERAGE(N17:O17) -> 12 | Q17: -8 | S17: =AVERAGE(Q17:R17) -> -8 | T17: =AVERAGE(G17+J17+M17+P17+S17)/5 -> 2
B18: 13 | C18: ='DAFTAR SISWA'!B18 -> 1267 | D18: ='DAFTAR SISWA'!D18 -> Muhammad Khoirun Hanafi | E18: 14 | G18: =AVERAGE(E18:F18) -> 14 | H18: -20 | J18: =AVERAGE(H18:I18) -> -20 | K18: 10.5 | M18: =AVERAGE(K18:L18) -> 10.5 | N18: 13 | P18: =AVERAGE(N18:O18) -> 13 | Q18: -9 | S18: =AVERAGE(Q18:R18) -> -9 | T18: =AVERAGE(G18+J18+M18+P18+S18)/5 -> 1.7
B19: 14 | C19: ='DAFTAR SISWA'!B19 -> 1269 | D19: ='DAFTAR SISWA'!D19 -> Nila Nafira | E19: 15 | G19: =AVERAGE(E19:F19) -> 15 | H19: -22 | J19: =AVERAGE(H19:I19) -> -22 | K19: 10 | M19: =AVERAGE(K19:L19) -> 10 | N19: 14 | P19: =AVERAGE(N19:O19) -> 14 | Q19: -10 | S19: =AVERAGE(Q19:R19) -> -10 | T19: =AVERAGE(G19+J19+M19+P19+S19)/5 -> 1.4
B20: 15 | C20: ='DAFTAR SISWA'!B20 -> 1389 | D20: ='DAFTAR SISWA'!D20 -> Oktavia Vivi Novita | E20: 16 | G20: =AVERAGE(E20:F20) -> 16 | H20: -24 | J20: =AVERAGE(H20:I20) -> -24 | K20: 9.5 | M20: =AVERAGE(K20:L20) -> 9.5 | N20: 15 | P20: =AVERAGE(N20:O20) -> 15 | Q20: -11 | S20: =AVERAGE(Q20:R20) -> -11 | T20: =AVERAGE(G20+J20+M20+P20+S20)/5 -> 1.1
B21: 16 | C21: ='DAFTAR SISWA'!B21 -> 1270 | D21: ='DAFTAR SISWA'!D21 -> Patricia Chiquitita | E21: 17 | G21: =AVERAGE(E21:F21) -> 17 | H21: -26 | J21: =AVERAGE(H21:I21) -> -26 | K21: 9 | M21: =AVERAGE(K21:L21) -> 9 | N21: 16 | P21: =AVERAGE(N21:O21) -> 16 | Q21: -12 | S21: =AVERAGE(Q21:R21) -> -12 | T21: =AVERAGE(G21+J21+M21+P21+S21)/5 -> 0.8
... B30: 25 | C30: ='DAFTAR SISWA'!B30 -> 1249 | D30: ='DAFTAR SISWA'!D30 -> Zaidan Arley | E30: 26 | G30: =AVERAGE(E30:F30) -> 26 | H30: -44 | J30: =AVERAGE(H30:I30) -> -44 | K30: 4.5 | M30: =AVERAGE(K30:L30) -> 4.5 | N30: 25 | P30: =AVERAGE(N30:O30) -> 25 | Q30: -21 | S30: =AVERAGE(Q30:R30) -> -21 | T30: =AVERAGE(G30+J30+M30+P30+S30)/5 -> -1.9

Sheet RaporMat
B1: MATEMATIKA (RAPOR)
B2: NO | C2: No.Induk | D2: Nama | T2: NILAI RAPOR
E3: Kelas IV Semester I | G3: Rata-rata | H3: Kelas IV Semester II | J3: Rata-rata | K3: Kelas V Semester I | M3: Rata-rata | N3: Kelas V Semester II | P3: Rata-rata | Q3: Kelas VI Semester I | S3: Rata-rata
E4: Pengetahuan | F4: Keterampilan | H4: Pengetahuan | I4: Keterampilan | K4: Pengetahuan | L4: Keterampilan | N4: Pengetahuan | O4: Keterampilan | Q4: Pengetahuan | R4: Keterampilan
B5: 1 | C5: 2 | D5: 3 | T5: 13
B6: 1 | C6: ='DAFTAR SISWA'!B6 -> 1255 | D6: ='DAFTAR SISWA'!D6 -> Adya Woro Anggraeni | E6: 2 | F6: 3 | G6: =AVERAGE(E6:F6) -> 2.5 | H6: 4 | I6: 5 | J6: =AVERAGE(H6:I6) -> 4.5 | K6: 70 | L6: 60 | M6: =AVERAGE(K6:L6) -> 65 | N6: 75 | O6: 80 | P6: =AVERAGE(N6:O6) -> 77.5 | Q6: 90 | R6: 90 | S6: =AVERAGE(Q6:R6) -> 90 | T6: =AVERAGE(G6+J6+M6+P6+S6)/5 -> 47.9
B7: 2 | C7: ='DAFTAR SISWA'!B7 -> 1349 | D7: ='DAFTAR SISWA'!D7 -> Amanda Nikeisya Sudibyo | E7: 3 | G7: =AVERAGE(E7:F7) -> 3 | H7: 2 | J7: =AVERAGE(H7:I7) -> 2 | K7: 45 | L7: 6 | M7: =AVERAGE(K7:L7) -> 25.5 | N7: 2 | O7: 4 | P7: =AVERAGE(N7:O7) -> 3 | Q7: 2 | S7: =AVERAGE(Q7:R7) -> 2 | T7: =AVERAGE(G7+J7+M7+P7+S7)/5 -> 7.1
B8: 3 | C8: ='DAFTAR SISWA'!B8 -> 1257 | D8: ='DAFTAR SISWA'!D8 -> Bimo Anggamahenda | E8: 4 | G8: =AVERAGE(E8:F8) -> 4 | H8: 0 | J8: =AVERAGE(H8:I8) -> 0 | K8: 1 | L8: 3 | M8: =AVERAGE(K8:L8) -> 2 | N8: 3 | P8: =AVERAGE(N8:O8) -> 3 | Q8: 1 | S8: =AVERAGE(Q8:R8) -> 1 | T8: =AVERAGE(G8+J8+M8+P8+S8)/5 -> 2
B9: 4 | C9: ='DAFTAR SISWA'!B9 -> 1258 | D9: ='DAFTAR SISWA'!D9 -> Bungah Rizki Rokhimah | E9: 5 | G9: =AVERAGE(E9:F9) -> 5 | H9: -2 | J9: =AVERAGE(H9:I9) -> -2 | K9: 15 | M9: =AVERAGE(K9:L9) -> 15 | N9: 4 | P9: =AVERAGE(N9:O9) -> 4 | Q9: 0 | R9: 67 | S9: =AVERAGE(Q9:R9) -> 33.5 | T9: =AVERAGE(G9+J9+M9+P9+S9)/5 -> 11.1
B10: 5 | C10: ='DAFTAR SISWA'!B10 -> 1259 | D10: ='DAFTAR SISWA'!D10 -> Enggar Megawantoro | E10: 70 | G10: =AVERAGE(E10:F10) -> 70 | H10: -4 | J10: =AVERAGE(H10:I10) -> -4 | K10: 14.5 | M10: =AVERAGE(K10:L10) -> 14.5 | N10: 5 | P10: =AVERAGE(N10:O10) -> 5 | Q10: -1 | S10: =AVERAGE(Q10:R10) -> -1 | T10: =AVERAGE(G10+J10+M10+P10+S10)/5 -> 16.9
B11: 6 | C11: ='DAFTAR SISWA'!B11 -> 1260 | D11: ='DAFTAR SISWA'!D11 -> Firman Ainur Rahmad | E11: 7 | G11: =AVERAGE(E11:F11) -> 7 | H11: -6 | J11: =AVERAGE(H11:I11) -> -6 | K11: 14 | M11: =AVERAGE(K11:L11) -> 14 | N11: 6 | P11: =AVERAGE(N11:O11) -> 6 | Q11: -2 | S11: =AVERAGE(Q11:R11) -> -2 | T11: =AVERAGE(G11+J11+M11+P11+S11)/5 -> 3.8
B12: 7 | C12: ='DAFTAR SISWA'!B12 -> 1263 | D12: ='DAFTAR SISWA'!D12 -> Indra Setyawan | E12: 8 | G12: =AVERAGE(E12:F12) -> 8 | H12: -8 | J12: =AVERAGE(H12:I12) -> -8 | K12: 13.5 | M12: =AVERAGE(K12:L12) -> 13.5 | N12: 7 | P12: =AVERAGE(N12:O12) -> 7 | Q12: -3 | S12: =AVERAGE(Q12:R12) -> -3 | T12: =AVERAGE(G12+J12+M12+P12+S12)/5 -> 3.5
B13: 8 | C13: ='DAFTAR SISWA'!B13 -> 1311 | D13: ='DAFTAR SISWA'!D13 -> Ismi Nur Fadilah | E13: 9 | G13: =AVERAGE(E13:F13) -> 9 | H13: -10 | J13: =AVERAGE(H13:I13) -> -10 | K13: 13 | M13: =AVERAGE(K13:L13) -> 13 | N13: 8 | P13: =AVERAGE(N13:O13) -> 8 | Q13: -4 | S13: =AVERAGE(Q13:R13) -> -4 | T13: =AVERAGE(G13+J13+M13+P13+S13)/5 -> 3.2
B14: 9 | C14: ='DAFTAR SISWA'!B14 -> 1264 | D14: ='DAFTAR SISWA'!D14 -> Jordan Ahmad Kautsar | E14: 10 | G14: =AVERAGE(E14:F14) -> 10 | H14: -12 | J14: =AVERAGE(H14:I14) -> -12 | K14: 12.5 | M14: =AVERAGE(K14:L14) -> 12.5 | N14: 9 | P14: =AVERAGE(N14:O14) -> 9 | Q14: -5 | S14: =AVERAGE(Q14:R14) -> -5 | T14: =AVERAGE(G14+J14+M14+P14+S14)/5 -> 2.9
B15: 10 | C15: ='DAFTAR SISWA'!B15 -> 1351 | D15: ='DAFTAR SISWA'!D15 -> Kahfila Zahra Aulia | E15: 11 | G15: =AVERAGE(E15:F15) -> 11 | H15: -14 | J15: =AVERAGE(H15:I15) -> -14 | K15: 12 | M15: =AVERAGE(K15:L15) -> 12 | N15: 10 | P15: =AVERAGE(N15:O15) -> 10 | Q15: -6 | S15: =AVERAGE(Q15:R15) -> -6 | T15: =AVERAGE(G15+J15+M15+P15+S15)/5 -> 2.6
B16: 11 | C16: ='DAFTAR SISWA'!B16 -> 1265 | D16: ='DAFTAR SISWA'!D16 -> Marvin Aditya Pratama | E16: 12 | G16: =AVERAGE(E16:F16) -> 12 | H16: -16 | J16: =AVERAGE(H16:I16) -> -16 | K16: 11.5 | M16: =AVERAGE(K16:L16) -> 11.5 | N16: 11 | P16: =AVERAGE(N16:O16) -> 11 | Q16: -7 | S16: =AVERAGE(Q16:R16) -> -7 | T16: =AVERAGE(G16+J16+M16+P16+S16)/5 -> 2.3
B17: 12 | C17: ='DAFTAR SISWA'!B17 -> 1266 | D17: ='DAFTAR SISWA'!D17 -> Muhammad Jibril Al Hafidz | E17: 13 | G17: =AVERAGE(E17:F17) -> 13 | H17: -18 | J17: =AVERAGE(H17:I17) -> -18 | K17: 11 | M17: =AVERAGE(K17:L17) -> 11 | N17: 12 | P17: =AVERAGE(N17:O17) -> 12 | Q17: -8 | S17: =AVERAGE(Q17:R17) -> -8 | T17: =AVERAGE(G17+J17+M17+P17+S17)/5 -> 2
B18: 13 | C18: ='DAFTAR SISWA'!B18 -> 1267 | D18: ='DAFTAR SISWA'!D18 -> Muhammad Khoirun Hanafi | E18: 14 | G18: =AVERAGE(E18:F18) -> 14 | H18: -20 | J18: =AVERAGE(H18:I18) -> -20 | K18: 10.5 | M18: =AVERAGE(K18:L18) -> 10.5 | N18: 13 | P18: =AVERAGE(N18:O18) -> 13 | Q18: -9 | S18: =AVERAGE(Q18:R18) -> -9 | T18: =AVERAGE(G18+J18+M18+P18+S18)/5 -> 1.7
B19: 14 | C19: ='DAFTAR SISWA'!B19 -> 1269 | D19: ='DAFTAR SISWA'!D19 -> Nila Nafira | E19: 15 | G19: =AVERAGE(E19:F19) -> 15 | H19: -22 | J19: =AVERAGE(H19:I19) -> -22 | K19: 10 | M19: =AVERAGE(K19:L19) -> 10 | N19: 14 | P19: =AVERAGE(N19:O19) -> 14 | Q19: -10 | S19: =AVERAGE(Q19:R19) -> -10 | T19: =AVERAGE(G19+J19+M19+P19+S19)/5 -> 1.4
B20: 15 | C20: ='DAFTAR SISWA'!B20 -> 1389 | D20: ='DAFTAR SISWA'!D20 -> Oktavia Vivi Novita | E20: 16 | G20: =AVERAGE(E20:F20) -> 16 | H20: -24 | J20: =AVERAGE(H20:I20) -> -24 | K20: 9.5 | M20: =AVERAGE(K20:L20) -> 9.5 | N20: 15 | P20: =AVERAGE(N20:O20) -> 15 | Q20: -11 | S20: =AVERAGE(Q20:R20) -> -11 | T20: =AVERAGE(G20+J20+M20+P20+S20)/5 -> 1.1
B21: 16 | C21: ='DAFTAR SISWA'!B21 -> 1270 | D21: ='DAFTAR SISWA'!D21 -> Patricia Chiquitita | E21: 17 | G21: =AVERAGE(E21:F21) -> 17 | H21: -26 | J21: =AVERAGE(H21:I21) -> -26 | K21: 9 | M21: =AVERAGE(K21:L21) -> 9 | N21: 16 | P21: =AVERAGE(N21:O21) -> 16 | Q21: -12 | S21: =AVERAGE(Q21:R21) -> -12 | T21: =AVERAGE(G21+J21+M21+P21+S21)/5 -> 0.8
... B30: 25 | C30: ='DAFTAR SISWA'!B30 -> 1249 | D30: ='DAFTAR SISWA'!D30 -> Zaidan Arley | E30: 26 | G30: =AVERAGE(E30:F30) -> 26 | H30: -44 | J30: =AVERAGE(H30:I30) -> -44 | K30: 4.5 | M30: =AVERAGE(K30:L30) -> 4.5 | N30: 25 | P30: =AVERAGE(N30:O30) -> 25 | Q30: -21 | S30: =AVERAGE(Q30:R30) -> -21 | T30: =AVERAGE(G30+J30+M30+P30+S30)/5 -> -1.9

Sheet RaporIPA
B1: IPA (RAPOR)
B2: NO | C2: No.Induk | D2: Nama | T2: NILAI RAPOR
E3: Kelas IV Semester I | G3: Rata-rata | H3: Kelas IV Semester II | J3: Rata-rata | K3: Kelas V Semester I | M3: Rata-rata | N3: Kelas V Semester II | P3: Rata-rata | Q3: Kelas VI Semester I | S3: Rata-rata
E4: Pengetahuan | F4: Keterampilan | H4: Pengetahuan | I4: Keterampilan | K4: Pengetahuan | L4: Keterampilan | N4: Pengetahuan | O4: Keterampilan | Q4: Pengetahuan | R4: Keterampilan
B5: 1 | C5: 2 | D5: 3 | T5: 13
B6: 1 | C6: ='DAFTAR SISWA'!B6 -> 1255 | D6: ='DAFTAR SISWA'!D6 -> Adya Woro Anggraeni | E6: 2 | F6: 3 | G6: =AVERAGE(E6:F6) -> 2.5 | H6: 4 | I6: 5 | J6: =AVERAGE(H6:I6) -> 4.5 | K6: 70 | L6: 60 | M6: =AVERAGE(K6:L6) -> 65 | N6: 75 | O6: 80 | P6: =AVERAGE(N6:O6) -> 77.5 | Q6: 90 | R6: 90 | S6: =AVERAGE(Q6:R6) -> 90 | T6: =AVERAGE(G6+J6+M6+P6+S6)/5 -> 47.9
B7: 2 | C7: ='DAFTAR SISWA'!B7 -> 1349 | D7: ='DAFTAR SISWA'!D7 -> Amanda Nikeisya Sudibyo | E7: 3 | G7: =AVERAGE(E7:F7) -> 3 | H7: 2 | J7: =AVERAGE(H7:I7) -> 2 | K7: 45 | L7: 6 | M7: =AVERAGE(K7:L7) -> 25.5 | N7: 2 | O7: 4 | P7: =AVERAGE(N7:O7) -> 3 | Q7: 2 | S7: =AVERAGE(Q7:R7) -> 2 | T7: =AVERAGE(G7+J7+M7+P7+S7)/5 -> 7.1
B8: 3 | C8: ='DAFTAR SISWA'!B8 -> 1257 | D8: ='DAFTAR SISWA'!D8 -> Bimo Anggamahenda | E8: 4 | G8: =AVERAGE(E8:F8) -> 4 | H8: 0 | J8: =AVERAGE(H8:I8) -> 0 | K8: 1 | L8: 3 | M8: =AVERAGE(K8:L8) -> 2 | N8: 3 | P8: =AVERAGE(N8:O8) -> 3 | Q8: 1 | S8: =AVERAGE(Q8:R8) -> 1 | T8: =AVERAGE(G8+J8+M8+P8+S8)/5 -> 2
B9: 4 | C9: ='DAFTAR SISWA'!B9 -> 1258 | D9: ='DAFTAR SISWA'!D9 -> Bungah Rizki Rokhimah | E9: 5 | G9: =AVERAGE(E9:F9) -> 5 | H9: -2 | J9: =AVERAGE(H9:I9) -> -2 | K9: 15 | M9: =AVERAGE(K9:L9) -> 15 | N9: 4 | P9: =AVERAGE(N9:O9) -> 4 | Q9: 0 | R9: 67 | S9: =AVERAGE(Q9:R9) -> 33.5 | T9: =AVERAGE(G9+J9+M9+P9+S9)/5 -> 11.1
B10: 5 | C10: ='DAFTAR SISWA'!B10 -> 1259 | D10: ='DAFTAR SISWA'!D10 -> Enggar Megawantoro | E10: 6 | G10: =AVERAGE(E10:F10) -> 6 | H10: -4 | J10: =AVERAGE(H10:I10) -> -4 | K10: 14.5 | M10: =AVERAGE(K10:L10) -> 14.5 | N10: 5 | P10: =AVERAGE(N10:O10) -> 5 | Q10: -1 | S10: =AVERAGE(Q10:R10) -> -1 | T10: =AVERAGE(G10+J10+M10+P10+S10)/5 -> 4.1
B11: 6 | C11: ='DAFTAR SISWA'!B11 -> 1260 | D11: ='DAFTAR SISWA'!D11 -> Firman Ainur Rahmad | E11: 7 | G11: =AVERAGE(E11:F11) -> 7 | H11: -6 | J11: =AVERAGE(H11:I11) -> -6 | K11: 14 | M11: =AVERAGE(K11:L11) -> 14 | N11: 6 | P11: =AVERAGE(N11:O11) -> 6 | Q11: -2 | S11: =AVERAGE(Q11:R11) -> -2 | T11: =AVERAGE(G11+J11+M11+P11+S11)/5 -> 3.8
B12: 7 | C12: ='DAFTAR SISWA'!B12 -> 1263 | D12: ='DAFTAR SISWA'!D12 -> Indra Setyawan | E12: 8 | G12: =AVERAGE(E12:F12) -> 8 | H12: -8 | J12: =AVERAGE(H12:I12) -> -8 | K12: 13.5 | M12: =AVERAGE(K12:L12) -> 13.5 | N12: 7 | P12: =AVERAGE(N12:O12) -> 7 | Q12: -3 | S12: =AVERAGE(Q12:R12) -> -3 | T12: =AVERAGE(G12+J12+M12+P12+S12)/5 -> 3.5
B13: 8 | C13: ='DAFTAR SISWA'!B13 -> 1311 | D13: ='DAFTAR SISWA'!D13 -> Ismi Nur Fadilah | E13: 9 | G13: =AVERAGE(E13:F13) -> 9 | H13: -10 | J13: =AVERAGE(H13:I13) -> -10 | K13: 13 | M13: =AVERAGE(K13:L13) -> 13 | N13: 8 | P13: =AVERAGE(N13:O13) -> 8 | Q13: -4 | S13: =AVERAGE(Q13:R13) -> -4 | T13: =AVERAGE(G13+J13+M13+P13+S13)/5 -> 3.2
B14: 9 | C14: ='DAFTAR SISWA'!B14 -> 1264 | D14: ='DAFTAR SISWA'!D14 -> Jordan Ahmad Kautsar | E14: 10 | G14: =AVERAGE(E14:F14) -> 10 | H14: -12 | J14: =AVERAGE(H14:I14) -> -12 | K14: 12.5 | M14: =AVERAGE(K14:L14) -> 12.5 | N14: 9 | P14: =AVERAGE(N14:O14) -> 9 | Q14: -5 | S14: =AVERAGE(Q14:R14) -> -5 | T14: =AVERAGE(G14+J14+M14+P14+S14)/5 -> 2.9
B15: 10 | C15: ='DAFTAR SISWA'!B15 -> 1351 | D15: ='DAFTAR SISWA'!D15 -> Kahfila Zahra Aulia | E15: 11 | G15: =AVERAGE(E15:F15) -> 11 | H15: -14 | J15: =AVERAGE(H15:I15) -> -14 | K15: 12 | M15: =AVERAGE(K15:L15) -> 12 | N15: 10 | P15: =AVERAGE(N15:O15) -> 10 | Q15: -6 | S15: =AVERAGE(Q15:R15) -> -6 | T15: =AVERAGE(G15+J15+M15+P15+S15)/5 -> 2.6
B16: 11 | C16: ='DAFTAR SISWA'!B16 -> 1265 | D16: ='DAFTAR SISWA'!D16 -> Marvin Aditya Pratama | E16: 12 | G16: =AVERAGE(E16:F16) -> 12 | H16: -16 | J16: =AVERAGE(H16:I16) -> -16 | K16: 11.5 | M16: =AVERAGE(K16:L16) -> 11.5 | N16: 11 | P16: =AVERAGE(N16:O16) -> 11 | Q16: -7 | S16: =AVERAGE(Q16:R16) -> -7 | T16: =AVERAGE(G16+J16+M16+P16+S16)/5 -> 2.3
B17: 12 | C17: ='DAFTAR SISWA'!B17 -> 1266 | D17: ='DAFTAR SISWA'!D17 -> Muhammad Jibril Al Hafidz | E17: 13 | G17: =AVERAGE(E17:F17) -> 13 | H17: -18 | J17: =AVERAGE(H17:I17) -> -18 | K17: 11 | M17: =AVERAGE(K17:L17) -> 11 | N17: 12 | P17: =AVERAGE(N17:O17) -> 12 | Q17: -8 | S17: =AVERAGE(Q17:R17) -> -8 | T17: =AVERAGE(G17+J17+M17+P17+S17)/5 -> 2
B18: 13 | C18: ='DAFTAR SISWA'!B18 -> 1267 | D18: ='DAFTAR SISWA'!D18 -> Muhammad Khoirun Hanafi | E18: 14 | G18: =AVERAGE(E18:F18) -> 14 | H18: -20 | J18: =AVERAGE(H18:I18) -> -20 | K18: 10.5 | M18: =AVERAGE(K18:L18) -> 10.5 | N18: 13 | P18: =AVERAGE(N18:O18) -> 13 | Q18: -9 | S18: =AVERAGE(Q18:R18) -> -9 | T18: =AVERAGE(G18+J18+M18+P18+S18)/5 -> 1.7
B19: 14 | C19: ='DAFTAR SISWA'!B19 -> 1269 | D19: ='DAFTAR SISWA'!D19 -> Nila Nafira | E19: 15 | G19: =AVERAGE(E19:F19) -> 15 | H19: -22 | J19: =AVERAGE(H19:I19) -> -22 | K19: 10 | M19: =AVERAGE(K19:L19) -> 10 | N19: 14 | P19: =AVERAGE(N19:O19) -> 14 | Q19: -10 | S19: =AVERAGE(Q19:R19) -> -10 | T19: =AVERAGE(G19+J19+M19+P19+S19)/5 -> 1.4
B20: 15 | C20: ='DAFTAR SISWA'!B20 -> 1389 | D20: ='DAFTAR SISWA'!D20 -> Oktavia Vivi Novita | E20: 16 | G20: =AVERAGE(E20:F20) -> 16 | H20: -24 | J20: =AVERAGE(H20:I20) -> -24 | K20: 9.5 | M20: =AVERAGE(K20:L20) -> 9.5 | N20: 15 | P20: =AVERAGE(N20:O20) -> 15 | Q20: -11 | S20: =AVERAGE(Q20:R20) -> -11 | T20: =AVERAGE(G20+J20+M20+P20+S20)/5 -> 1.1
B21: 16 | C21: ='DAFTAR SISWA'!B21 -> 1270 | D21: ='DAFTAR SISWA'!D21 -> Patricia Chiquitita | E21: 17 | G21: =AVERAGE(E21:F21) -> 17 | H21: -26 | J21: =AVERAGE(H21:I21) -> -26 | K21: 9 | M21: =AVERAGE(K21:L21) -> 9 | N21: 16 | P21: =AVERAGE(N21:O21) -> 16 | Q21: -12 | S21: =AVERAGE(Q21:R21) -> -12 | T21: =AVERAGE(G21+J21+M21+P21+S21)/5 -> 0.8
... B30: 25 | C30: ='DAFTAR SISWA'!B30 -> 1249 | D30: ='DAFTAR SISWA'!D30 -> Zaidan Arley | E30: 26 | G30: =AVERAGE(E30:F30) -> 26 | H30: -44 | J30: =AVERAGE(H30:I30) -> -44 | K30: 4.5 | M30: =AVERAGE(K30:L30) -> 4.5 | N30: 25 | P30: =AVERAGE(N30:O30) -> 25 | Q30: -21 | S30: =AVERAGE(Q30:R30) -> -21 | T30: =AVERAGE(G30+J30+M30+P30+S30)/5 -> -1.9

Sheet RaporIPS
B1: IPS (RAPOR)
B2: NO | C2: No.Induk | D2: Nama | T2: NILAI RAPOR
E3: Kelas IV Semester I | G3: Rata-rata | H3: Kelas IV Semester II | J3: Rata-rata | K3: Kelas V Semester I | M3: Rata-rata | N3: Kelas V Semester II | P3: Rata-rata | Q3: Kelas VI Semester I | S3: Rata-rata
E4: Pengetahuan | F4: Keterampilan | H4: Pengetahuan | I4: Keterampilan | K4: Pengetahuan | L4: Keterampilan | N4: Pengetahuan | O4: Keterampilan | Q4: Pengetahuan | R4: Keterampilan
B5: 1 | C5: 2 | D5: 3 | T5: 13
B6: 1 | C6: ='DAFTAR SISWA'!B6 -> 1255 | D6: ='DAFTAR SISWA'!D6 -> Adya Woro Anggraeni | E6: 2 | F6: 3 | G6: =AVERAGE(E6:F6) -> 2.5 | H6: 4 | I6: 5 | J6: =AVERAGE(H6:I6) -> 4.5 | K6: 70 | L6: 60 | M6: =AVERAGE(K6:L6) -> 65 | N6: 75 | O6: 80 | P6: =AVERAGE(N6:O6) -> 77.5 | Q6: 90 | R6: 90 | S6: =AVERAGE(Q6:R6) -> 90 | T6: =AVERAGE(G6+J6+M6+P6+S6)/5 -> 47.9
B7: 2 | C7: ='DAFTAR SISWA'!B7 -> 1349 | D7: ='DAFTAR SISWA'!D7 -> Amanda Nikeisya Sudibyo | E7: 3 | G7: =AVERAGE(E7:F7) -> 3 | H7: 2 | J7: =AVERAGE(H7:I7) -> 2 | K7: 45 | L7: 6 | M7: =AVERAGE(K7:L7) -> 25.5 | N7: 2 | O7: 4 | P7: =AVERAGE(N7:O7) -> 3 | Q7: 2 | S7: =AVERAGE(Q7:R7) -> 2 | T7: =AVERAGE(G7+J7+M7+P7+S7)/5 -> 7.1
B8: 3 | C8: ='DAFTAR SISWA'!B8 -> 1257 | D8: ='DAFTAR SISWA'!D8 -> Bimo Anggamahenda | E8: 4 | G8: =AVERAGE(E8:F8) -> 4 | H8: 0 | J8: =AVERAGE(H8:I8) -> 0 | K8: 1 | L8: 3 | M8: =AVERAGE(K8:L8) -> 2 | N8: 3 | P8: =AVERAGE(N8:O8) -> 3 | Q8: 1 | S8: =AVERAGE(Q8:R8) -> 1 | T8: =AVERAGE(G8+J8+M8+P8+S8)/5 -> 2
B9: 4 | C9: ='DAFTAR SISWA'!B9 -> 1258 | D9: ='DAFTAR SISWA'!D9 -> Bungah Rizki Rokhimah | E9: 5 | G9: =AVERAGE(E9:F9) -> 5 | H9: -2 | J9: =AVERAGE(H9:I9) -> -2 | K9: 15 | M9: =AVERAGE(K9:L9) -> 15 | N9: 4 | P9: =AVERAGE(N9:O9) -> 4 | Q9: 0 | R9: 67 | S9: =AVERAGE(Q9:R9) -> 33.5 | T9: =AVERAGE(G9+J9+M9+P9+S9)/5 -> 11.1
B10: 5 | C10: ='DAFTAR SISWA'!B10 -> 1259 | D10: ='DAFTAR SISWA'!D10 -> Enggar Megawantoro | E10: 6 | G10: =AVERAGE(E10:F10) -> 6 | H10: -4 | J10: =AVERAGE(H10:I10) -> -4 | K10: 14.5 | M10: =AVERAGE(K10:L10) -> 14.5 | N10: 5 | P10: =AVERAGE(N10:O10) -> 5 | Q10: -1 | S10: =AVERAGE(Q10:R10) -> -1 | T10: =AVERAGE(G10+J10+M10+P10+S10)/5 -> 4.1
B11: 6 | C11: ='DAFTAR SISWA'!B11 -> 1260 | D11: ='DAFTAR SISWA'!D11 -> Firman Ainur Rahmad | E11: 7 | G11: =AVERAGE(E11:F11) -> 7 | H11: -6 | J11: =AVERAGE(H11:I11) -> -6 | K11: 14 | M11: =AVERAGE(K11:L11) -> 14 | N11: 6 | P11: =AVERAGE(N11:O11) -> 6 | Q11: -2 | S11: =AVERAGE(Q11:R11) -> -2 | T11: =AVERAGE(G11+J11+M11+P11+S11)/5 -> 3.8
B12: 7 | C12: ='DAFTAR SISWA'!B12 -> 1263 | D12: ='DAFTAR SISWA'!D12 -> Indra Setyawan | E12: 8 | G12: =AVERAGE(E12:F12) -> 8 | H12: -8 | J12: =AVERAGE(H12:I12) -> -8 | K12: 13.5 | M12: =AVERAGE(K12:L12) -> 13.5 | N12: 7 | P12: =AVERAGE(N12:O12) -> 7 | Q12: -3 | S12: =AVERAGE(Q12:R12) -> -3 | T12: =AVERAGE(G12+J12+M12+P12+S12)/5 -> 3.5
B13: 8 | C13: ='DAFTAR SISWA'!B13 -> 1311 | D13: ='DAFTAR SISWA'!D13 -> Ismi Nur Fadilah | E13: 9 | G13: =AVERAGE(E13:F13) -> 9 | H13: -10 | J13: =AVERAGE(H13:I13) -> -10 | K13: 13 | M13: =AVERAGE(K13:L13) -> 13 | N13: 8 | P13: =AVERAGE(N13:O13) -> 8 | Q13: -4 | S13: =AVERAGE(Q13:R13) -> -4 | T13: =AVERAGE(G13+J13+M13+P13+S13)/5 -> 3.2
B14: 9 | C14: ='DAFTAR SISWA'!B14 -> 1264 | D14: ='DAFTAR SISWA'!D14 -> Jordan Ahmad Kautsar | E14: 10 | G14: =AVERAGE(E14:F14) -> 10 | H14: -12 | J14: =AVERAGE(H14:I14) -> -12 | K14: 12.5 | M14: =AVERAGE(K14:L14) -> 12.5 | N14: 9 | P14: =AVERAGE(N14:O14) -> 9 | Q14: -5 | S14: =AVERAGE(Q14:R14) -> -5 | T14: =AVERAGE(G14+J14+M14+P14+S14)/5 -> 2.9
B15: 10 | C15: ='DAFTAR SISWA'!B15 -> 1351 | D15: ='DAFTAR SISWA'!D15 -> Kahfila Zahra Aulia | E15: 11 | G15: =AVERAGE(E15:F15) -> 11 | H15: -14 | J15: =AVERAGE(H15:I15) -> -14 | K15: 12 | M15: =AVERAGE(K15:L15) -> 12 | N15: 10 | P15: =AVERAGE(N15:O15) -> 10 | Q15: -6 | S15: =AVERAGE(Q15:R15) -> -6 | T15: =AVERAGE(G15+J15+M15+P15+S15)/5 -> 2.6
B16: 11 | C16: ='DAFTAR SISWA'!B16 -> 1265 | D16: ='DAFTAR SISWA'!D16 -> Marvin Aditya Pratama | E16: 12 | G16: =AVERAGE(E16:F16) -> 12 | H16: -16 | J16: =AVERAGE(H16:I16) -> -16 | K16: 11.5 | M16: =AVERAGE(K16:L16) -> 11.5 | N16: 11 | P16: =AVERAGE(N16:O16) -> 11 | Q16: -7 | S16: =AVERAGE(Q16:R16) -> -7 | T16: =AVERAGE(G16+J16+M16+P16+S16)/5 -> 2.3
B17: 12 | C17: ='DAFTAR SISWA'!B17 -> 1266 | D17: ='DAFTAR SISWA'!D17 -> Muhammad Jibril Al Hafidz | E17: 13 | G17: =AVERAGE(E17:F17) -> 13 | H17: -18 | J17: =AVERAGE(H17:I17) -> -18 | K17: 11 | M17: =AVERAGE(K17:L17) -> 11 | N17: 12 | P17: =AVERAGE(N17:O17) -> 12 | Q17: -8 | S17: =AVERAGE(Q17:R17) -> -8 | T17: =AVERAGE(G17+J17+M17+P17+S17)/5 -> 2
B18: 13 | C18: ='DAFTAR SISWA'!B18 -> 1267 | D18: ='DAFTAR SISWA'!D18 -> Muhammad Khoirun Hanafi | E18: 14 | G18: =AVERAGE(E18:F18) -> 14 | H18: -20 | J18: =AVERAGE(H18:I18) -> -20 | K18: 10.5 | M18: =AVERAGE(K18:L18) -> 10.5 | N18: 13 | P18: =AVERAGE(N18:O18) -> 13 | Q18: -9 | S18: =AVERAGE(Q18:R18) -> -9 | T18: =AVERAGE(G18+J18+M18+P18+S18)/5 -> 1.7
B19: 14 | C19: ='DAFTAR SISWA'!B19 -> 1269 | D19: ='DAFTAR SISWA'!D19 -> Nila Nafira | E19: 15 | G19: =AVERAGE(E19:F19) -> 15 | H19: -22 | J19: =AVERAGE(H19:I19) -> -22 | K19: 10 | M19: =AVERAGE(K19:L19) -> 10 | N19: 14 | P19: =AVERAGE(N19:O19) -> 14 | Q19: -10 | S19: =AVERAGE(Q19:R19) -> -10 | T19: =AVERAGE(G19+J19+M19+P19+S19)/5 -> 1.4
B20: 15 | C20: ='DAFTAR SISWA'!B20 -> 1389 | D20: ='DAFTAR SISWA'!D20 -> Oktavia Vivi Novita | E20: 16 | G20: =AVERAGE(E20:F20) -> 16 | H20: -24 | J20: =AVERAGE(H20:I20) -> -24 | K20: 9.5 | M20: =AVERAGE(K20:L20) -> 9.5 | N20: 15 | P20: =AVERAGE(N20:O20) -> 15 | Q20: -11 | S20: =AVERAGE(Q20:R20) -> -11 | T20: =AVERAGE(G20+J20+M20+P20+S20)/5 -> 1.1
B21: 16 | C21: ='DAFTAR SISWA'!B21 -> 1270 | D21: ='DAFTAR SISWA'!D21 -> Patricia Chiquitita | E21: 17 | G21: =AVERAGE(E21:F21) -> 17 | H21: -26 | J21: =AVERAGE(H21:I21) -> -26 | K21: 9 | M21: =AVERAGE(K21:L21) -> 9 | N21: 16 | P21: =AVERAGE(N21:O21) -> 16 | Q21: -12 | S21: =AVERAGE(Q21:R21) -> -12 | T21: =AVERAGE(G21+J21+M21+P21+S21)/5 -> 0.8
... B30: 25 | C30: ='DAFTAR SISWA'!B30 -> 1249 | D30: ='DAFTAR SISWA'!D30 -> Zaidan Arley | E30: 26 | G30: =AVERAGE(E30:F30) -> 26 | H30: -44 | J30: =AVERAGE(H30:I30) -> -44 | K30: 4.5 | M30: =AVERAGE(K30:L30) -> 4.5 | N30: 25 | P30: =AVERAGE(N30:O30) -> 25 | Q30: -21 | S30: =AVERAGE(Q30:R30) -> -21 | T30: =AVERAGE(G30+J30+M30+P30+S30)/5 -> -1.9

Sheet RaporSBDP
B1: SBDP (RAPOR)
B2: NO | C2: No.Induk | D2: Nama | T2: NILAI RAPOR
E3: Kelas IV Semester I | G3: Rata-rata | H3: Kelas IV Semester II | J3: Rata-rata | K3: Kelas V Semester I | M3: Rata-rata | N3: Kelas V Semester II | P3: Rata-rata | Q3: Kelas VI Semester I | S3: Rata-rata
E4: Pengetahuan | F4: Keterampilan | H4: Pengetahuan | I4: Keterampilan | K4: Pengetahuan | L4: Keterampilan | N4: Pengetahuan | O4: Keterampilan | Q4: Pengetahuan | R4: Keterampilan
B5: 1 | C5: 2 | D5: 3 | T5: 13
B6: 1 | C6: ='DAFTAR SISWA'!B6 -> 1255 | D6: ='DAFTAR SISWA'!D6 -> Adya Woro Anggraeni | E6: 2 | F6: 3 | G6: =AVERAGE(E6:F6) -> 2.5 | H6: 4 | I6: 5 | J6: =AVERAGE(H6:I6) -> 4.5 | K6: 70 | L6: 60 | M6: =AVERAGE(K6:L6) -> 65 | N6: 75 | O6: 80 | P6: =AVERAGE(N6:O6) -> 77.5 | Q6: 90 | R6: 90 | S6: =AVERAGE(Q6:R6) -> 90 | T6: =AVERAGE(G6+J6+M6+P6+S6)/5 -> 47.9
B7: 2 | C7: ='DAFTAR SISWA'!B7 -> 1349 | D7: ='DAFTAR SISWA'!D7 -> Amanda Nikeisya Sudibyo | E7: 3 | G7: =AVERAGE(E7:F7) -> 3 | H7: 2 | J7: =AVERAGE(H7:I7) -> 2 | K7: 45 | L7: 6 | M7: =AVERAGE(K7:L7) -> 25.5 | N7: 2 | O7: 4 | P7: =AVERAGE(N7:O7) -> 3 | Q7: 2 | S7: =AVERAGE(Q7:R7) -> 2 | T7: =AVERAGE(G7+J7+M7+P7+S7)/5 -> 7.1
B8: 3 | C8: ='DAFTAR SISWA'!B8 -> 1257 | D8: ='DAFTAR SISWA'!D8 -> Bimo Anggamahenda | E8: 4 | G8: =AVERAGE(E8:F8) -> 4 | H8: 0 | J8: =AVERAGE(H8:I8) -> 0 | K8: 1 | L8: 3 | M8: =AVERAGE(K8:L8) -> 2 | N8: 3 | P8: =AVERAGE(N8:O8) -> 3 | Q8: 1 | S8: =AVERAGE(Q8:R8) -> 1 | T8: =AVERAGE(G8+J8+M8+P8+S8)/5 -> 2
B9: 4 | C9: ='DAFTAR SISWA'!B9 -> 1258 | D9: ='DAFTAR SISWA'!D9 -> Bungah Rizki Rokhimah | E9: 5 | G9: =AVERAGE(E9:F9) -> 5 | H9: -2 | J9: =AVERAGE(H9:I9) -> -2 | K9: 15 | M9: =AVERAGE(K9:L9) -> 15 | N9: 4 | P9: =AVERAGE(N9:O9) -> 4 | Q9: 0 | R9: 67 | S9: =AVERAGE(Q9:R9) -> 33.5 | T9: =AVERAGE(G9+J9+M9+P9+S9)/5 -> 11.1
B10: 5 | C10: ='DAFTAR SISWA'!B10 -> 1259 | D10: ='DAFTAR SISWA'!D10 -> Enggar Megawantoro | E10: 6 | G10: =AVERAGE(E10:F10) -> 6 | H10: -4 | J10: =AVERAGE(H10:I10) -> -4 | K10: 14.5 | M10: =AVERAGE(K10:L10) -> 14.5 | N10: 5 | P10: =AVERAGE(N10:O10) -> 5 | Q10: -1 | S10: =AVERAGE(Q10:R10) -> -1 | T10: =AVERAGE(G10+J10+M10+P10+S10)/5 -> 4.1
B11: 6 | C11: ='DAFTAR SISWA'!B11 -> 1260 | D11: ='DAFTAR SISWA'!D11 -> Firman Ainur Rahmad | E11: 7 | G11: =AVERAGE(E11:F11) -> 7 | H11: -6 | J11: =AVERAGE(H11:I11) -> -6 | K11: 14 | M11: =AVERAGE(K11:L11) -> 14 | N11: 6 | P11: =AVERAGE(N11:O11) -> 6 | Q11: -2 | S11: =AVERAGE(Q11:R11) -> -2 | T11: =AVERAGE(G11+J11+M11+P11+S11)/5 -> 3.8
B12: 7 | C12: ='DAFTAR SISWA'!B12 -> 1263 | D12: ='DAFTAR SISWA'!D12 -> Indra Setyawan | E12: 8 | G12: =AVERAGE(E12:F12) -> 8 | H12: -8 | J12: =AVERAGE(H12:I12) -> -8 | K12: 13.5 | M12: =AVERAGE(K12:L12) -> 13.5 | N12: 7 | P12: =AVERAGE(N12:O12) -> 7 | Q12: -3 | S12: =AVERAGE(Q12:R12) -> -3 | T12: =AVERAGE(G12+J12+M12+P12+S12)/5 -> 3.5
B13: 8 | C13: ='DAFTAR SISWA'!B13 -> 1311 | D13: ='DAFTAR SISWA'!D13 -> Ismi Nur Fadilah | E13: 9 | G13: =AVERAGE(E13:F13) -> 9 | H13: -10 | J13: =AVERAGE(H13:I13) -> -10 | K13: 13 | M13: =AVERAGE(K13:L13) -> 13 | N13: 8 | P13: =AVERAGE(N13:O13) -> 8 | Q13: -4 | S13: =AVERAGE(Q13:R13) -> -4 | T13: =AVERAGE(G13+J13+M13+P13+S13)/5 -> 3.2
B14: 9 | C14: ='DAFTAR SISWA'!B14 -> 1264 | D14: ='DAFTAR SISWA'!D14 -> Jordan Ahmad Kautsar | E14: 10 | G14: =AVERAGE(E14:F14) -> 10 | H14: -12 | J14: =AVERAGE(H14:I14) -> -12 | K14: 12.5 | M14: =AVERAGE(K14:L14) -> 12.5 | N14: 9 | P14: =AVERAGE(N14:O14) -> 9 | Q14: -5 | S14: =AVERAGE(Q14:R14) -> -5 | T14: =AVERAGE(G14+J14+M14+P14+S14)/5 -> 2.9
B15: 10 | C15: ='DAFTAR SISWA'!B15 -> 1351 | D15: ='DAFTAR SISWA'!D15 -> Kahfila Zahra Aulia | E15: 11 | G15: =AVERAGE(E15:F15) -> 11 | H15: -14 | J15: =AVERAGE(H15:I15) -> -14 | K15: 12 | M15: =AVERAGE(K15:L15) -> 12 | N15: 10 | P15: =AVERAGE(N15:O15) -> 10 | Q15: -6 | S15: =AVERAGE(Q15:R15) -> -6 | T15: =AVERAGE(G15+J15+M15+P15+S15)/5 -> 2.6
B16: 11 | C16: ='DAFTAR SISWA'!B16 -> 1265 | D16: ='DAFTAR SISWA'!D16 -> Marvin Aditya Pratama | E16: 12 | G16: =AVERAGE(E16:F16) -> 12 | H16: -16 | J16: =AVERAGE(H16:I16) -> -16 | K16: 11.5 | M16: =AVERAGE(K16:L16) -> 11.5 | N16: 11 | P16: =AVERAGE(N16:O16) -> 11 | Q16: -7 | S16: =AVERAGE(Q16:R16) -> -7 | T16: =AVERAGE(G16+J16+M16+P16+S16)/5 -> 2.3
B17: 12 | C17: ='DAFTAR SISWA'!B17 -> 1266 | D17: ='DAFTAR SISWA'!D17 -> Muhammad Jibril Al Hafidz | E17: 13 | G17: =AVERAGE(E17:F17) -> 13 | H17: -18 | J17: =AVERAGE(H17:I17) -> -18 | K17: 11 | M17: =AVERAGE(K17:L17) -> 11 | N17: 12 | P17: =AVERAGE(N17:O17) -> 12 | Q17: -8 | S17: =AVERAGE(Q17:R17) -> -8 | T17: =AVERAGE(G17+J17+M17+P17+S17)/5 -> 2
B18: 13 | C18: ='DAFTAR SISWA'!B18 -> 1267 | D18: ='DAFTAR SISWA'!D18 -> Muhammad Khoirun Hanafi | E18: 14 | G18: =AVERAGE(E18:F18) -> 14 | H18: -20 | J18: =AVERAGE(H18:I18) -> -20 | K18: 10.5 | M18: =AVERAGE(K18:L18) -> 10.5 | N18: 13 | P18: =AVERAGE(N18:O18) -> 13 | Q18: -9 | S18: =AVERAGE(Q18:R18) -> -9 | T18: =AVERAGE(G18+J18+M18+P18+S18)/5 -> 1.7
B19: 14 | C19: ='DAFTAR SISWA'!B19 -> 1269 | D19: ='DAFTAR SISWA'!D19 -> Nila Nafira | E19: 15 | G19: =AVERAGE(E19:F19) -> 15 | H19: -22 | J19: =AVERAGE(H19:I19) -> -22 | K19: 10 | M19: =AVERAGE(K19:L19) -> 10 | N19: 14 | P19: =AVERAGE(N19:O19) -> 14 | Q19: -10 | S19: =AVERAGE(Q19:R19) -> -10 | T19: =AVERAGE(G19+J19+M19+P19+S19)/5 -> 1.4
B20: 15 | C20: ='DAFTAR SISWA'!B20 -> 1389 | D20: ='DAFTAR SISWA'!D20 -> Oktavia Vivi Novita | E20: 16 | G20: =AVERAGE(E20:F20) -> 16 | H20: -24 | J20: =AVERAGE(H20:I20) -> -24 | K20: 9.5 | M20: =AVERAGE(K20:L20) -> 9.5 | N20: 15 | P20: =AVERAGE(N20:O20) -> 15 | Q20: -11 | S20: =AVERAGE(Q20:R20) -> -11 | T20: =AVERAGE(G20+J20+M20+P20+S20)/5 -> 1.1
B21: 16 | C21: ='DAFTAR SISWA'!B21 -> 1270 | D21: ='DAFTAR SISWA'!D21 -> Patricia Chiquitita | E21: 17 | G21: =AVERAGE(E21:F21) -> 17 | H21: -26 | J21: =AVERAGE(H21:I21) -> -26 | K21: 9 | M21: =AVERAGE(K21:L21) -> 9 | N21: 16 | P21: =AVERAGE(N21:O21) -> 16 | Q21: -12 | S21: =AVERAGE(Q21:R21) -> -12 | T21: =AVERAGE(G21+J21+M21+P21+S21)/5 -> 0.8
... B30: 25 | C30: ='DAFTAR SISWA'!B30 -> 1249 | D30: ='DAFTAR SISWA'!D30 -> Zaidan Arley | E30: 26 | G30: =AVERAGE(E30:F30) -> 26 | H30: -44 | J30: =AVERAGE(H30:I30) -> -44 | K30: 4.5 | M30: =AVERAGE(K30:L30) -> 4.5 | N30: 25 | P30: =AVERAGE(N30:O30) -> 25 | Q30: -21 | S30: =AVERAGE(Q30:R30) -> -21 | T30: =AVERAGE(G30+J30+M30+P30+S30)/5 -> -1.9

Sheet RaporPJOK
B1: PJOK (RAPOR)
B2: NO | C2: No.Induk | D2: Nama | T2: NILAI RAPOR
E3: Kelas IV Semester I | G3: Rata-rata | H3: Kelas IV Semester II | J3: Rata-rata | K3: Kelas V Semester I | M3: Rata-rata | N3: Kelas V Semester II | P3: Rata-rata | Q3: Kelas VI Semester I | S3: Rata-rata
E4: Pengetahuan | F4: Keterampilan | H4: Pengetahuan | I4: Keterampilan | K4: Pengetahuan | L4: Keterampilan | N4: Pengetahuan | O4: Keterampilan | Q4: Pengetahuan | R4: Keterampilan
B5: 1 | C5: 2 | D5: 3 | T5: 13
B6: 1 | C6: ='DAFTAR SISWA'!B6 -> 1255 | D6: ='DAFTAR SISWA'!D6 -> Adya Woro Anggraeni | E6: 2 | F6: 3 | G6: =AVERAGE(E6:F6) -> 2.5 | H6: 4 | I6: 5 | J6: =AVERAGE(H6:I6) -> 4.5 | K6: 70 | L6: 60 | M6: =AVERAGE(K6:L6) -> 65 | N6: 75 | O6: 80 | P6: =AVERAGE(N6:O6) -> 77.5 | Q6: 90 | R6: 90 | S6: =AVERAGE(Q6:R6) -> 90 | T6: =AVERAGE(G6+J6+M6+P6+S6)/5 -> 47.9
B7: 2 | C7: ='DAFTAR SISWA'!B7 -> 1349 | D7: ='DAFTAR SISWA'!D7 -> Amanda Nikeisya Sudibyo | E7: 3 | G7: =AVERAGE(E7:F7) -> 3 | H7: 2 | J7: =AVERAGE(H7:I7) -> 2 | K7: 45 | L7: 6 | M7: =AVERAGE(K7:L7) -> 25.5 | N7: 2 | O7: 4 | P7: =AVERAGE(N7:O7) -> 3 | Q7: 2 | S7: =AVERAGE(Q7:R7) -> 2 | T7: =AVERAGE(G7+J7+M7+P7+S7)/5 -> 7.1
B8: 3 | C8: ='DAFTAR SISWA'!B8 -> 1257 | D8: ='DAFTAR SISWA'!D8 -> Bimo Anggamahenda | E8: 4 | G8: =AVERAGE(E8:F8) -> 4 | H8: 0 | J8: =AVERAGE(H8:I8) -> 0 | K8: 1 | L8: 3 | M8: =AVERAGE(K8:L8) -> 2 | N8: 3 | P8: =AVERAGE(N8:O8) -> 3 | Q8: 1 | S8: =AVERAGE(Q8:R8) -> 1 | T8: =AVERAGE(G8+J8+M8+P8+S8)/5 -> 2
B9: 4 | C9: ='DAFTAR SISWA'!B9 -> 1258 | D9: ='DAFTAR SISWA'!D9 -> Bungah Rizki Rokhimah | E9: 5 | G9: =AVERAGE(E9:F9) -> 5 | H9: -2 | J9: =AVERAGE(H9:I9) -> -2 | K9: 15 | M9: =AVERAGE(K9:L9) -> 15 | N9: 4 | P9: =AVERAGE(N9:O9) -> 4 | Q9: 0 | R9: 67 | S9: =AVERAGE(Q9:R9) -> 33.5 | T9: =AVERAGE(G9+J9+M9+P9+S9)/5 -> 11.1
B10: 5 | C10: ='DAFTAR SISWA'!B10 -> 1259 | D10: ='DAFTAR SISWA'!D10 -> Enggar Megawantoro | E10: 6 | G10: =AVERAGE(E10:F10) -> 6 | H10: -4 | J10: =AVERAGE(H10:I10) -> -4 | K10: 14.5 | M10: =AVERAGE(K10:L10) -> 14.5 | N10: 5 | P10: =AVERAGE(N10:O10) -> 5 | Q10: -1 | S10: =AVERAGE(Q10:R10) -> -1 | T10: =AVERAGE(G10+J10+M10+P10+S10)/5 -> 4.1
B11: 6 | C11: ='DAFTAR SISWA'!B11 -> 1260 | D11: ='DAFTAR SISWA'!D11 -> Firman Ainur Rahmad | E11: 7 | G11: =AVERAGE(E11:F11) -> 7 | H11: -6 | J11: =AVERAGE(H11:I11) -> -6 | K11: 14 | M11: =AVERAGE(K11:L11) -> 14 | N11: 6 | P11: =AVERAGE(N11:O11) -> 6 | Q11: -2 | S11: =AVERAGE(Q11:R11) -> -2 | T11: =AVERAGE(G11+J11+M11+P11+S11)/5 -> 3.8
B12: 7 | C12: ='DAFTAR SISWA'!B12 -> 1263 | D12: ='DAFTAR SISWA'!D12 -> Indra Setyawan | E12: 8 | G12: =AVERAGE(E12:F12) -> 8 | H12: -8 | J12: =AVERAGE(H12:I12) -> -8 | K12: 13.5 | M12: =AVERAGE(K12:L12) -> 13.5 | N12: 7 | P12: =AVERAGE(N12:O12) -> 7 | Q12: -3 | S12: =AVERAGE(Q12:R12) -> -3 | T12: =AVERAGE(G12+J12+M12+P12+S12)/5 -> 3.5
B13: 8 | C13: ='DAFTAR SISWA'!B13 -> 1311 | D13: ='DAFTAR SISWA'!D13 -> Ismi Nur Fadilah | E13: 9 | G13: =AVERAGE(E13:F13) -> 9 | H13: -10 | J13: =AVERAGE(H13:I13) -> -10 | K13: 13 | M13: =AVERAGE(K13:L13) -> 13 | N13: 8 | P13: =AVERAGE(N13:O13) -> 8 | Q13: -4 | S13: =AVERAGE(Q13:R13) -> -4 | T13: =AVERAGE(G13+J13+M13+P13+S13)/5 -> 3.2
B14: 9 | C14: ='DAFTAR SISWA'!B14 -> 1264 | D14: ='DAFTAR SISWA'!D14 -> Jordan Ahmad Kautsar | E14: 10 | G14: =AVERAGE(E14:F14) -> 10 | H14: -12 | J14: =AVERAGE(H14:I14) -> -12 | K14: 12.5 | M14: =AVERAGE(K14:L14) -> 12.5 | N14: 9 | P14: =AVERAGE(N14:O14) -> 9 | Q14: -5 | S14: =AVERAGE(Q14:R14) -> -5 | T14: =AVERAGE(G14+J14+M14+P14+S14)/5 -> 2.9
B15: 10 | C15: ='DAFTAR SISWA'!B15 -> 1351 | D15: ='DAFTAR SISWA'!D15 -> Kahfila Zahra Aulia | E15: 11 | G15: =AVERAGE(E15:F15) -> 11 | H15: -14 | J15: =AVERAGE(H15:I15) -> -14 | K15: 12 | M15: =AVERAGE(K15:L15) -> 12 | N15: 10 | P15: =AVERAGE(N15:O15) -> 10 | Q15: -6 | S15: =AVERAGE(Q15:R15) -> -6 | T15: =AVERAGE(G15+J15+M15+P15+S15)/5 -> 2.6
B16: 11 | C16: ='DAFTAR SISWA'!B16 -> 1265 | D16: ='DAFTAR SISWA'!D16 -> Marvin Aditya Pratama | E16: 12 | G16: =AVERAGE(E16:F16) -> 12 | H16: -16 | J16: =AVERAGE(H16:I16) -> -16 | K16: 11.5 | M16: =AVERAGE(K16:L16) -> 11.5 | N16: 11 | P16: =AVERAGE(N16:O16) -> 11 | Q16: -7 | S16: =AVERAGE(Q16:R16) -> -7 | T16: =AVERAGE(G16+J16+M16+P16+S16)/5 -> 2.3
B17: 12 | C17: ='DAFTAR SISWA'!B17 -> 1266 | D17: ='DAFTAR SISWA'!D17 -> Muhammad Jibril Al Hafidz | E17: 13 | G17: =AVERAGE(E17:F17) -> 13 | H17: -18 | J17: =AVERAGE(H17:I17) -> -18 | K17: 11 | M17: =AVERAGE(K17:L17) -> 11 | N17: 12 | P17: =AVERAGE(N17:O17) -> 12 | Q17: -8 | S17: =AVERAGE(Q17:R17) -> -8 | T17: =AVERAGE(G17+J17+M17+P17+S17)/5 -> 2
B18: 13 | C18: ='DAFTAR SISWA'!B18 -> 1267 | D18: ='DAFTAR SISWA'!D18 -> Muhammad Khoirun Hanafi | E18: 14 | G18: =AVERAGE(E18:F18) -> 14 | H18: -20 | J18: =AVERAGE(H18:I18) -> -20 | K18: 10.5 | M18: =AVERAGE(K18:L18) -> 10.5 | N18: 13 | P18: =AVERAGE(N18:O18) -> 13 | Q18: -9 | S18: =AVERAGE(Q18:R18) -> -9 | T18: =AVERAGE(G18+J18+M18+P18+S18)/5 -> 1.7
B19: 14 | C19: ='DAFTAR SISWA'!B19 -> 1269 | D19: ='DAFTAR SISWA'!D19 -> Nila Nafira | E19: 15 | G19: =AVERAGE(E19:F19) -> 15 | H19: -22 | J19: =AVERAGE(H19:I19) -> -22 | K19: 10 | M19: =AVERAGE(K19:L19) -> 10 | N19: 14 | P19: =AVERAGE(N19:O19) -> 14 | Q19: -10 | S19: =AVERAGE(Q19:R19) -> -10 | T19: =AVERAGE(G19+J19+M19+P19+S19)/5 -> 1.4
B20: 15 | C20: ='DAFTAR SISWA'!B20 -> 1389 | D20: ='DAFTAR SISWA'!D20 -> Oktavia Vivi Novita | E20: 16 | G20: =AVERAGE(E20:F20) -> 16 | H20: -24 | J20: =AVERAGE(H20:I20) -> -24 | K20: 9.5 | M20: =AVERAGE(K20:L20) -> 9.5 | N20: 15 | P20: =AVERAGE(N20:O20) -> 15 | Q20: -11 | S20: =AVERAGE(Q20:R20) -> -11 | T20: =AVERAGE(G20+J20+M20+P20+S20)/5 -> 1.1
B21: 16 | C21: ='DAFTAR SISWA'!B21 -> 1270 | D21: ='DAFTAR SISWA'!D21 -> Patricia Chiquitita | E21: 17 | G21: =AVERAGE(E21:F21) -> 17 | H21: -26 | J21: =AVERAGE(H21:I21) -> -26 | K21: 9 | M21: =AVERAGE(K21:L21) -> 9 | N21: 16 | P21: =AVERAGE(N21:O21) -> 16 | Q21: -12 | S21: =AVERAGE(Q21:R21) -> -12 | T21: =AVERAGE(G21+J21+M21+P21+S21)/5 -> 0.8
... B30: 25 | C30: ='DAFTAR SISWA'!B30 -> 1249 | D30: ='DAFTAR SISWA'!D30 -> Zaidan Arley | E30: 26 | G30: =AVERAGE(E30:F30) -> 26 | H30: -44 | J30: =AVERAGE(H30:I30) -> -44 | K30: 4.5 | M30: =AVERAGE(K30:L30) -> 4.5 | N30: 25 | P30: =AVERAGE(N30:O30) -> 25 | Q30: -21 | S30: =AVERAGE(Q30:R30) -> -21 | T30: =AVERAGE(G30+J30+M30+P30+S30)/5 -> -1.9

Sheet RaporM1
B1: BAHASA JAWA (RAPOR)
B2: NO | C2: No.Induk | D2: Nama | T2: NILAI RAPOR
E3: Kelas IV Semester I | G3: Rata-rata | H3: Kelas IV Semester II | J3: Rata-rata | K3: Kelas V Semester I | M3: Rata-rata | N3: Kelas V Semester II | P3: Rata-rata | Q3: Kelas VI Semester I | S3: Rata-rata
E4: Pengetahuan | F4: Keterampilan | H4: Pengetahuan | I4: Keterampilan | K4: Pengetahuan | L4: Keterampilan | N4: Pengetahuan | O4: Keterampilan | Q4: Pengetahuan | R4: Keterampilan
B5: 1 | C5: 2 | D5: 3 | T5: 13
B6: 1 | C6: ='DAFTAR SISWA'!B6 -> 1255 | D6: ='DAFTAR SISWA'!D6 -> Adya Woro Anggraeni | E6: 2 | F6: 3 | G6: =AVERAGE(E6:F6) -> 2.5 | H6: 4 | I6: 5 | J6: =AVERAGE(H6:I6) -> 4.5 | K6: 70 | L6: 60 | M6: =AVERAGE(K6:L6) -> 65 | N6: 75 | O6: 80 | P6: =AVERAGE(N6:O6) -> 77.5 | Q6: 90 | R6: 90 | S6: =AVERAGE(Q6:R6) -> 90 | T6: =AVERAGE(G6+J6+M6+P6+S6)/5 -> 47.9
B7: 2 | C7: ='DAFTAR SISWA'!B7 -> 1349 | D7: ='DAFTAR SISWA'!D7 -> Amanda Nikeisya Sudibyo | E7: 3 | G7: =AVERAGE(E7:F7) -> 3 | H7: 2 | J7: =AVERAGE(H7:I7) -> 2 | K7: 45 | L7: 6 | M7: =AVERAGE(K7:L7) -> 25.5 | N7: 2 | O7: 4 | P7: =AVERAGE(N7:O7) -> 3 | Q7: 2 | S7: =AVERAGE(Q7:R7) -> 2 | T7: =AVERAGE(G7+J7+M7+P7+S7)/5 -> 7.1
B8: 3 | C8: ='DAFTAR SISWA'!B8 -> 1257 | D8: ='DAFTAR SISWA'!D8 -> Bimo Anggamahenda | E8: 4 | G8: =AVERAGE(E8:F8) -> 4 | H8: 0 | J8: =AVERAGE(H8:I8) -> 0 | K8: 1 | L8: 3 | M8: =AVERAGE(K8:L8) -> 2 | N8: 3 | P8: =AVERAGE(N8:O8) -> 3 | Q8: 1 | S8: =AVERAGE(Q8:R8) -> 1 | T8: =AVERAGE(G8+J8+M8+P8+S8)/5 -> 2
B9: 4 | C9: ='DAFTAR SISWA'!B9 -> 1258 | D9: ='DAFTAR SISWA'!D9 -> Bungah Rizki Rokhimah | E9: 5 | G9: =AVERAGE(E9:F9) -> 5 | H9: -2 | J9: =AVERAGE(H9:I9) -> -2 | K9: 15 | M9: =AVERAGE(K9:L9) -> 15 | N9: 4 | P9: =AVERAGE(N9:O9) -> 4 | Q9: 0 | R9: 67 | S9: =AVERAGE(Q9:R9) -> 33.5 | T9: =AVERAGE(G9+J9+M9+P9+S9)/5 -> 11.1
B10: 5 | C10: ='DAFTAR SISWA'!B10 -> 1259 | D10: ='DAFTAR SISWA'!D10 -> Enggar Megawantoro | E10: 6 | G10: =AVERAGE(E10:F10) -> 6 | H10: -4 | J10: =AVERAGE(H10:I10) -> -4 | K10: 14.5 | M10: =AVERAGE(K10:L10) -> 14.5 | N10: 5 | P10: =AVERAGE(N10:O10) -> 5 | Q10: -1 | S10: =AVERAGE(Q10:R10) -> -1 | T10: =AVERAGE(G10+J10+M10+P10+S10)/5 -> 4.1
B11: 6 | C11: ='DAFTAR SISWA'!B11 -> 1260 | D11: ='DAFTAR SISWA'!D11 -> Firman Ainur Rahmad | E11: 7 | G11: =AVERAGE(E11:F11) -> 7 | H11: -6 | J11: =AVERAGE(H11:I11) -> -6 | K11: 14 | M11: =AVERAGE(K11:L11) -> 14 | N11: 6 | P11: =AVERAGE(N11:O11) -> 6 | Q11: -2 | S11: =AVERAGE(Q11:R11) -> -2 | T11: =AVERAGE(G11+J11+M11+P11+S11)/5 -> 3.8
B12: 7 | C12: ='DAFTAR SISWA'!B12 -> 1263 | D12: ='DAFTAR SISWA'!D12 -> Indra Setyawan | E12: 8 | G12: =AVERAGE(E12:F12) -> 8 | H12: -8 | J12: =AVERAGE(H12:I12) -> -8 | K12: 13.5 | M12: =AVERAGE(K12:L12) -> 13.5 | N12: 7 | P12: =AVERAGE(N12:O12) -> 7 | Q12: -3 | S12: =AVERAGE(Q12:R12) -> -3 | T12: =AVERAGE(G12+J12+M12+P12+S12)/5 -> 3.5
B13: 8 | C13: ='DAFTAR SISWA'!B13 -> 1311 | D13: ='DAFTAR SISWA'!D13 -> Ismi Nur Fadilah | E13: 9 | G13: =AVERAGE(E13:F13) -> 9 | H13: -10 | J13: =AVERAGE(H13:I13) -> -10 | K13: 13 | M13: =AVERAGE(K13:L13) -> 13 | N13: 8 | P13: =AVERAGE(N13:O13) -> 8 | Q13: -4 | S13: =AVERAGE(Q13:R13) -> -4 | T13: =AVERAGE(G13+J13+M13+P13+S13)/5 -> 3.2
B14: 9 | C14: ='DAFTAR SISWA'!B14 -> 1264 | D14: ='DAFTAR SISWA'!D14 -> Jordan Ahmad Kautsar | E14: 10 | G14: =AVERAGE(E14:F14) -> 10 | H14: -12 | J14: =AVERAGE(H14:I14) -> -12 | K14: 12.5 | M14: =AVERAGE(K14:L14) -> 12.5 | N14: 9 | P14: =AVERAGE(N14:O14) -> 9 | Q14: -5 | S14: =AVERAGE(Q14:R14) -> -5 | T14: =AVERAGE(G14+J14+M14+P14+S14)/5 -> 2.9
B15: 10 | C15: ='DAFTAR SISWA'!B15 -> 1351 | D15: ='DAFTAR SISWA'!D15 -> Kahfila Zahra Aulia | E15: 11 | G15: =AVERAGE(E15:F15) -> 11 | H15: -14 | J15: =AVERAGE(H15:I15) -> -14 | K15: 12 | M15: =AVERAGE(K15:L15) -> 12 | N15: 10 | P15: =AVERAGE(N15:O15) -> 10 | Q15: -6 | S15: =AVERAGE(Q15:R15) -> -6 | T15: =AVERAGE(G15+J15+M15+P15+S15)/5 -> 2.6
B16: 11 | C16: ='DAFTAR SISWA'!B16 -> 1265 | D16: ='DAFTAR SISWA'!D16 -> Marvin Aditya Pratama | E16: 12 | G16: =AVERAGE(E16:F16) -> 12 | H16: -16 | J16: =AVERAGE(H16:I16) -> -16 | K16: 11.5 | M16: =AVERAGE(K16:L16) -> 11.5 | N16: 11 | P16: =AVERAGE(N16:O16) -> 11 | Q16: -7 | S16: =AVERAGE(Q16:R16) -> -7 | T16: =AVERAGE(G16+J16+M16+P16+S16)/5 -> 2.3
B17: 12 | C17: ='DAFTAR SISWA'!B17 -> 1266 | D17: ='DAFTAR SISWA'!D17 -> Muhammad Jibril Al Hafidz | E17: 13 | G17: =AVERAGE(E17:F17) -> 13 | H17: -18 | J17: =AVERAGE(H17:I17) -> -18 | K17: 11 | M17: =AVERAGE(K17:L17) -> 11 | N17: 12 | P17: =AVERAGE(N17:O17) -> 12 | Q17: -8 | S17: =AVERAGE(Q17:R17) -> -8 | T17: =AVERAGE(G17+J17+M17+P17+S17)/5 -> 2
B18: 13 | C18: ='DAFTAR SISWA'!B18 -> 1267 | D18: ='DAFTAR SISWA'!D18 -> Muhammad Khoirun Hanafi | E18: 14 | G18: =AVERAGE(E18:F18) -> 14 | H18: -20 | J18: =AVERAGE(H18:I18) -> -20 | K18: 10.5 | M18: =AVERAGE(K18:L18) -> 10.5 | N18: 13 | P18: =AVERAGE(N18:O18) -> 13 | Q18: -9 | S18: =AVERAGE(Q18:R18) -> -9 | T18: =AVERAGE(G18+J18+M18+P18+S18)/5 -> 1.7
B19: 14 | C19: ='DAFTAR SISWA'!B19 -> 1269 | D19: ='DAFTAR SISWA'!D19 -> Nila Nafira | E19: 15 | G19: =AVERAGE(E19:F19) -> 15 | H19: -22 | J19: =AVERAGE(H19:I19) -> -22 | K19: 10 | M19: =AVERAGE(K19:L19) -> 10 | N19: 14 | P19: =AVERAGE(N19:O19) -> 14 | Q19: -10 | S19: =AVERAGE(Q19:R19) -> -10 | T19: =AVERAGE(G19+J19+M19+P19+S19)/5 -> 1.4
B20: 15 | C20: ='DAFTAR SISWA'!B20 -> 1389 | D20: ='DAFTAR SISWA'!D20 -> Oktavia Vivi Novita | E20: 16 | G20: =AVERAGE(E20:F20) -> 16 | H20: -24 | J20: =AVERAGE(H20:I20) -> -24 | K20: 9.5 | M20: =AVERAGE(K20:L20) -> 9.5 | N20: 15 | P20: =AVERAGE(N20:O20) -> 15 | Q20: -11 | S20: =AVERAGE(Q20:R20) -> -11 | T20: =AVERAGE(G20+J20+M20+P20+S20)/5 -> 1.1
B21: 16 | C21: ='DAFTAR SISWA'!B21 -> 1270 | D21: ='DAFTAR SISWA'!D21 -> Patricia Chiquitita | E21: 17 | G21: =AVERAGE(E21:F21) -> 17 | H21: -26 | J21: =AVERAGE(H21:I21) -> -26 | K21: 9 | M21: =AVERAGE(K21:L21) -> 9 | N21: 16 | P21: =AVERAGE(N21:O21) -> 16 | Q21: -12 | S21: =AVERAGE(Q21:R21) -> -12 | T21: =AVERAGE(G21+J21+M21+P21+S21)/5 -> 0.8
... B30: 25 | C30: ='DAFTAR SISWA'!B30 -> 1249 | D30: ='DAFTAR SISWA'!D30 -> Zaidan Arley | E30: 26 | G30: =AVERAGE(E30:F30) -> 26 | H30: -44 | J30: =AVERAGE(H30:I30) -> -44 | K30: 4.5 | M30: =AVERAGE(K30:L30) -> 4.5 | N30: 25 | P30: =AVERAGE(N30:O30) -> 25 | Q30: -21 | S30: =AVERAGE(Q30:R30) -> -21 | T30: =AVERAGE(G30+J30+M30+P30+S30)/5 -> -1.9

Sheet RaporM2
B1: BTQ/ TEMBANG JAWA (RAPOR)
B2: NO | C2: No.Induk | D2: Nama | T2: NILAI RAPOR
E3: Kelas IV Semester I | G3: Rata-rata | H3: Kelas IV Semester II | J3: Rata-rata | K3: Kelas V Semester I | M3: Rata-rata | N3: Kelas V Semester II | P3: Rata-rata | Q3: Kelas VI Semester I | S3: Rata-rata
E4: Pengetahuan | F4: Keterampilan | H4: Pengetahuan | I4: Keterampilan | K4: Pengetahuan | L4: Keterampilan | N4: Pengetahuan | O4: Keterampilan | Q4: Pengetahuan | R4: Keterampilan
B5: 1 | C5: 2 | D5: 3 | T5: 13
B6: 1 | C6: ='DAFTAR SISWA'!B6 -> 1255 | D6: ='DAFTAR SISWA'!D6 -> Adya Woro Anggraeni | E6: 2 | F6: 3 | G6: =AVERAGE(E6:F6) -> 2.5 | H6: 4 | I6: 5 | J6: =AVERAGE(H6:I6) -> 4.5 | K6: 70 | L6: 60 | M6: =AVERAGE(K6:L6) -> 65 | N6: 75 | O6: 80 | P6: =AVERAGE(N6:O6) -> 77.5 | Q6: 90 | R6: 90 | S6: =AVERAGE(Q6:R6) -> 90 | T6: =AVERAGE(G6+J6+M6+P6+S6)/5 -> 47.9
B7: 2 | C7: ='DAFTAR SISWA'!B7 -> 1349 | D7: ='DAFTAR SISWA'!D7 -> Amanda Nikeisya Sudibyo | E7: 3 | G7: =AVERAGE(E7:F7) -> 3 | H7: 2 | J7: =AVERAGE(H7:I7) -> 2 | K7: 45 | L7: 6 | M7: =AVERAGE(K7:L7) -> 25.5 | N7: 2 | O7: 4 | P7: =AVERAGE(N7:O7) -> 3 | Q7: 2 | S7: =AVERAGE(Q7:R7) -> 2 | T7: =AVERAGE(G7+J7+M7+P7+S7)/5 -> 7.1
B8: 3 | C8: ='DAFTAR SISWA'!B8 -> 1257 | D8: ='DAFTAR SISWA'!D8 -> Bimo Anggamahenda | E8: 4 | G8: =AVERAGE(E8:F8) -> 4 | H8: 0 | J8: =AVERAGE(H8:I8) -> 0 | K8: 1 | L8: 3 | M8: =AVERAGE(K8:L8) -> 2 | N8: 3 | P8: =AVERAGE(N8:O8) -> 3 | Q8: 1 | S8: =AVERAGE(Q8:R8) -> 1 | T8: =AVERAGE(G8+J8+M8+P8+S8)/5 -> 2
B9: 4 | C9: ='DAFTAR SISWA'!B9 -> 1258 | D9: ='DAFTAR SISWA'!D9 -> Bungah Rizki Rokhimah | E9: 5 | G9: =AVERAGE(E9:F9) -> 5 | H9: -2 | J9: =AVERAGE(H9:I9) -> -2 | K9: 15 | M9: =AVERAGE(K9:L9) -> 15 | N9: 4 | P9: =AVERAGE(N9:O9) -> 4 | Q9: 0 | R9: 67 | S9: =AVERAGE(Q9:R9) -> 33.5 | T9: =AVERAGE(G9+J9+M9+P9+S9)/5 -> 11.1
B10: 5 | C10: ='DAFTAR SISWA'!B10 -> 1259 | D10: ='DAFTAR SISWA'!D10 -> Enggar Megawantoro | E10: 6 | G10: =AVERAGE(E10:F10) -> 6 | H10: -4 | J10: =AVERAGE(H10:I10) -> -4 | K10: 14.5 | M10: =AVERAGE(K10:L10) -> 14.5 | N10: 5 | P10: =AVERAGE(N10:O10) -> 5 | Q10: -1 | S10: =AVERAGE(Q10:R10) -> -1 | T10: =AVERAGE(G10+J10+M10+P10+S10)/5 -> 4.1
B11: 6 | C11: ='DAFTAR SISWA'!B11 -> 1260 | D11: ='DAFTAR SISWA'!D11 -> Firman Ainur Rahmad | E11: 7 | G11: =AVERAGE(E11:F11) -> 7 | H11: -6 | J11: =AVERAGE(H11:I11) -> -6 | K11: 14 | M11: =AVERAGE(K11:L11) -> 14 | N11: 6 | P11: =AVERAGE(N11:O11) -> 6 | Q11: -2 | S11: =AVERAGE(Q11:R11) -> -2 | T11: =AVERAGE(G11+J11+M11+P11+S11)/5 -> 3.8
B12: 7 | C12: ='DAFTAR SISWA'!B12 -> 1263 | D12: ='DAFTAR SISWA'!D12 -> Indra Setyawan | E12: 8 | G12: =AVERAGE(E12:F12) -> 8 | H12: -8 | J12: =AVERAGE(H12:I12) -> -8 | K12: 13.5 | M12: =AVERAGE(K12:L12) -> 13.5 | N12: 7 | P12: =AVERAGE(N12:O12) -> 7 | Q12: -3 | S12: =AVERAGE(Q12:R12) -> -3 | T12: =AVERAGE(G12+J12+M12+P12+S12)/5 -> 3.5
B13: 8 | C13: ='DAFTAR SISWA'!B13 -> 1311 | D13: ='DAFTAR SISWA'!D13 -> Ismi Nur Fadilah | E13: 9 | G13: =AVERAGE(E13:F13) -> 9 | H13: -10 | J13: =AVERAGE(H13:I13) -> -10 | K13: 13 | M13: =AVERAGE(K13:L13) -> 13 | N13: 8 | P13: =AVERAGE(N13:O13) -> 8 | Q13: -4 | S13: =AVERAGE(Q13:R13) -> -4 | T13: =AVERAGE(G13+J13+M13+P13+S13)/5 -> 3.2
B14: 9 | C14: ='DAFTAR SISWA'!B14 -> 1264 | D14: ='DAFTAR SISWA'!D14 -> Jordan Ahmad Kautsar | E14: 10 | G14: =AVERAGE(E14:F14) -> 10 | H14: -12 | J14: =AVERAGE(H14:I14) -> -12 | K14: 12.5 | M14: =AVERAGE(K14:L14) -> 12.5 | N14: 9 | P14: =AVERAGE(N14:O14) -> 9 | Q14: -5 | S14: =AVERAGE(Q14:R14) -> -5 | T14: =AVERAGE(G14+J14+M14+P14+S14)/5 -> 2.9
B15: 10 | C15: ='DAFTAR SISWA'!B15 -> 1351 | D15: ='DAFTAR SISWA'!D15 -> Kahfila Zahra Aulia | E15: 11 | G15: =AVERAGE(E15:F15) -> 11 | H15: -14 | J15: =AVERAGE(H15:I15) -> -14 | K15: 12 | M15: =AVERAGE(K15:L15) -> 12 | N15: 10 | P15: =AVERAGE(N15:O15) -> 10 | Q15: -6 | S15: =AVERAGE(Q15:R15) -> -6 | T15: =AVERAGE(G15+J15+M15+P15+S15)/5 -> 2.6
B16: 11 | C16: ='DAFTAR SISWA'!B16 -> 1265 | D16: ='DAFTAR SISWA'!D16 -> Marvin Aditya Pratama | E16: 12 | G16: =AVERAGE(E16:F16) -> 12 | H16: -16 | J16: =AVERAGE(H16:I16) -> -16 | K16: 11.5 | M16: =AVERAGE(K16:L16) -> 11.5 | N16: 11 | P16: =AVERAGE(N16:O16) -> 11 | Q16: -7 | S16: =AVERAGE(Q16:R16) -> -7 | T16: =AVERAGE(G16+J16+M16+P16+S16)/5 -> 2.3
B17: 12 | C17: ='DAFTAR SISWA'!B17 -> 1266 | D17: ='DAFTAR SISWA'!D17 -> Muhammad Jibril Al Hafidz | E17: 13 | G17: =AVERAGE(E17:F17) -> 13 | H17: -18 | J17: =AVERAGE(H17:I17) -> -18 | K17: 11 | M17: =AVERAGE(K17:L17) -> 11 | N17: 12 | P17: =AVERAGE(N17:O17) -> 12 | Q17: -8 | S17: =AVERAGE(Q17:R17) -> -8 | T17: =AVERAGE(G17+J17+M17+P17+S17)/5 -> 2
B18: 13 | C18: ='DAFTAR SISWA'!B18 -> 1267 | D18: ='DAFTAR SISWA'!D18 -> Muhammad Khoirun Hanafi | E18: 14 | G18: =AVERAGE(E18:F18) -> 14 | H18: -20 | J18: =AVERAGE(H18:I18) -> -20 | K18: 10.5 | M18: =AVERAGE(K18:L18) -> 10.5 | N18: 13 | P18: =AVERAGE(N18:O18) -> 13 | Q18: -9 | S18: =AVERAGE(Q18:R18) -> -9 | T18: =AVERAGE(G18+J18+M18+P18+S18)/5 -> 1.7
B19: 14 | C19: ='DAFTAR SISWA'!B19 -> 1269 | D19: ='DAFTAR SISWA'!D19 -> Nila Nafira | E19: 15 | G19: =AVERAGE(E19:F19) -> 15 | H19: -22 | J19: =AVERAGE(H19:I19) -> -22 | K19: 10 | M19: =AVERAGE(K19:L19) -> 10 | N19: 14 | P19: =AVERAGE(N19:O19) -> 14 | Q19: -10 | S19: =AVERAGE(Q19:R19) -> -10 | T19: =AVERAGE(G19+J19+M19+P19+S19)/5 -> 1.4
B20: 15 | C20: ='DAFTAR SISWA'!B20 -> 1389 | D20: ='DAFTAR SISWA'!D20 -> Oktavia Vivi Novita | E20: 16 | G20: =AVERAGE(E20:F20) -> 16 | H20: -24 | J20: =AVERAGE(H20:I20) -> -24 | K20: 9.5 | M20: =AVERAGE(K20:L20) -> 9.5 | N20: 15 | P20: =AVERAGE(N20:O20) -> 15 | Q20: -11 | S20: =AVERAGE(Q20:R20) -> -11 | T20: =AVERAGE(G20+J20+M20+P20+S20)/5 -> 1.1
B21: 16 | C21: ='DAFTAR SISWA'!B21 -> 1270 | D21: ='DAFTAR SISWA'!D21 -> Patricia Chiquitita | E21: 17 | G21: =AVERAGE(E21:F21) -> 17 | H21: -26 | J21: =AVERAGE(H21:I21) -> -26 | K21: 9 | M21: =AVERAGE(K21:L21) -> 9 | N21: 16 | P21: =AVERAGE(N21:O21) -> 16 | Q21: -12 | S21: =AVERAGE(Q21:R21) -> -12 | T21: =AVERAGE(G21+J21+M21+P21+S21)/5 -> 0.8
... B30: 25 | C30: ='DAFTAR SISWA'!B30 -> 1249 | D30: ='DAFTAR SISWA'!D30 -> Zaidan Arley | E30: 26 | G30: =AVERAGE(E30:F30) -> 26 | H30: -44 | J30: =AVERAGE(H30:I30) -> -44 | K30: 4.5 | M30: =AVERAGE(K30:L30) -> 4.5 | N30: 25 | P30: =AVERAGE(N30:O30) -> 25 | Q30: -21 | S30: =AVERAGE(Q30:R30) -> -21 | T30: =AVERAGE(G30+J30+M30+P30+S30)/5 -> -1.9

Sheet RaporM3
B1: BAHASA INGGRIS(RAPOR)
B2: NO | C2: No.Induk | D2: Nama | T2: NILAI RAPOR
E3: Kelas IV Semester I | G3: Rata-rata | H3: Kelas IV Semester II | J3: Rata-rata | K3: Kelas V Semester I | M3: Rata-rata | N3: Kelas V Semester II | P3: Rata-rata | Q3: Kelas VI Semester I | S3: Rata-rata
E4: Pengetahuan | F4: Keterampilan | H4: Pengetahuan | I4: Keterampilan | K4: Pengetahuan | L4: Keterampilan | N4: Pengetahuan | O4: Keterampilan | Q4: Pengetahuan | R4: Keterampilan
B5: 1 | C5: 2 | D5: 3 | T5: 13
B6: 1 | C6: ='DAFTAR SISWA'!B6 -> 1255 | D6: ='DAFTAR SISWA'!D6 -> Adya Woro Anggraeni | E6: 2 | F6: 3 | G6: =AVERAGE(E6:F6) -> 2.5 | H6: 4 | I6: 5 | J6: =AVERAGE(H6:I6) -> 4.5 | K6: 70 | L6: 60 | M6: =AVERAGE(K6:L6) -> 65 | N6: 75 | O6: 80 | P6: =AVERAGE(N6:O6) -> 77.5 | Q6: 90 | R6: 90 | S6: =AVERAGE(Q6:R6) -> 90 | T6: =AVERAGE(G6+J6+M6+P6+S6)/5 -> 47.9
B7: 2 | C7: ='DAFTAR SISWA'!B7 -> 1349 | D7: ='DAFTAR SISWA'!D7 -> Amanda Nikeisya Sudibyo | E7: 3 | G7: =AVERAGE(E7:F7) -> 3 | H7: 2 | J7: =AVERAGE(H7:I7) -> 2 | K7: 45 | L7: 6 | M7: =AVERAGE(K7:L7) -> 25.5 | N7: 2 | O7: 4 | P7: =AVERAGE(N7:O7) -> 3 | Q7: 2 | S7: =AVERAGE(Q7:R7) -> 2 | T7: =AVERAGE(G7+J7+M7+P7+S7)/5 -> 7.1
B8: 3 | C8: ='DAFTAR SISWA'!B8 -> 1257 | D8: ='DAFTAR SISWA'!D8 -> Bimo Anggamahenda | E8: 4 | G8: =AVERAGE(E8:F8) -> 4 | H8: 0 | J8: =AVERAGE(H8:I8) -> 0 | K8: 1 | L8: 3 | M8: =AVERAGE(K8:L8) -> 2 | N8: 3 | P8: =AVERAGE(N8:O8) -> 3 | Q8: 1 | S8: =AVERAGE(Q8:R8) -> 1 | T8: =AVERAGE(G8+J8+M8+P8+S8)/5 -> 2
B9: 4 | C9: ='DAFTAR SISWA'!B9 -> 1258 | D9: ='DAFTAR SISWA'!D9 -> Bungah Rizki Rokhimah | E9: 5 | G9: =AVERAGE(E9:F9) -> 5 | H9: -2 | J9: =AVERAGE(H9:I9) -> -2 | K9: 15 | M9: =AVERAGE(K9:L9) -> 15 | N9: 4 | P9: =AVERAGE(N9:O9) -> 4 | Q9: 0 | R9: 67 | S9: =AVERAGE(Q9:R9) -> 33.5 | T9: =AVERAGE(G9+J9+M9+P9+S9)/5 -> 11.1
B10: 5 | C10: ='DAFTAR SISWA'!B10 -> 1259 | D10: ='DAFTAR SISWA'!D10 -> Enggar Megawantoro | E10: 6 | G10: =AVERAGE(E10:F10) -> 6 | H10: -4 | J10: =AVERAGE(H10:I10) -> -4 | K10: 14.5 | M10: =AVERAGE(K10:L10) -> 14.5 | N10: 5 | P10: =AVERAGE(N10:O10) -> 5 | Q10: -1 | S10: =AVERAGE(Q10:R10) -> -1 | T10: =AVERAGE(G10+J10+M10+P10+S10)/5 -> 4.1
B11: 6 | C11: ='DAFTAR SISWA'!B11 -> 1260 | D11: ='DAFTAR SISWA'!D11 -> Firman Ainur Rahmad | E11: 7 | G11: =AVERAGE(E11:F11) -> 7 | H11: -6 | J11: =AVERAGE(H11:I11) -> -6 | K11: 14 | M11: =AVERAGE(K11:L11) -> 14 | N11: 6 | P11: =AVERAGE(N11:O11) -> 6 | Q11: -2 | S11: =AVERAGE(Q11:R11) -> -2 | T11: =AVERAGE(G11+J11+M11+P11+S11)/5 -> 3.8
B12: 7 | C12: ='DAFTAR SISWA'!B12 -> 1263 | D12: ='DAFTAR SISWA'!D12 -> Indra Setyawan | E12: 8 | G12: =AVERAGE(E12:F12) -> 8 | H12: -8 | J12: =AVERAGE(H12:I12) -> -8 | K12: 13.5 | M12: =AVERAGE(K12:L12) -> 13.5 | N12: 7 | P12: =AVERAGE(N12:O12) -> 7 | Q12: -3 | S12: =AVERAGE(Q12:R12) -> -3 | T12: =AVERAGE(G12+J12+M12+P12+S12)/5 -> 3.5
B13: 8 | C13: ='DAFTAR SISWA'!B13 -> 1311 | D13: ='DAFTAR SISWA'!D13 -> Ismi Nur Fadilah | E13: 9 | G13: =AVERAGE(E13:F13) -> 9 | H13: -10 | J13: =AVERAGE(H13:I13) -> -10 | K13: 13 | M13: =AVERAGE(K13:L13) -> 13 | N13: 8 | P13: =AVERAGE(N13:O13) -> 8 | Q13: -4 | S13: =AVERAGE(Q13:R13) -> -4 | T13: =AVERAGE(G13+J13+M13+P13+S13)/5 -> 3.2
B14: 9 | C14: ='DAFTAR SISWA'!B14 -> 1264 | D14: ='DAFTAR SISWA'!D14 -> Jordan Ahmad Kautsar | E14: 10 | G14: =AVERAGE(E14:F14) -> 10 | H14: -12 | J14: =AVERAGE(H14:I14) -> -12 | K14: 12.5 | M14: =AVERAGE(K14:L14) -> 12.5 | N14: 9 | P14: =AVERAGE(N14:O14) -> 9 | Q14: -5 | S14: =AVERAGE(Q14:R14) -> -5 | T14: =AVERAGE(G14+J14+M14+P14+S14)/5 -> 2.9
B15: 10 | C15: ='DAFTAR SISWA'!B15 -> 1351 | D15: ='DAFTAR SISWA'!D15 -> Kahfila Zahra Aulia | E15: 11 | G15: =AVERAGE(E15:F15) -> 11 | H15: -14 | J15: =AVERAGE(H15:I15) -> -14 | K15: 12 | M15: =AVERAGE(K15:L15) -> 12 | N15: 10 | P15: =AVERAGE(N15:O15) -> 10 | Q15: -6 | S15: =AVERAGE(Q15:R15) -> -6 | T15: =AVERAGE(G15+J15+M15+P15+S15)/5 -> 2.6
B16: 11 | C16: ='DAFTAR SISWA'!B16 -> 1265 | D16: ='DAFTAR SISWA'!D16 -> Marvin Aditya Pratama | E16: 12 | G16: =AVERAGE(E16:F16) -> 12 | H16: -16 | J16: =AVERAGE(H16:I16) -> -16 | K16: 11.5 | M16: =AVERAGE(K16:L16) -> 11.5 | N16: 11 | P16: =AVERAGE(N16:O16) -> 11 | Q16: -7 | S16: =AVERAGE(Q16:R16) -> -7 | T16: =AVERAGE(G16+J16+M16+P16+S16)/5 -> 2.3
B17: 12 | C17: ='DAFTAR SISWA'!B17 -> 1266 | D17: ='DAFTAR SISWA'!D17 -> Muhammad Jibril Al Hafidz | E17: 13 | G17: =AVERAGE(E17:F17) -> 13 | H17: -18 | J17: =AVERAGE(H17:I17) -> -18 | K17: 11 | M17: =AVERAGE(K17:L17) -> 11 | N17: 12 | P17: =AVERAGE(N17:O17) -> 12 | Q17: -8 | S17: =AVERAGE(Q17:R17) -> -8 | T17: =AVERAGE(G17+J17+M17+P17+S17)/5 -> 2
B18: 13 | C18: ='DAFTAR SISWA'!B18 -> 1267 | D18: ='DAFTAR SISWA'!D18 -> Muhammad Khoirun Hanafi | E18: 14 | G18: =AVERAGE(E18:F18) -> 14 | H18: -20 | J18: =AVERAGE(H18:I18) -> -20 | K18: 10.5 | M18: =AVERAGE(K18:L18) -> 10.5 | N18: 13 | P18: =AVERAGE(N18:O18) -> 13 | Q18: -9 | S18: =AVERAGE(Q18:R18) -> -9 | T18: =AVERAGE(G18+J18+M18+P18+S18)/5 -> 1.7
B19: 14 | C19: ='DAFTAR SISWA'!B19 -> 1269 | D19: ='DAFTAR SISWA'!D19 -> Nila Nafira | E19: 15 | G19: =AVERAGE(E19:F19) -> 15 | H19: -22 | J19: =AVERAGE(H19:I19) -> -22 | K19: 10 | M19: =AVERAGE(K19:L19) -> 10 | N19: 14 | P19: =AVERAGE(N19:O19) -> 14 | Q19: -10 | S19: =AVERAGE(Q19:R19) -> -10 | T19: =AVERAGE(G19+J19+M19+P19+S19)/5 -> 1.4
B20: 15 | C20: ='DAFTAR SISWA'!B20 -> 1389 | D20: ='DAFTAR SISWA'!D20 -> Oktavia Vivi Novita | E20: 16 | G20: =AVERAGE(E20:F20) -> 16 | H20: -24 | J20: =AVERAGE(H20:I20) -> -24 | K20: 9.5 | M20: =AVERAGE(K20:L20) -> 9.5 | N20: 15 | P20: =AVERAGE(N20:O20) -> 15 | Q20: -11 | S20: =AVERAGE(Q20:R20) -> -11 | T20: =AVERAGE(G20+J20+M20+P20+S20)/5 -> 1.1
B21: 16 | C21: ='DAFTAR SISWA'!B21 -> 1270 | D21: ='DAFTAR SISWA'!D21 -> Patricia Chiquitita | E21: 17 | G21: =AVERAGE(E21:F21) -> 17 | H21: -26 | J21: =AVERAGE(H21:I21) -> -26 | K21: 9 | M21: =AVERAGE(K21:L21) -> 9 | N21: 16 | P21: =AVERAGE(N21:O21) -> 16 | Q21: -12 | S21: =AVERAGE(Q21:R21) -> -12 | T21: =AVERAGE(G21+J21+M21+P21+S21)/5 -> 0.8
... B30: 25 | C30: ='DAFTAR SISWA'!B30 -> 1249 | D30: ='DAFTAR SISWA'!D30 -> Zaidan Arley | E30: 26 | G30: =AVERAGE(E30:F30) -> 26 | H30: -44 | J30: =AVERAGE(H30:I30) -> -44 | K30: 4.5 | M30: =AVERAGE(K30:L30) -> 4.5 | N30: 25 | P30: =AVERAGE(N30:O30) -> 25 | Q30: -21 | S30: =AVERAGE(Q30:R30) -> -21 | T30: =AVERAGE(G30+J30+M30+P30+S30)/5 -> -1.9

Sheet USPAI
B1: US AGAMA
B2: NO | C2: NO.INDUK | D2: NAMA | E2: Aspek Penilaian | I2: Nilai Total
E3: Pengetahuan | G3: Praktek
F4: 0.6 | H4: 0.4
B5: 1 | C5: ='DAFTAR SISWA'!B6 -> 1255 | D5: ='DAFTAR SISWA'!D6 -> Adya Woro Anggraeni | E5: 65 | F5: =E5*60% -> 39 | G5: 70 | H5: =G5*40% -> 28 | I5: =SUM(F5+H5) -> 67
B6: 2 | C6: ='DAFTAR SISWA'!B7 -> 1349 | D6: ='DAFTAR SISWA'!D7 -> Amanda Nikeisya Sudibyo | E6: 80 | F6: =E6*60% -> 48 | G6: 60 | H6: =G6*40% -> 24 | I6: =SUM(F6+H6) -> 72
B7: 3 | C7: ='DAFTAR SISWA'!B8 -> 1257 | D7: ='DAFTAR SISWA'!D8 -> Bimo Anggamahenda | F7: =E7*60% -> 0 | H7: =G7*40% -> 0 | I7: =SUM(F7+H7) -> 0
B8: 4 | C8: ='DAFTAR SISWA'!B9 -> 1258 | D8: ='DAFTAR SISWA'!D9 -> Bungah Rizki Rokhimah | F8: =E8*60% -> 0 | H8: =G8*40% -> 0 | I8: =SUM(F8+H8) -> 0
B9: 5 | C9: ='DAFTAR SISWA'!B10 -> 1259 | D9: ='DAFTAR SISWA'!D10 -> Enggar Megawantoro | F9: =E9*60% -> 0 | H9: =G9*40% -> 0 | I9: =SUM(F9+H9) -> 0
B10: 6 | C10: ='DAFTAR SISWA'!B11 -> 1260 | D10: ='DAFTAR SISWA'!D11 -> Firman Ainur Rahmad | F10: =E10*60% -> 0 | H10: =G10*40% -> 0 | I10: =SUM(F10+H10) -> 0
B11: 7 | C11: ='DAFTAR SISWA'!B12 -> 1263 | D11: ='DAFTAR SISWA'!D12 -> Indra Setyawan | F11: =E11*60% -> 0 | H11: =G11*40% -> 0 | I11: =SUM(F11+H11) -> 0
B12: 8 | C12: ='DAFTAR SISWA'!B13 -> 1311 | D12: ='DAFTAR SISWA'!D13 -> Ismi Nur Fadilah | F12: =E12*60% -> 0 | H12: =G12*40% -> 0 | I12: =SUM(F12+H12) -> 0
B13: 9 | C13: ='DAFTAR SISWA'!B14 -> 1264 | D13: ='DAFTAR SISWA'!D14 -> Jordan Ahmad Kautsar | F13: =E13*60% -> 0 | H13: =G13*40% -> 0 | I13: =SUM(F13+H13) -> 0
B14: 10 | C14: ='DAFTAR SISWA'!B15 -> 1351 | D14: ='DAFTAR SISWA'!D15 -> Kahfila Zahra Aulia | F14: =E14*60% -> 0 | H14: =G14*40% -> 0 | I14: =SUM(F14+H14) -> 0
B15: 11 | C15: ='DAFTAR SISWA'!B16 -> 1265 | D15: ='DAFTAR SISWA'!D16 -> Marvin Aditya Pratama | F15: =E15*60% -> 0 | H15: =G15*40% -> 0 | I15: =SUM(F15+H15) -> 0
B16: 12 | C16: ='DAFTAR SISWA'!B17 -> 1266 | D16: ='DAFTAR SISWA'!D17 -> Muhammad Jibril Al Hafidz | F16: =E16*60% -> 0 | H16: =G16*40% -> 0 | I16: =SUM(F16+H16) -> 0
B17: 13 | C17: ='DAFTAR SISWA'!B18 -> 1267 | D17: ='DAFTAR SISWA'!D18 -> Muhammad Khoirun Hanafi | F17: =E17*60% -> 0 | H17: =G17*40% -> 0 | I17: =SUM(F17+H17) -> 0
B18: 14 | C18: ='DAFTAR SISWA'!B19 -> 1269 | D18: ='DAFTAR SISWA'!D19 -> Nila Nafira | F18: =E18*60% -> 0 | H18: =G18*40% -> 0 | I18: =SUM(F18+H18) -> 0
... B24: 20 | C24: ='DAFTAR SISWA'!B25 -> 1241 | D24: ='DAFTAR SISWA'!D25 -> Rizal Hendriawan | F24: =E24*60% -> 0 | H24: =G24*40% -> 0 | I24: =SUM(F24+H24) -> 0
B25: 21 | C25: ='DAFTAR SISWA'!B26 -> 1274 | D25: ='DAFTAR SISWA'!D26 -> Robiyatul Adawiyah | E25: 100 | F25: =E25*60% -> 60 | G25: 50 | H25: =G25*40% -> 20 | I25: =SUM(F25+H25) -> 80
B26: 22 | C26: ='DAFTAR SISWA'!B27 -> 1275 | D26: ='DAFTAR SISWA'!D27 -> Safitri Ayu Wulandari | F26: =E26*60% -> 0 | H26: =G26*40% -> 0 | I26: =SUM(F26+H26) -> 0
B27: 23 | C27: ='DAFTAR SISWA'!B28 -> 1423 | D27: ='DAFTAR SISWA'!D28 -> Saira Rachman | F27: =E27*60% -> 0 | H27: =G27*40% -> 0 | I27: =SUM(F27+H27) -> 0
B28: 24 | C28: ='DAFTAR SISWA'!B29 -> 1244 | D28: ='DAFTAR SISWA'!D29 -> Sisca Indriani Harsari | F28: =E28*60% -> 0 | H28: =G28*40% -> 0 | I28: =SUM(F28+H28) -> 0
B29: 25 | C29: ='DAFTAR SISWA'!B30 -> 1249 | D29: ='DAFTAR SISWA'!D30 -> Zaidan Arley | F29: =E29*60% -> 0 | H29: =G29*40% -> 0 | I29: =SUM(F29+H29) -> 0
H30: =G30*40% -> 0 | I30: =SUM(F30+H30) -> 0
H31: =G31*40% -> 0 | I31: =SUM(F31+H31) -> 0
H32: =G32*40% -> 0 | I32: =SUM(F32+H32) -> 0
H33: =G33*40% -> 0 | I33: =SUM(F33+H33) -> 0
I34: =SUM(F34+H34) -> 0
I35: =SUM(F35+H35) -> 0
I36: =SUM(F36+H36) -> 0
I37: =SUM(F37+H37) -> 0
I38: =SUM(F38+H38) -> 0
I39: =SUM(F39+H39) -> 0
I40: =SUM(F40+H40) -> 0
I41: =SUM(F41+H41) -> 0

Sheet USPKN
B1: US PKN
B2: NO | C2: NO.INDUK | D2: NAMA | E2: Aspek Penilaian | I2: Nilai Total
E3: Pengetahuan | G3: Praktek
F4: 0.6 | H4: 0.4
B5: 1 | C5: ='DAFTAR SISWA'!B6 -> 1255 | D5: ='DAFTAR SISWA'!D6 -> Adya Woro Anggraeni | E5: 70 | F5: =E5*60% -> 42 | G5: 75 | H5: =G5*40% -> 30 | I5: =SUM(F5+H5) -> 72
B6: 2 | C6: ='DAFTAR SISWA'!B7 -> 1349 | D6: ='DAFTAR SISWA'!D7 -> Amanda Nikeisya Sudibyo | E6: 80 | F6: 50 | G6: 60 | H6: =G6*40% -> 24 | I6: =SUM(F6+H6) -> 74
B7: 3 | C7: ='DAFTAR SISWA'!B8 -> 1257 | D7: ='DAFTAR SISWA'!D8 -> Bimo Anggamahenda | F7: =E7*60% -> 0 | H7: =G7*40% -> 0 | I7: =SUM(F7+H7) -> 0
B8: 4 | C8: ='DAFTAR SISWA'!B9 -> 1258 | D8: ='DAFTAR SISWA'!D9 -> Bungah Rizki Rokhimah | F8: =E8*60% -> 0 | H8: =G8*40% -> 0 | I8: =SUM(F8+H8) -> 0
B9: 5 | C9: ='DAFTAR SISWA'!B10 -> 1259 | D9: ='DAFTAR SISWA'!D10 -> Enggar Megawantoro | F9: =E9*60% -> 0 | H9: =G9*40% -> 0 | I9: =SUM(F9+H9) -> 0
B10: 6 | C10: ='DAFTAR SISWA'!B11 -> 1260 | D10: ='DAFTAR SISWA'!D11 -> Firman Ainur Rahmad | F10: =E10*60% -> 0 | H10: =G10*40% -> 0 | I10: =SUM(F10+H10) -> 0
B11: 7 | C11: ='DAFTAR SISWA'!B12 -> 1263 | D11: ='DAFTAR SISWA'!D12 -> Indra Setyawan | F11: =E11*60% -> 0 | H11: =G11*40% -> 0 | I11: =SUM(F11+H11) -> 0
B12: 8 | C12: ='DAFTAR SISWA'!B13 -> 1311 | D12: ='DAFTAR SISWA'!D13 -> Ismi Nur Fadilah | F12: =E12*60% -> 0 | H12: =G12*40% -> 0 | I12: =SUM(F12+H12) -> 0
B13: 9 | C13: ='DAFTAR SISWA'!B14 -> 1264 | D13: ='DAFTAR SISWA'!D14 -> Jordan Ahmad Kautsar | F13: =E13*60% -> 0 | H13: =G13*40% -> 0 | I13: =SUM(F13+H13) -> 0
B14: 10 | C14: ='DAFTAR SISWA'!B15 -> 1351 | D14: ='DAFTAR SISWA'!D15 -> Kahfila Zahra Aulia | F14: =E14*60% -> 0 | H14: =G14*40% -> 0 | I14: =SUM(F14+H14) -> 0
B15: 11 | C15: ='DAFTAR SISWA'!B16 -> 1265 | D15: ='DAFTAR SISWA'!D16 -> Marvin Aditya Pratama | F15: =E15*60% -> 0 | H15: =G15*40% -> 0 | I15: =SUM(F15+H15) -> 0
B16: 12 | C16: ='DAFTAR SISWA'!B17 -> 1266 | D16: ='DAFTAR SISWA'!D17 -> Muhammad Jibril Al Hafidz | F16: =E16*60% -> 0 | H16: =G16*40% -> 0 | I16: =SUM(F16+H16) -> 0
B17: 13 | C17: ='DAFTAR SISWA'!B18 -> 1267 | D17: ='DAFTAR SISWA'!D18 -> Muhammad Khoirun Hanafi | F17: =E17*60% -> 0 | H17: =G17*40% -> 0 | I17: =SUM(F17+H17) -> 0
B18: 14 | C18: ='DAFTAR SISWA'!B19 -> 1269 | D18: ='DAFTAR SISWA'!D19 -> Nila Nafira | F18: =E18*60% -> 0 | H18: =G18*40% -> 0 | I18: =SUM(F18+H18) -> 0
... B24: 20 | C24: ='DAFTAR SISWA'!B25 -> 1241 | D24: ='DAFTAR SISWA'!D25 -> Rizal Hendriawan | F24: =E24*60% -> 0 | H24: =G24*40% -> 0 | I24: =SUM(F24+H24) -> 0
B25: 21 | C25: ='DAFTAR SISWA'!B26 -> 1274 | D25: ='DAFTAR SISWA'!D26 -> Robiyatul Adawiyah | E25: 100 | F25: =E25*60% -> 60 | G25: 50 | H25: =G25*40% -> 20 | I25: =SUM(F25+H25) -> 80
B26: 22 | C26: ='DAFTAR SISWA'!B27 -> 1275 | D26: ='DAFTAR SISWA'!D27 -> Safitri Ayu Wulandari | F26: =E26*60% -> 0 | H26: =G26*40% -> 0 | I26: =SUM(F26+H26) -> 0
B27: 23 | C27: ='DAFTAR SISWA'!B28 -> 1423 | D27: ='DAFTAR SISWA'!D28 -> Saira Rachman | F27: =E27*60% -> 0 | H27: =G27*40% -> 0 | I27: =SUM(F27+H27) -> 0
B28: 24 | C28: ='DAFTAR SISWA'!B29 -> 1244 | D28: ='DAFTAR SISWA'!D29 -> Sisca Indriani Harsari | F28: =E28*60% -> 0 | H28: =G28*40% -> 0 | I28: =SUM(F28+H28) -> 0
B29: 25 | C29: ='DAFTAR SISWA'!B30 -> 1249 | D29: ='DAFTAR SISWA'!D30 -> Zaidan Arley | F29: =E29*60% -> 0 | H29: =G29*40% -> 0 | I29: =SUM(F29+H29) -> 0
H30: =G30*40% -> 0 | I30: =SUM(F30+H30) -> 0
H31: =G31*40% -> 0 | I31: =SUM(F31+H31) -> 0
H32: =G32*40% -> 0 | I32: =SUM(F32+H32) -> 0
H33: =G33*40% -> 0 | I33: =SUM(F33+H33) -> 0
I34: =SUM(F34+H34) -> 0
I35: =SUM(F35+H35) -> 0
I36: =SUM(F36+H36) -> 0
I37: =SUM(F37+H37) -> 0
I38: =SUM(F38+H38) -> 0
I39: =SUM(F39+H39) -> 0
I40: =SUM(F40+H40) -> 0
I41: =SUM(F41+H41) -> 0

Sheet USB.IND
B1: US B.IND
B2: NO | C2: NO.INDUK | D2: NAMA | E2: Aspek Penilaian | I2: Nilai Total
E3: Pengetahuan | G3: Praktek
F4: 0.6 | H4: 0.4
B5: 1 | C5: ='DAFTAR SISWA'!B6 -> 1255 | D5: ='DAFTAR SISWA'!D6 -> Adya Woro Anggraeni | E5: 67 | F5: =E5*60% -> 40.2 | G5: 73 | H5: =G5*40% -> 29.2 | I5: =SUM(F5+H5) -> 69.4
B6: 2 | C6: ='DAFTAR SISWA'!B7 -> 1349 | D6: ='DAFTAR SISWA'!D7 -> Amanda Nikeisya Sudibyo | E6: 80 | F6: 50 | G6: 60 | H6: =G6*40% -> 24 | I6: =SUM(F6+H6) -> 74
B7: 3 | C7: ='DAFTAR SISWA'!B8 -> 1257 | D7: ='DAFTAR SISWA'!D8 -> Bimo Anggamahenda | F7: =E7*60% -> 0 | H7: =G7*40% -> 0 | I7: =SUM(F7+H7) -> 0
B8: 4 | C8: ='DAFTAR SISWA'!B9 -> 1258 | D8: ='DAFTAR SISWA'!D9 -> Bungah Rizki Rokhimah | F8: =E8*60% -> 0 | H8: =G8*40% -> 0 | I8: =SUM(F8+H8) -> 0
B9: 5 | C9: ='DAFTAR SISWA'!B10 -> 1259 | D9: ='DAFTAR SISWA'!D10 -> Enggar Megawantoro | F9: =E9*60% -> 0 | H9: =G9*40% -> 0 | I9: =SUM(F9+H9) -> 0
B10: 6 | C10: ='DAFTAR SISWA'!B11 -> 1260 | D10: ='DAFTAR SISWA'!D11 -> Firman Ainur Rahmad | F10: =E10*60% -> 0 | H10: =G10*40% -> 0 | I10: =SUM(F10+H10) -> 0
B11: 7 | C11: ='DAFTAR SISWA'!B12 -> 1263 | D11: ='DAFTAR SISWA'!D12 -> Indra Setyawan | F11: =E11*60% -> 0 | H11: =G11*40% -> 0 | I11: =SUM(F11+H11) -> 0
B12: 8 | C12: ='DAFTAR SISWA'!B13 -> 1311 | D12: ='DAFTAR SISWA'!D13 -> Ismi Nur Fadilah | F12: =E12*60% -> 0 | H12: =G12*40% -> 0 | I12: =SUM(F12+H12) -> 0
B13: 9 | C13: ='DAFTAR SISWA'!B14 -> 1264 | D13: ='DAFTAR SISWA'!D14 -> Jordan Ahmad Kautsar | F13: =E13*60% -> 0 | H13: =G13*40% -> 0 | I13: =SUM(F13+H13) -> 0
B14: 10 | C14: ='DAFTAR SISWA'!B15 -> 1351 | D14: ='DAFTAR SISWA'!D15 -> Kahfila Zahra Aulia | F14: =E14*60% -> 0 | H14: =G14*40% -> 0 | I14: =SUM(F14+H14) -> 0
B15: 11 | C15: ='DAFTAR SISWA'!B16 -> 1265 | D15: ='DAFTAR SISWA'!D16 -> Marvin Aditya Pratama | F15: =E15*60% -> 0 | H15: =G15*40% -> 0 | I15: =SUM(F15+H15) -> 0
B16: 12 | C16: ='DAFTAR SISWA'!B17 -> 1266 | D16: ='DAFTAR SISWA'!D17 -> Muhammad Jibril Al Hafidz | F16: =E16*60% -> 0 | H16: =G16*40% -> 0 | I16: =SUM(F16+H16) -> 0
B17: 13 | C17: ='DAFTAR SISWA'!B18 -> 1267 | D17: ='DAFTAR SISWA'!D18 -> Muhammad Khoirun Hanafi | F17: =E17*60% -> 0 | H17: =G17*40% -> 0 | I17: =SUM(F17+H17) -> 0
B18: 14 | C18: ='DAFTAR SISWA'!B19 -> 1269 | D18: ='DAFTAR SISWA'!D19 -> Nila Nafira | F18: =E18*60% -> 0 | H18: =G18*40% -> 0 | I18: =SUM(F18+H18) -> 0
... B24: 20 | C24: ='DAFTAR SISWA'!B25 -> 1241 | D24: ='DAFTAR SISWA'!D25 -> Rizal Hendriawan | F24: =E24*60% -> 0 | H24: =G24*40% -> 0 | I24: =SUM(F24+H24) -> 0
B25: 21 | C25: ='DAFTAR SISWA'!B26 -> 1274 | D25: ='DAFTAR SISWA'!D26 -> Robiyatul Adawiyah | E25: 100 | F25: =E25*60% -> 60 | G25: 50 | H25: =G25*40% -> 20 | I25: =SUM(F25+H25) -> 80
B26: 22 | C26: ='DAFTAR SISWA'!B27 -> 1275 | D26: ='DAFTAR SISWA'!D27 -> Safitri Ayu Wulandari | F26: =E26*60% -> 0 | H26: =G26*40% -> 0 | I26: =SUM(F26+H26) -> 0
B27: 23 | C27: ='DAFTAR SISWA'!B28 -> 1423 | D27: ='DAFTAR SISWA'!D28 -> Saira Rachman | F27: =E27*60% -> 0 | H27: =G27*40% -> 0 | I27: =SUM(F27+H27) -> 0
B28: 24 | C28: ='DAFTAR SISWA'!B29 -> 1244 | D28: ='DAFTAR SISWA'!D29 -> Sisca Indriani Harsari | F28: =E28*60% -> 0 | H28: =G28*40% -> 0 | I28: =SUM(F28+H28) -> 0
B29: 25 | C29: ='DAFTAR SISWA'!B30 -> 1249 | D29: ='DAFTAR SISWA'!D30 -> Zaidan Arley | F29: =E29*60% -> 0 | H29: =G29*40% -> 0 | I29: =SUM(F29+H29) -> 0
H30: =G30*40% -> 0 | I30: =SUM(F30+H30) -> 0
H31: =G31*40% -> 0 | I31: =SUM(F31+H31) -> 0
H32: =G32*40% -> 0 | I32: =SUM(F32+H32) -> 0
H33: =G33*40% -> 0 | I33: =SUM(F33+H33) -> 0
I34: =SUM(F34+H34) -> 0
I35: =SUM(F35+H35) -> 0
I36: =SUM(F36+H36) -> 0
I37: =SUM(F37+H37) -> 0
I38: =SUM(F38+H38) -> 0
I39: =SUM(F39+H39) -> 0
I40: =SUM(F40+H40) -> 0
I41: =SUM(F41+H41) -> 0

Sheet USMAT
B1: US MAT
B2: NO | C2: NO.INDUK | D2: NAMA | E2: Aspek Penilaian | I2: Nilai Total
E3: Pengetahuan | G3: Praktek
F4: 0.6 | H4: 0.4
B5: 1 | C5: ='DAFTAR SISWA'!B6 -> 1255 | D5: ='DAFTAR SISWA'!D6 -> Adya Woro Anggraeni | E5: 67 | F5: =E5*60% -> 40.2 | G5: 70 | H5: =G5*40% -> 28 | I5: =SUM(F5+H5) -> 68.2
B6: 2 | C6: ='DAFTAR SISWA'!B7 -> 1349 | D6: ='DAFTAR SISWA'!D7 -> Amanda Nikeisya Sudibyo | E6: 80 | F6: 50 | G6: 60 | H6: =G6*40% -> 24 | I6: =SUM(F6+H6) -> 74
B7: 3 | C7: ='DAFTAR SISWA'!B8 -> 1257 | D7: ='DAFTAR SISWA'!D8 -> Bimo Anggamahenda | F7: =E7*60% -> 0 | H7: =G7*40% -> 0 | I7: =SUM(F7+H7) -> 0
B8: 4 | C8: ='DAFTAR SISWA'!B9 -> 1258 | D8: ='DAFTAR SISWA'!D9 -> Bungah Rizki Rokhimah | F8: =E8*60% -> 0 | H8: =G8*40% -> 0 | I8: =SUM(F8+H8) -> 0
B9: 5 | C9: ='DAFTAR SISWA'!B10 -> 1259 | D9: ='DAFTAR SISWA'!D10 -> Enggar Megawantoro | F9: =E9*60% -> 0 | H9: =G9*40% -> 0 | I9: =SUM(F9+H9) -> 0
B10: 6 | C10: ='DAFTAR SISWA'!B11 -> 1260 | D10: ='DAFTAR SISWA'!D11 -> Firman Ainur Rahmad | F10: =E10*60% -> 0 | H10: =G10*40% -> 0 | I10: =SUM(F10+H10) -> 0
B11: 7 | C11: ='DAFTAR SISWA'!B12 -> 1263 | D11: ='DAFTAR SISWA'!D12 -> Indra Setyawan | F11: =E11*60% -> 0 | H11: =G11*40% -> 0 | I11: =SUM(F11+H11) -> 0
B12: 8 | C12: ='DAFTAR SISWA'!B13 -> 1311 | D12: ='DAFTAR SISWA'!D13 -> Ismi Nur Fadilah | F12: =E12*60% -> 0 | H12: =G12*40% -> 0 | I12: =SUM(F12+H12) -> 0
B13: 9 | C13: ='DAFTAR SISWA'!B14 -> 1264 | D13: ='DAFTAR SISWA'!D14 -> Jordan Ahmad Kautsar | F13: =E13*60% -> 0 | H13: =G13*40% -> 0 | I13: =SUM(F13+H13) -> 0
B14: 10 | C14: ='DAFTAR SISWA'!B15 -> 1351 | D14: ='DAFTAR SISWA'!D15 -> Kahfila Zahra Aulia | F14: =E14*60% -> 0 | H14: =G14*40% -> 0 | I14: =SUM(F14+H14) -> 0
B15: 11 | C15: ='DAFTAR SISWA'!B16 -> 1265 | D15: ='DAFTAR SISWA'!D16 -> Marvin Aditya Pratama | F15: =E15*60% -> 0 | H15: =G15*40% -> 0 | I15: =SUM(F15+H15) -> 0
B16: 12 | C16: ='DAFTAR SISWA'!B17 -> 1266 | D16: ='DAFTAR SISWA'!D17 -> Muhammad Jibril Al Hafidz | F16: =E16*60% -> 0 | H16: =G16*40% -> 0 | I16: =SUM(F16+H16) -> 0
B17: 13 | C17: ='DAFTAR SISWA'!B18 -> 1267 | D17: ='DAFTAR SISWA'!D18 -> Muhammad Khoirun Hanafi | F17: =E17*60% -> 0 | H17: =G17*40% -> 0 | I17: =SUM(F17+H17) -> 0
B18: 14 | C18: ='DAFTAR SISWA'!B19 -> 1269 | D18: ='DAFTAR SISWA'!D19 -> Nila Nafira | F18: =E18*60% -> 0 | H18: =G18*40% -> 0 | I18: =SUM(F18+H18) -> 0
... B24: 20 | C24: ='DAFTAR SISWA'!B25 -> 1241 | D24: ='DAFTAR SISWA'!D25 -> Rizal Hendriawan | F24: =E24*60% -> 0 | H24: =G24*40% -> 0 | I24: =SUM(F24+H24) -> 0
B25: 21 | C25: ='DAFTAR SISWA'!B26 -> 1274 | D25: ='DAFTAR SISWA'!D26 -> Robiyatul Adawiyah | E25: 100 | F25: =E25*60% -> 60 | G25: 50 | H25: =G25*40% -> 20 | I25: =SUM(F25+H25) -> 80
B26: 22 | C26: ='DAFTAR SISWA'!B27 -> 1275 | D26: ='DAFTAR SISWA'!D27 -> Safitri Ayu Wulandari | F26: =E26*60% -> 0 | H26: =G26*40% -> 0 | I26: =SUM(F26+H26) -> 0
B27: 23 | C27: ='DAFTAR SISWA'!B28 -> 1423 | D27: ='DAFTAR SISWA'!D28 -> Saira Rachman | F27: =E27*60% -> 0 | H27: =G27*40% -> 0 | I27: =SUM(F27+H27) -> 0
B28: 24 | C28: ='DAFTAR SISWA'!B29 -> 1244 | D28: ='DAFTAR SISWA'!D29 -> Sisca Indriani Harsari | F28: =E28*60% -> 0 | H28: =G28*40% -> 0 | I28: =SUM(F28+H28) -> 0
B29: 25 | C29: ='DAFTAR SISWA'!B30 -> 1249 | D29: ='DAFTAR SISWA'!D30 -> Zaidan Arley | F29: =E29*60% -> 0 | H29: =G29*40% -> 0 | I29: =SUM(F29+H29) -> 0
H30: =G30*40% -> 0 | I30: =SUM(F30+H30) -> 0
H31: =G31*40% -> 0 | I31: =SUM(F31+H31) -> 0
H32: =G32*40% -> 0 | I32: =SUM(F32+H32) -> 0
H33: =G33*40% -> 0 | I33: =SUM(F33+H33) -> 0
I34: =SUM(F34+H34) -> 0
I35: =SUM(F35+H35) -> 0
I36: =SUM(F36+H36) -> 0
I37: =SUM(F37+H37) -> 0
I38: =SUM(F38+H38) -> 0
I39: =SUM(F39+H39) -> 0
I40: =SUM(F40+H40) -> 0
I41: =SUM(F41+H41) -> 0

Sheet USIPA
B1: US IPA
B2: NO | C2: NO.INDUK | D2: NAMA | E2: Aspek Penilaian | I2: Nilai Total
E3: Pengetahuan | G3: Praktek
F4: 0.6 | H4: 0.4
B5: 1 | C5: ='DAFTAR SISWA'!B6 -> 1255 | D5: ='DAFTAR SISWA'!D6 -> Adya Woro Anggraeni | E5: 70 | F5: =E5*60% -> 42 | G5: 70 | H5: =G5*40% -> 28 | I5: =SUM(F5+H5) -> 70
B6: 2 | C6: ='DAFTAR SISWA'!B7 -> 1349 | D6: ='DAFTAR SISWA'!D7 -> Amanda Nikeisya Sudibyo | E6: 80 | F6: 50 | G6: 60 | H6: =G6*40% -> 24 | I6: =SUM(F6+H6) -> 74
B7: 3 | C7: ='DAFTAR SISWA'!B8 -> 1257 | D7: ='DAFTAR SISWA'!D8 -> Bimo Anggamahenda | F7: =E7*60% -> 0 | H7: =G7*40% -> 0 | I7: =SUM(F7+H7) -> 0
B8: 4 | C8: ='DAFTAR SISWA'!B9 -> 1258 | D8: ='DAFTAR SISWA'!D9 -> Bungah Rizki Rokhimah | F8: =E8*60% -> 0 | H8: =G8*40% -> 0 | I8: =SUM(F8+H8) -> 0
B9: 5 | C9: ='DAFTAR SISWA'!B10 -> 1259 | D9: ='DAFTAR SISWA'!D10 -> Enggar Megawantoro | F9: =E9*60% -> 0 | H9: =G9*40% -> 0 | I9: =SUM(F9+H9) -> 0
B10: 6 | C10: ='DAFTAR SISWA'!B11 -> 1260 | D10: ='DAFTAR SISWA'!D11 -> Firman Ainur Rahmad | F10: =E10*60% -> 0 | H10: =G10*40% -> 0 | I10: =SUM(F10+H10) -> 0
B11: 7 | C11: ='DAFTAR SISWA'!B12 -> 1263 | D11: ='DAFTAR SISWA'!D12 -> Indra Setyawan | F11: =E11*60% -> 0 | H11: =G11*40% -> 0 | I11: =SUM(F11+H11) -> 0
B12: 8 | C12: ='DAFTAR SISWA'!B13 -> 1311 | D12: ='DAFTAR SISWA'!D13 -> Ismi Nur Fadilah | F12: =E12*60% -> 0 | H12: =G12*40% -> 0 | I12: =SUM(F12+H12) -> 0
B13: 9 | C13: ='DAFTAR SISWA'!B14 -> 1264 | D13: ='DAFTAR SISWA'!D14 -> Jordan Ahmad Kautsar | F13: =E13*60% -> 0 | H13: =G13*40% -> 0 | I13: =SUM(F13+H13) -> 0
B14: 10 | C14: ='DAFTAR SISWA'!B15 -> 1351 | D14: ='DAFTAR SISWA'!D15 -> Kahfila Zahra Aulia | F14: =E14*60% -> 0 | H14: =G14*40% -> 0 | I14: =SUM(F14+H14) -> 0
B15: 11 | C15: ='DAFTAR SISWA'!B16 -> 1265 | D15: ='DAFTAR SISWA'!D16 -> Marvin Aditya Pratama | F15: =E15*60% -> 0 | H15: =G15*40% -> 0 | I15: =SUM(F15+H15) -> 0
B16: 12 | C16: ='DAFTAR SISWA'!B17 -> 1266 | D16: ='DAFTAR SISWA'!D17 -> Muhammad Jibril Al Hafidz | F16: =E16*60% -> 0 | H16: =G16*40% -> 0 | I16: =SUM(F16+H16) -> 0
B17: 13 | C17: ='DAFTAR SISWA'!B18 -> 1267 | D17: ='DAFTAR SISWA'!D18 -> Muhammad Khoirun Hanafi | F17: =E17*60% -> 0 | H17: =G17*40% -> 0 | I17: =SUM(F17+H17) -> 0
B18: 14 | C18: ='DAFTAR SISWA'!B19 -> 1269 | D18: ='DAFTAR SISWA'!D19 -> Nila Nafira | F18: =E18*60% -> 0 | H18: =G18*40% -> 0 | I18: =SUM(F18+H18) -> 0
... B24: 20 | C24: ='DAFTAR SISWA'!B25 -> 1241 | D24: ='DAFTAR SISWA'!D25 -> Rizal Hendriawan | F24: =E24*60% -> 0 | H24: =G24*40% -> 0 | I24: =SUM(F24+H24) -> 0
B25: 21 | C25: ='DAFTAR SISWA'!B26 -> 1274 | D25: ='DAFTAR SISWA'!D26 -> Robiyatul Adawiyah | E25: 100 | F25: =E25*60% -> 60 | G25: 50 | H25: =G25*40% -> 20 | I25: =SUM(F25+H25) -> 80
B26: 22 | C26: ='DAFTAR SISWA'!B27 -> 1275 | D26: ='DAFTAR SISWA'!D27 -> Safitri Ayu Wulandari | F26: =E26*60% -> 0 | H26: =G26*40% -> 0 | I26: =SUM(F26+H26) -> 0
B27: 23 | C27: ='DAFTAR SISWA'!B28 -> 1423 | D27: ='DAFTAR SISWA'!D28 -> Saira Rachman | F27: =E27*60% -> 0 | H27: =G27*40% -> 0 | I27: =SUM(F27+H27) -> 0
B28: 24 | C28: ='DAFTAR SISWA'!B29 -> 1244 | D28: ='DAFTAR SISWA'!D29 -> Sisca Indriani Harsari | F28: =E28*60% -> 0 | H28: =G28*40% -> 0 | I28: =SUM(F28+H28) -> 0
B29: 25 | C29: ='DAFTAR SISWA'!B30 -> 1249 | D29: ='DAFTAR SISWA'!D30 -> Zaidan Arley | F29: =E29*60% -> 0 | H29: =G29*40% -> 0 | I29: =SUM(F29+H29) -> 0
H30: =G30*40% -> 0 | I30: =SUM(F30+H30) -> 0
H31: =G31*40% -> 0 | I31: =SUM(F31+H31) -> 0
H32: =G32*40% -> 0 | I32: =SUM(F32+H32) -> 0
H33: =G33*40% -> 0 | I33: =SUM(F33+H33) -> 0
I34: =SUM(F34+H34) -> 0
I35: =SUM(F35+H35) -> 0
I36: =SUM(F36+H36) -> 0
I37: =SUM(F37+H37) -> 0
I38: =SUM(F38+H38) -> 0
I39: =SUM(F39+H39) -> 0
I40: =SUM(F40+H40) -> 0
I41: =SUM(F41+H41) -> 0

Sheet USIPS
B1: US IPS
B2: NO | C2: NO.INDUK | D2: NAMA | E2: Aspek Penilaian | I2: Nilai Total
E3: Pengetahuan | G3: Praktek
F4: 0.6 | H4: 0.4
B5: 1 | C5: ='DAFTAR SISWA'!B6 -> 1255 | D5: ='DAFTAR SISWA'!D6 -> Adya Woro Anggraeni | E5: 75 | F5: =E5*60% -> 45 | G5: 75 | H5: =G5*40% -> 30 | I5: =SUM(F5+H5) -> 75
B6: 2 | C6: ='DAFTAR SISWA'!B7 -> 1349 | D6: ='DAFTAR SISWA'!D7 -> Amanda Nikeisya Sudibyo | E6: 80 | F6: 50 | G6: 60 | H6: =G6*40% -> 24 | I6: =SUM(F6+H6) -> 74
B7: 3 | C7: ='DAFTAR SISWA'!B8 -> 1257 | D7: ='DAFTAR SISWA'!D8 -> Bimo Anggamahenda | F7: =E7*60% -> 0 | H7: =G7*40% -> 0 | I7: =SUM(F7+H7) -> 0
B8: 4 | C8: ='DAFTAR SISWA'!B9 -> 1258 | D8: ='DAFTAR SISWA'!D9 -> Bungah Rizki Rokhimah | F8: =E8*60% -> 0 | H8: =G8*40% -> 0 | I8: =SUM(F8+H8) -> 0
B9: 5 | C9: ='DAFTAR SISWA'!B10 -> 1259 | D9: ='DAFTAR SISWA'!D10 -> Enggar Megawantoro | F9: =E9*60% -> 0 | H9: =G9*40% -> 0 | I9: =SUM(F9+H9) -> 0
B10: 6 | C10: ='DAFTAR SISWA'!B11 -> 1260 | D10: ='DAFTAR SISWA'!D11 -> Firman Ainur Rahmad | F10: =E10*60% -> 0 | H10: =G10*40% -> 0 | I10: =SUM(F10+H10) -> 0
B11: 7 | C11: ='DAFTAR SISWA'!B12 -> 1263 | D11: ='DAFTAR SISWA'!D12 -> Indra Setyawan | F11: =E11*60% -> 0 | H11: =G11*40% -> 0 | I11: =SUM(F11+H11) -> 0
B12: 8 | C12: ='DAFTAR SISWA'!B13 -> 1311 | D12: ='DAFTAR SISWA'!D13 -> Ismi Nur Fadilah | F12: =E12*60% -> 0 | H12: =G12*40% -> 0 | I12: =SUM(F12+H12) -> 0
B13: 9 | C13: ='DAFTAR SISWA'!B14 -> 1264 | D13: ='DAFTAR SISWA'!D14 -> Jordan Ahmad Kautsar | F13: =E13*60% -> 0 | H13: =G13*40% -> 0 | I13: =SUM(F13+H13) -> 0
B14: 10 | C14: ='DAFTAR SISWA'!B15 -> 1351 | D14: ='DAFTAR SISWA'!D15 -> Kahfila Zahra Aulia | F14: =E14*60% -> 0 | H14: =G14*40% -> 0 | I14: =SUM(F14+H14) -> 0
B15: 11 | C15: ='DAFTAR SISWA'!B16 -> 1265 | D15: ='DAFTAR SISWA'!D16 -> Marvin Aditya Pratama | F15: =E15*60% -> 0 | H15: =G15*40% -> 0 | I15: =SUM(F15+H15) -> 0
B16: 12 | C16: ='DAFTAR SISWA'!B17 -> 1266 | D16: ='DAFTAR SISWA'!D17 -> Muhammad Jibril Al Hafidz | F16: =E16*60% -> 0 | H16: =G16*40% -> 0 | I16: =SUM(F16+H16) -> 0
B17: 13 | C17: ='DAFTAR SISWA'!B18 -> 1267 | D17: ='DAFTAR SISWA'!D18 -> Muhammad Khoirun Hanafi | F17: =E17*60% -> 0 | H17: =G17*40% -> 0 | I17: =SUM(F17+H17) -> 0
B18: 14 | C18: ='DAFTAR SISWA'!B19 -> 1269 | D18: ='DAFTAR SISWA'!D19 -> Nila Nafira | F18: =E18*60% -> 0 | H18: =G18*40% -> 0 | I18: =SUM(F18+H18) -> 0
... B24: 20 | C24: ='DAFTAR SISWA'!B25 -> 1241 | D24: ='DAFTAR SISWA'!D25 -> Rizal Hendriawan | F24: =E24*60% -> 0 | H24: =G24*40% -> 0 | I24: =SUM(F24+H24) -> 0
B25: 21 | C25: ='DAFTAR SISWA'!B26 -> 1274 | D25: ='DAFTAR SISWA'!D26 -> Robiyatul Adawiyah | E25: 100 | F25: =E25*60% -> 60 | G25: 50 | H25: =G25*40% -> 20 | I25: =SUM(F25+H25) -> 80
B26: 22 | C26: ='DAFTAR SISWA'!B27 -> 1275 | D26: ='DAFTAR SISWA'!D27 -> Safitri Ayu Wulandari | F26: =E26*60% -> 0 | H26: =G26*40% -> 0 | I26: =SUM(F26+H26) -> 0
B27: 23 | C27: ='DAFTAR SISWA'!B28 -> 1423 | D27: ='DAFTAR SISWA'!D28 -> Saira Rachman | F27: =E27*60% -> 0 | H27: =G27*40% -> 0 | I27: =SUM(F27+H27) -> 0
B28: 24 | C28: ='DAFTAR SISWA'!B29 -> 1244 | D28: ='DAFTAR SISWA'!D29 -> Sisca Indriani Harsari | F28: =E28*60% -> 0 | H28: =G28*40% -> 0 | I28: =SUM(F28+H28) -> 0
B29: 25 | C29: ='DAFTAR SISWA'!B30 -> 1249 | D29: ='DAFTAR SISWA'!D30 -> Zaidan Arley | F29: =E29*60% -> 0 | H29: =G29*40% -> 0 | I29: =SUM(F29+H29) -> 0
H30: =G30*40% -> 0 | I30: =SUM(F30+H30) -> 0
H31: =G31*40% -> 0 | I31: =SUM(F31+H31) -> 0
H32: =G32*40% -> 0 | I32: =SUM(F32+H32) -> 0
H33: =G33*40% -> 0 | I33: =SUM(F33+H33) -> 0
I34: =SUM(F34+H34) -> 0
I35: =SUM(F35+H35) -> 0
I36: =SUM(F36+H36) -> 0
I37: =SUM(F37+H37) -> 0
I38: =SUM(F38+H38) -> 0
I39: =SUM(F39+H39) -> 0
I40: =SUM(F40+H40) -> 0
I41: =SUM(F41+H41) -> 0

Sheet USSBDP
B1: US SBDP
B2: NO | C2: NO.INDUK | D2: NAMA | E2: Aspek Penilaian | I2: Nilai Total
E3: Pengetahuan | G3: Praktek
F4: 0.6 | H4: 0.4
B5: 1 | C5: ='DAFTAR SISWA'!B6 -> 1255 | D5: ='DAFTAR SISWA'!D6 -> Adya Woro Anggraeni | E5: 75 | F5: =E5*60% -> 45 | G5: 75 | H5: =G5*40% -> 30 | I5: =SUM(F5+H5) -> 75
B6: 2 | C6: ='DAFTAR SISWA'!B7 -> 1349 | D6: ='DAFTAR SISWA'!D7 -> Amanda Nikeisya Sudibyo | E6: 80 | F6: 50 | G6: 60 | H6: =G6*40% -> 24 | I6: =SUM(F6+H6) -> 74
B7: 3 | C7: ='DAFTAR SISWA'!B8 -> 1257 | D7: ='DAFTAR SISWA'!D8 -> Bimo Anggamahenda | F7: =E7*60% -> 0 | H7: =G7*40% -> 0 | I7: =SUM(F7+H7) -> 0
B8: 4 | C8: ='DAFTAR SISWA'!B9 -> 1258 | D8: ='DAFTAR SISWA'!D9 -> Bungah Rizki Rokhimah | F8: =E8*60% -> 0 | H8: =G8*40% -> 0 | I8: =SUM(F8+H8) -> 0
B9: 5 | C9: ='DAFTAR SISWA'!B10 -> 1259 | D9: ='DAFTAR SISWA'!D10 -> Enggar Megawantoro | F9: =E9*60% -> 0 | H9: =G9*40% -> 0 | I9: =SUM(F9+H9) -> 0
B10: 6 | C10: ='DAFTAR SISWA'!B11 -> 1260 | D10: ='DAFTAR SISWA'!D11 -> Firman Ainur Rahmad | F10: =E10*60% -> 0 | H10: =G10*40% -> 0 | I10: =SUM(F10+H10) -> 0
B11: 7 | C11: ='DAFTAR SISWA'!B12 -> 1263 | D11: ='DAFTAR SISWA'!D12 -> Indra Setyawan | F11: =E11*60% -> 0 | H11: =G11*40% -> 0 | I11: =SUM(F11+H11) -> 0
B12: 8 | C12: ='DAFTAR SISWA'!B13 -> 1311 | D12: ='DAFTAR SISWA'!D13 -> Ismi Nur Fadilah | F12: =E12*60% -> 0 | H12: =G12*40% -> 0 | I12: =SUM(F12+H12) -> 0
B13: 9 | C13: ='DAFTAR SISWA'!B14 -> 1264 | D13: ='DAFTAR SISWA'!D14 -> Jordan Ahmad Kautsar | F13: =E13*60% -> 0 | H13: =G13*40% -> 0 | I13: =SUM(F13+H13) -> 0
B14: 10 | C14: ='DAFTAR SISWA'!B15 -> 1351 | D14: ='DAFTAR SISWA'!D15 -> Kahfila Zahra Aulia | F14: =E14*60% -> 0 | H14: =G14*40% -> 0 | I14: =SUM(F14+H14) -> 0
B15: 11 | C15: ='DAFTAR SISWA'!B16 -> 1265 | D15: ='DAFTAR SISWA'!D16 -> Marvin Aditya Pratama | F15: =E15*60% -> 0 | H15: =G15*40% -> 0 | I15: =SUM(F15+H15) -> 0
B16: 12 | C16: ='DAFTAR SISWA'!B17 -> 1266 | D16: ='DAFTAR SISWA'!D17 -> Muhammad Jibril Al Hafidz | F16: =E16*60% -> 0 | H16: =G16*40% -> 0 | I16: =SUM(F16+H16) -> 0
B17: 13 | C17: ='DAFTAR SISWA'!B18 -> 1267 | D17: ='DAFTAR SISWA'!D18 -> Muhammad Khoirun Hanafi | F17: =E17*60% -> 0 | H17: =G17*40% -> 0 | I17: =SUM(F17+H17) -> 0
B18: 14 | C18: ='DAFTAR SISWA'!B19 -> 1269 | D18: ='DAFTAR SISWA'!D19 -> Nila Nafira | F18: =E18*60% -> 0 | H18: =G18*40% -> 0 | I18: =SUM(F18+H18) -> 0
... B24: 20 | C24: ='DAFTAR SISWA'!B25 -> 1241 | D24: ='DAFTAR SISWA'!D25 -> Rizal Hendriawan | F24: =E24*60% -> 0 | H24: =G24*40% -> 0 | I24: =SUM(F24+H24) -> 0
B25: 21 | C25: ='DAFTAR SISWA'!B26 -> 1274 | D25: ='DAFTAR SISWA'!D26 -> Robiyatul Adawiyah | E25: 100 | F25: =E25*60% -> 60 | G25: 50 | H25: =G25*40% -> 20 | I25: =SUM(F25+H25) -> 80
B26: 22 | C26: ='DAFTAR SISWA'!B27 -> 1275 | D26: ='DAFTAR SISWA'!D27 -> Safitri Ayu Wulandari | F26: =E26*60% -> 0 | H26: =G26*40% -> 0 | I26: =SUM(F26+H26) -> 0
B27: 23 | C27: ='DAFTAR SISWA'!B28 -> 1423 | D27: ='DAFTAR SISWA'!D28 -> Saira Rachman | F27: =E27*60% -> 0 | H27: =G27*40% -> 0 | I27: =SUM(F27+H27) -> 0
B28: 24 | C28: ='DAFTAR SISWA'!B29 -> 1244 | D28: ='DAFTAR SISWA'!D29 -> Sisca Indriani Harsari | F28: =E28*60% -> 0 | H28: =G28*40% -> 0 | I28: =SUM(F28+H28) -> 0
B29: 25 | C29: ='DAFTAR SISWA'!B30 -> 1249 | D29: ='DAFTAR SISWA'!D30 -> Zaidan Arley | F29: =E29*60% -> 0 | H29: =G29*40% -> 0 | I29: =SUM(F29+H29) -> 0
H30: =G30*40% -> 0 | I30: =SUM(F30+H30) -> 0
H31: =G31*40% -> 0 | I31: =SUM(F31+H31) -> 0
H32: =G32*40% -> 0 | I32: =SUM(F32+H32) -> 0
H33: =G33*40% -> 0 | I33: =SUM(F33+H33) -> 0
I34: =SUM(F34+H34) -> 0
I35: =SUM(F35+H35) -> 0
I36: =SUM(F36+H36) -> 0
I37: =SUM(F37+H37) -> 0
I38: =SUM(F38+H38) -> 0
I39: =SUM(F39+H39) -> 0
I40: =SUM(F40+H40) -> 0
I41: =SUM(F41+H41) -> 0

Sheet USPJOK
B1: US PJOK
B2: NO | C2: NO.INDUK | D2: NAMA | E2: Aspek Penilaian | I2: Nilai Total
E3: Pengetahuan | G3: Praktek
F4: 0.6 | H4: 0.4
B5: 1 | C5: ='DAFTAR SISWA'!B6 -> 1255 | D5: ='DAFTAR SISWA'!D6 -> Adya Woro Anggraeni | E5: 70 | F5: =E5*60% -> 42 | G5: 80 | H5: =G5*40% -> 32 | I5: =SUM(F5+H5) -> 74
B6: 2 | C6: ='DAFTAR SISWA'!B7 -> 1349 | D6: ='DAFTAR SISWA'!D7 -> Amanda Nikeisya Sudibyo | E6: 80 | F6: 50 | G6: 60 | H6: =G6*40% -> 24 | I6: =SUM(F6+H6) -> 74
B7: 3 | C7: ='DAFTAR SISWA'!B8 -> 1257 | D7: ='DAFTAR SISWA'!D8 -> Bimo Anggamahenda | F7: =E7*60% -> 0 | H7: =G7*40% -> 0 | I7: =SUM(F7+H7) -> 0
B8: 4 | C8: ='DAFTAR SISWA'!B9 -> 1258 | D8: ='DAFTAR SISWA'!D9 -> Bungah Rizki Rokhimah | E8: 70 | F8: =E8*60% -> 42 | G8: 65 | H8: =G8*40% -> 26 | I8: =SUM(F8+H8) -> 68
B9: 5 | C9: ='DAFTAR SISWA'!B10 -> 1259 | D9: ='DAFTAR SISWA'!D10 -> Enggar Megawantoro | F9: =E9*60% -> 0 | H9: =G9*40% -> 0 | I9: =SUM(F9+H9) -> 0
B10: 6 | C10: ='DAFTAR SISWA'!B11 -> 1260 | D10: ='DAFTAR SISWA'!D11 -> Firman Ainur Rahmad | F10: =E10*60% -> 0 | H10: =G10*40% -> 0 | I10: =SUM(F10+H10) -> 0
B11: 7 | C11: ='DAFTAR SISWA'!B12 -> 1263 | D11: ='DAFTAR SISWA'!D12 -> Indra Setyawan | F11: =E11*60% -> 0 | H11: =G11*40% -> 0 | I11: =SUM(F11+H11) -> 0
B12: 8 | C12: ='DAFTAR SISWA'!B13 -> 1311 | D12: ='DAFTAR SISWA'!D13 -> Ismi Nur Fadilah | F12: =E12*60% -> 0 | H12: =G12*40% -> 0 | I12: =SUM(F12+H12) -> 0
B13: 9 | C13: ='DAFTAR SISWA'!B14 -> 1264 | D13: ='DAFTAR SISWA'!D14 -> Jordan Ahmad Kautsar | F13: =E13*60% -> 0 | H13: =G13*40% -> 0 | I13: =SUM(F13+H13) -> 0
B14: 10 | C14: ='DAFTAR SISWA'!B15 -> 1351 | D14: ='DAFTAR SISWA'!D15 -> Kahfila Zahra Aulia | F14: =E14*60% -> 0 | H14: =G14*40% -> 0 | I14: =SUM(F14+H14) -> 0
B15: 11 | C15: ='DAFTAR SISWA'!B16 -> 1265 | D15: ='DAFTAR SISWA'!D16 -> Marvin Aditya Pratama | F15: =E15*60% -> 0 | H15: =G15*40% -> 0 | I15: =SUM(F15+H15) -> 0
B16: 12 | C16: ='DAFTAR SISWA'!B17 -> 1266 | D16: ='DAFTAR SISWA'!D17 -> Muhammad Jibril Al Hafidz | F16: =E16*60% -> 0 | H16: =G16*40% -> 0 | I16: =SUM(F16+H16) -> 0
B17: 13 | C17: ='DAFTAR SISWA'!B18 -> 1267 | D17: ='DAFTAR SISWA'!D18 -> Muhammad Khoirun Hanafi | F17: =E17*60% -> 0 | H17: =G17*40% -> 0 | I17: =SUM(F17+H17) -> 0
B18: 14 | C18: ='DAFTAR SISWA'!B19 -> 1269 | D18: ='DAFTAR SISWA'!D19 -> Nila Nafira | F18: =E18*60% -> 0 | H18: =G18*40% -> 0 | I18: =SUM(F18+H18) -> 0
B19: 15 | C19: ='DAFTAR SISWA'!B20 -> 1389 | D19: ='DAFTAR SISWA'!D20 -> Oktavia Vivi Novita | F19: =E19*60% -> 0 | H19: =G19*40% -> 0 | I19: =SUM(F19+H19) -> 0
B20: 16 | C20: ='DAFTAR SISWA'!B21 -> 1270 | D20: ='DAFTAR SISWA'!D21 -> Patricia Chiquitita | F20: =E20*60% -> 0 | H20: =G20*40% -> 0 | I20: =SUM(F20+H20) -> 0
... B24: 20 | C24: ='DAFTAR SISWA'!B25 -> 1241 | D24: ='DAFTAR SISWA'!D25 -> Rizal Hendriawan | F24: =E24*60% -> 0 | H24: =G24*40% -> 0 | I24: =SUM(F24+H24) -> 0
B25: 21 | C25: ='DAFTAR SISWA'!B26 -> 1274 | D25: ='DAFTAR SISWA'!D26 -> Robiyatul Adawiyah | E25: 100 | F25: =E25*60% -> 60 | G25: 50 | H25: =G25*40% -> 20 | I25: =SUM(F25+H25) -> 80
B26: 22 | C26: ='DAFTAR SISWA'!B27 -> 1275 | D26: ='DAFTAR SISWA'!D27 -> Safitri Ayu Wulandari | F26: =E26*60% -> 0 | H26: =G26*40% -> 0 | I26: =SUM(F26+H26) -> 0
B27: 23 | C27: ='DAFTAR SISWA'!B28 -> 1423 | D27: ='DAFTAR SISWA'!D28 -> Saira Rachman | F27: =E27*60% -> 0 | H27: =G27*40% -> 0 | I27: =SUM(F27+H27) -> 0
B28: 24 | C28: ='DAFTAR SISWA'!B29 -> 1244 | D28: ='DAFTAR SISWA'!D29 -> Sisca Indriani Harsari | F28: =E28*60% -> 0 | H28: =G28*40% -> 0 | I28: =SUM(F28+H28) -> 0
B29: 25 | C29: ='DAFTAR SISWA'!B30 -> 1249 | D29: ='DAFTAR SISWA'!D30 -> Zaidan Arley | F29: =E29*60% -> 0 | H29: =G29*40% -> 0 | I29: =SUM(F29+H29) -> 0
H30: =G30*40% -> 0 | I30: =SUM(F30+H30) -> 0
H31: =G31*40% -> 0 | I31: =SUM(F31+H31) -> 0
H32: =G32*40% -> 0 | I32: =SUM(F32+H32) -> 0
H33: =G33*40% -> 0 | I33: =SUM(F33+H33) -> 0
I34: =SUM(F34+H34) -> 0
I35: =SUM(F35+H35) -> 0
I36: =SUM(F36+H36) -> 0
I37: =SUM(F37+H37) -> 0
I38: =SUM(F38+H38) -> 0
I39: =SUM(F39+H39) -> 0
I40: =SUM(F40+H40) -> 0
I41: =SUM(F41+H41) -> 0

Sheet USMULOK1
B1: US B.JAWA
B2: NO | C2: NO.INDUK | D2: NAMA | E2: Aspek Penilaian | I2: Nilai Total
E3: Pengetahuan | G3: Praktek
F4: 0.6 | H4: 0.4
B5: 1 | C5: ='DAFTAR SISWA'!B6 -> 1255 | D5: ='DAFTAR SISWA'!D6 -> Adya Woro Anggraeni | E5: 78 | F5: =E5*60% -> 46.8 | G5: 80 | H5: =G5*40% -> 32 | I5: =SUM(F5+H5) -> 78.8
B6: 2 | C6: ='DAFTAR SISWA'!B7 -> 1349 | D6: ='DAFTAR SISWA'!D7 -> Amanda Nikeisya Sudibyo | E6: 80 | F6: 50 | G6: 60 | H6: =G6*40% -> 24 | I6: =SUM(F6+H6) -> 74
B7: 3 | C7: ='DAFTAR SISWA'!B8 -> 1257 | D7: ='DAFTAR SISWA'!D8 -> Bimo Anggamahenda | F7: =E7*60% -> 0 | H7: =G7*40% -> 0 | I7: =SUM(F7+H7) -> 0
B8: 4 | C8: ='DAFTAR SISWA'!B9 -> 1258 | D8: ='DAFTAR SISWA'!D9 -> Bungah Rizki Rokhimah | E8: 70 | F8: =E8*60% -> 42 | G8: 65 | H8: =G8*40% -> 26 | I8: =SUM(F8+H8) -> 68
B9: 5 | C9: ='DAFTAR SISWA'!B10 -> 1259 | D9: ='DAFTAR SISWA'!D10 -> Enggar Megawantoro | F9: =E9*60% -> 0 | H9: =G9*40% -> 0 | I9: =SUM(F9+H9) -> 0
B10: 6 | C10: ='DAFTAR SISWA'!B11 -> 1260 | D10: ='DAFTAR SISWA'!D11 -> Firman Ainur Rahmad | F10: =E10*60% -> 0 | H10: =G10*40% -> 0 | I10: =SUM(F10+H10) -> 0
B11: 7 | C11: ='DAFTAR SISWA'!B12 -> 1263 | D11: ='DAFTAR SISWA'!D12 -> Indra Setyawan | F11: =E11*60% -> 0 | H11: =G11*40% -> 0 | I11: =SUM(F11+H11) -> 0
B12: 8 | C12: ='DAFTAR SISWA'!B13 -> 1311 | D12: ='DAFTAR SISWA'!D13 -> Ismi Nur Fadilah | F12: =E12*60% -> 0 | H12: =G12*40% -> 0 | I12: =SUM(F12+H12) -> 0
B13: 9 | C13: ='DAFTAR SISWA'!B14 -> 1264 | D13: ='DAFTAR SISWA'!D14 -> Jordan Ahmad Kautsar | F13: =E13*60% -> 0 | H13: =G13*40% -> 0 | I13: =SUM(F13+H13) -> 0
B14: 10 | C14: ='DAFTAR SISWA'!B15 -> 1351 | D14: ='DAFTAR SISWA'!D15 -> Kahfila Zahra Aulia | F14: =E14*60% -> 0 | H14: =G14*40% -> 0 | I14: =SUM(F14+H14) -> 0
B15: 11 | C15: ='DAFTAR SISWA'!B16 -> 1265 | D15: ='DAFTAR SISWA'!D16 -> Marvin Aditya Pratama | F15: =E15*60% -> 0 | H15: =G15*40% -> 0 | I15: =SUM(F15+H15) -> 0
B16: 12 | C16: ='DAFTAR SISWA'!B17 -> 1266 | D16: ='DAFTAR SISWA'!D17 -> Muhammad Jibril Al Hafidz | F16: =E16*60% -> 0 | H16: =G16*40% -> 0 | I16: =SUM(F16+H16) -> 0
B17: 13 | C17: ='DAFTAR SISWA'!B18 -> 1267 | D17: ='DAFTAR SISWA'!D18 -> Muhammad Khoirun Hanafi | F17: =E17*60% -> 0 | H17: =G17*40% -> 0 | I17: =SUM(F17+H17) -> 0
B18: 14 | C18: ='DAFTAR SISWA'!B19 -> 1269 | D18: ='DAFTAR SISWA'!D19 -> Nila Nafira | F18: =E18*60% -> 0 | H18: =G18*40% -> 0 | I18: =SUM(F18+H18) -> 0
B19: 15 | C19: ='DAFTAR SISWA'!B20 -> 1389 | D19: ='DAFTAR SISWA'!D20 -> Oktavia Vivi Novita | F19: =E19*60% -> 0 | H19: =G19*40% -> 0 | I19: =SUM(F19+H19) -> 0
B20: 16 | C20: ='DAFTAR SISWA'!B21 -> 1270 | D20: ='DAFTAR SISWA'!D21 -> Patricia Chiquitita | F20: =E20*60% -> 0 | H20: =G20*40% -> 0 | I20: =SUM(F20+H20) -> 0
... B24: 20 | C24: ='DAFTAR SISWA'!B25 -> 1241 | D24: ='DAFTAR SISWA'!D25 -> Rizal Hendriawan | F24: =E24*60% -> 0 | H24: =G24*40% -> 0 | I24: =SUM(F24+H24) -> 0
B25: 21 | C25: ='DAFTAR SISWA'!B26 -> 1274 | D25: ='DAFTAR SISWA'!D26 -> Robiyatul Adawiyah | E25: 100 | F25: =E25*60% -> 60 | G25: 50 | H25: =G25*40% -> 20 | I25: =SUM(F25+H25) -> 80
B26: 22 | C26: ='DAFTAR SISWA'!B27 -> 1275 | D26: ='DAFTAR SISWA'!D27 -> Safitri Ayu Wulandari | F26: =E26*60% -> 0 | H26: =G26*40% -> 0 | I26: =SUM(F26+H26) -> 0
B27: 23 | C27: ='DAFTAR SISWA'!B28 -> 1423 | D27: ='DAFTAR SISWA'!D28 -> Saira Rachman | F27: =E27*60% -> 0 | H27: =G27*40% -> 0 | I27: =SUM(F27+H27) -> 0
B28: 24 | C28: ='DAFTAR SISWA'!B29 -> 1244 | D28: ='DAFTAR SISWA'!D29 -> Sisca Indriani Harsari | F28: =E28*60% -> 0 | H28: =G28*40% -> 0 | I28: =SUM(F28+H28) -> 0
B29: 25 | C29: ='DAFTAR SISWA'!B30 -> 1249 | D29: ='DAFTAR SISWA'!D30 -> Zaidan Arley | F29: =E29*60% -> 0 | H29: =G29*40% -> 0 | I29: =SUM(F29+H29) -> 0
H30: =G30*40% -> 0 | I30: =SUM(F30+H30) -> 0
H31: =G31*40% -> 0 | I31: =SUM(F31+H31) -> 0
H32: =G32*40% -> 0 | I32: =SUM(F32+H32) -> 0
H33: =G33*40% -> 0 | I33: =SUM(F33+H33) -> 0
I34: =SUM(F34+H34) -> 0
I35: =SUM(F35+H35) -> 0
I36: =SUM(F36+H36) -> 0
I37: =SUM(F37+H37) -> 0
I38: =SUM(F38+H38) -> 0
I39: =SUM(F39+H39) -> 0
I40: =SUM(F40+H40) -> 0
I41: =SUM(F41+H41) -> 0

Sheet USMULOK2
B1: US T.JAWA/BTQ
B2: NO | C2: NO.INDUK | D2: NAMA | E2: Aspek Penilaian | I2: Nilai Total
E3: Pengetahuan | G3: Praktek
F4: 0.6 | H4: 0.4
B5: 1 | C5: ='DAFTAR SISWA'!B6 -> 1255 | D5: ='DAFTAR SISWA'!D6 -> Adya Woro Anggraeni | E5: 70 | F5: =E5*60% -> 42 | G5: 80 | H5: =G5*40% -> 32 | I5: =SUM(F5+H5) -> 74
B6: 2 | C6: ='DAFTAR SISWA'!B7 -> 1349 | D6: ='DAFTAR SISWA'!D7 -> Amanda Nikeisya Sudibyo | E6: 80 | F6: 50 | G6: 60 | H6: =G6*40% -> 24 | I6: =SUM(F6+H6) -> 74
B7: 3 | C7: ='DAFTAR SISWA'!B8 -> 1257 | D7: ='DAFTAR SISWA'!D8 -> Bimo Anggamahenda | F7: =E7*60% -> 0 | H7: =G7*40% -> 0 | I7: =SUM(F7+H7) -> 0
B8: 4 | C8: ='DAFTAR SISWA'!B9 -> 1258 | D8: ='DAFTAR SISWA'!D9 -> Bungah Rizki Rokhimah | E8: 70 | F8: =E8*60% -> 42 | G8: 65 | H8: =G8*40% -> 26 | I8: =SUM(F8+H8) -> 68
B9: 5 | C9: ='DAFTAR SISWA'!B10 -> 1259 | D9: ='DAFTAR SISWA'!D10 -> Enggar Megawantoro | F9: =E9*60% -> 0 | H9: =G9*40% -> 0 | I9: =SUM(F9+H9) -> 0
B10: 6 | C10: ='DAFTAR SISWA'!B11 -> 1260 | D10: ='DAFTAR SISWA'!D11 -> Firman Ainur Rahmad | F10: =E10*60% -> 0 | H10: =G10*40% -> 0 | I10: =SUM(F10+H10) -> 0
B11: 7 | C11: ='DAFTAR SISWA'!B12 -> 1263 | D11: ='DAFTAR SISWA'!D12 -> Indra Setyawan | F11: =E11*60% -> 0 | H11: =G11*40% -> 0 | I11: =SUM(F11+H11) -> 0
B12: 8 | C12: ='DAFTAR SISWA'!B13 -> 1311 | D12: ='DAFTAR SISWA'!D13 -> Ismi Nur Fadilah | F12: =E12*60% -> 0 | H12: =G12*40% -> 0 | I12: =SUM(F12+H12) -> 0
B13: 9 | C13: ='DAFTAR SISWA'!B14 -> 1264 | D13: ='DAFTAR SISWA'!D14 -> Jordan Ahmad Kautsar | F13: =E13*60% -> 0 | H13: =G13*40% -> 0 | I13: =SUM(F13+H13) -> 0
B14: 10 | C14: ='DAFTAR SISWA'!B15 -> 1351 | D14: ='DAFTAR SISWA'!D15 -> Kahfila Zahra Aulia | F14: =E14*60% -> 0 | H14: =G14*40% -> 0 | I14: =SUM(F14+H14) -> 0
B15: 11 | C15: ='DAFTAR SISWA'!B16 -> 1265 | D15: ='DAFTAR SISWA'!D16 -> Marvin Aditya Pratama | F15: =E15*60% -> 0 | H15: =G15*40% -> 0 | I15: =SUM(F15+H15) -> 0
B16: 12 | C16: ='DAFTAR SISWA'!B17 -> 1266 | D16: ='DAFTAR SISWA'!D17 -> Muhammad Jibril Al Hafidz | F16: =E16*60% -> 0 | H16: =G16*40% -> 0 | I16: =SUM(F16+H16) -> 0
B17: 13 | C17: ='DAFTAR SISWA'!B18 -> 1267 | D17: ='DAFTAR SISWA'!D18 -> Muhammad Khoirun Hanafi | F17: =E17*60% -> 0 | H17: =G17*40% -> 0 | I17: =SUM(F17+H17) -> 0
B18: 14 | C18: ='DAFTAR SISWA'!B19 -> 1269 | D18: ='DAFTAR SISWA'!D19 -> Nila Nafira | F18: =E18*60% -> 0 | H18: =G18*40% -> 0 | I18: =SUM(F18+H18) -> 0
B19: 15 | C19: ='DAFTAR SISWA'!B20 -> 1389 | D19: ='DAFTAR SISWA'!D20 -> Oktavia Vivi Novita | F19: =E19*60% -> 0 | H19: =G19*40% -> 0 | I19: =SUM(F19+H19) -> 0
B20: 16 | C20: ='DAFTAR SISWA'!B21 -> 1270 | D20: ='DAFTAR SISWA'!D21 -> Patricia Chiquitita | F20: =E20*60% -> 0 | H20: =G20*40% -> 0 | I20: =SUM(F20+H20) -> 0
... B24: 20 | C24: ='DAFTAR SISWA'!B25 -> 1241 | D24: ='DAFTAR SISWA'!D25 -> Rizal Hendriawan | F24: =E24*60% -> 0 | H24: =G24*40% -> 0 | I24: =SUM(F24+H24) -> 0
B25: 21 | C25: ='DAFTAR SISWA'!B26 -> 1274 | D25: ='DAFTAR SISWA'!D26 -> Robiyatul Adawiyah | E25: 100 | F25: =E25*60% -> 60 | G25: 50 | H25: =G25*40% -> 20 | I25: =SUM(F25+H25) -> 80
B26: 22 | C26: ='DAFTAR SISWA'!B27 -> 1275 | D26: ='DAFTAR SISWA'!D27 -> Safitri Ayu Wulandari | F26: =E26*60% -> 0 | H26: =G26*40% -> 0 | I26: =SUM(F26+H26) -> 0
B27: 23 | C27: ='DAFTAR SISWA'!B28 -> 1423 | D27: ='DAFTAR SISWA'!D28 -> Saira Rachman | F27: =E27*60% -> 0 | H27: =G27*40% -> 0 | I27: =SUM(F27+H27) -> 0
B28: 24 | C28: ='DAFTAR SISWA'!B29 -> 1244 | D28: ='DAFTAR SISWA'!D29 -> Sisca Indriani Harsari | F28: =E28*60% -> 0 | H28: =G28*40% -> 0 | I28: =SUM(F28+H28) -> 0
B29: 25 | C29: ='DAFTAR SISWA'!B30 -> 1249 | D29: ='DAFTAR SISWA'!D30 -> Zaidan Arley | F29: =E29*60% -> 0 | H29: =G29*40% -> 0 | I29: =SUM(F29+H29) -> 0
H30: =G30*40% -> 0 | I30: =SUM(F30+H30) -> 0
H31: =G31*40% -> 0 | I31: =SUM(F31+H31) -> 0
H32: =G32*40% -> 0 | I32: =SUM(F32+H32) -> 0
H33: =G33*40% -> 0 | I33: =SUM(F33+H33) -> 0
I34: =SUM(F34+H34) -> 0
I35: =SUM(F35+H35) -> 0
I36: =SUM(F36+H36) -> 0
I37: =SUM(F37+H37) -> 0
I38: =SUM(F38+H38) -> 0
I39: =SUM(F39+H39) -> 0
I40: =SUM(F40+H40) -> 0
I41: =SUM(F41+H41) -> 0

Sheet USMULOK3
B1: US B.INGGRIS
B2: NO | C2: NO.INDUK | D2: NAMA | E2: Aspek Penilaian | I2: Nilai Total
E3: Pengetahuan | G3: Praktek
F4: 0.6 | H4: 0.4
B5: 1 | C5: ='DAFTAR SISWA'!B6 -> 1255 | D5: ='DAFTAR SISWA'!D6 -> Adya Woro Anggraeni | E5: 70 | F5: =E5*60% -> 42 | G5: 70 | H5: =G5*40% -> 28 | I5: =SUM(F5+H5) -> 70
B6: 2 | C6: ='DAFTAR SISWA'!B7 -> 1349 | D6: ='DAFTAR SISWA'!D7 -> Amanda Nikeisya Sudibyo | E6: 80 | F6: 50 | G6: 60 | H6: =G6*40% -> 24 | I6: =SUM(F6+H6) -> 74
B7: 3 | C7: ='DAFTAR SISWA'!B8 -> 1257 | D7: ='DAFTAR SISWA'!D8 -> Bimo Anggamahenda | F7: =E7*60% -> 0 | H7: =G7*40% -> 0 | I7: =SUM(F7+H7) -> 0
B8: 4 | C8: ='DAFTAR SISWA'!B9 -> 1258 | D8: ='DAFTAR SISWA'!D9 -> Bungah Rizki Rokhimah | E8: 70 | F8: =E8*60% -> 42 | G8: 65 | H8: =G8*40% -> 26 | I8: =SUM(F8+H8) -> 68
B9: 5 | C9: ='DAFTAR SISWA'!B10 -> 1259 | D9: ='DAFTAR SISWA'!D10 -> Enggar Megawantoro | F9: =E9*60% -> 0 | H9: =G9*40% -> 0 | I9: =SUM(F9+H9) -> 0
B10: 6 | C10: ='DAFTAR SISWA'!B11 -> 1260 | D10: ='DAFTAR SISWA'!D11 -> Firman Ainur Rahmad | F10: =E10*60% -> 0 | H10: =G10*40% -> 0 | I10: =SUM(F10+H10) -> 0
B11: 7 | C11: ='DAFTAR SISWA'!B12 -> 1263 | D11: ='DAFTAR SISWA'!D12 -> Indra Setyawan | F11: =E11*60% -> 0 | H11: =G11*40% -> 0 | I11: =SUM(F11+H11) -> 0
B12: 8 | C12: ='DAFTAR SISWA'!B13 -> 1311 | D12: ='DAFTAR SISWA'!D13 -> Ismi Nur Fadilah | F12: =E12*60% -> 0 | H12: =G12*40% -> 0 | I12: =SUM(F12+H12) -> 0
B13: 9 | C13: ='DAFTAR SISWA'!B14 -> 1264 | D13: ='DAFTAR SISWA'!D14 -> Jordan Ahmad Kautsar | F13: =E13*60% -> 0 | H13: =G13*40% -> 0 | I13: =SUM(F13+H13) -> 0
B14: 10 | C14: ='DAFTAR SISWA'!B15 -> 1351 | D14: ='DAFTAR SISWA'!D15 -> Kahfila Zahra Aulia | F14: =E14*60% -> 0 | H14: =G14*40% -> 0 | I14: =SUM(F14+H14) -> 0
B15: 11 | C15: ='DAFTAR SISWA'!B16 -> 1265 | D15: ='DAFTAR SISWA'!D16 -> Marvin Aditya Pratama | F15: =E15*60% -> 0 | H15: =G15*40% -> 0 | I15: =SUM(F15+H15) -> 0
B16: 12 | C16: ='DAFTAR SISWA'!B17 -> 1266 | D16: ='DAFTAR SISWA'!D17 -> Muhammad Jibril Al Hafidz | F16: =E16*60% -> 0 | H16: =G16*40% -> 0 | I16: =SUM(F16+H16) -> 0
B17: 13 | C17: ='DAFTAR SISWA'!B18 -> 1267 | D17: ='DAFTAR SISWA'!D18 -> Muhammad Khoirun Hanafi | F17: =E17*60% -> 0 | H17: =G17*40% -> 0 | I17: =SUM(F17+H17) -> 0
B18: 14 | C18: ='DAFTAR SISWA'!B19 -> 1269 | D18: ='DAFTAR SISWA'!D19 -> Nila Nafira | F18: =E18*60% -> 0 | H18: =G18*40% -> 0 | I18: =SUM(F18+H18) -> 0
B19: 15 | C19: ='DAFTAR SISWA'!B20 -> 1389 | D19: ='DAFTAR SISWA'!D20 -> Oktavia Vivi Novita | F19: =E19*60% -> 0 | H19: =G19*40% -> 0 | I19: =SUM(F19+H19) -> 0
B20: 16 | C20: ='DAFTAR SISWA'!B21 -> 1270 | D20: ='DAFTAR SISWA'!D21 -> Patricia Chiquitita | F20: =E20*60% -> 0 | H20: =G20*40% -> 0 | I20: =SUM(F20+H20) -> 0
... B24: 20 | C24: ='DAFTAR SISWA'!B25 -> 1241 | D24: ='DAFTAR SISWA'!D25 -> Rizal Hendriawan | F24: =E24*60% -> 0 | H24: =G24*40% -> 0 | I24: =SUM(F24+H24) -> 0
B25: 21 | C25: ='DAFTAR SISWA'!B26 -> 1274 | D25: ='DAFTAR SISWA'!D26 -> Robiyatul Adawiyah | E25: 100 | F25: =E25*60% -> 60 | G25: 50 | H25: =G25*40% -> 20 | I25: =SUM(F25+H25) -> 80
B26: 22 | C26: ='DAFTAR SISWA'!B27 -> 1275 | D26: ='DAFTAR SISWA'!D27 -> Safitri Ayu Wulandari | F26: =E26*60% -> 0 | H26: =G26*40% -> 0 | I26: =SUM(F26+H26) -> 0
B27: 23 | C27: ='DAFTAR SISWA'!B28 -> 1423 | D27: ='DAFTAR SISWA'!D28 -> Saira Rachman | F27: =E27*60% -> 0 | H27: =G27*40% -> 0 | I27: =SUM(F27+H27) -> 0
B28: 24 | C28: ='DAFTAR SISWA'!B29 -> 1244 | D28: ='DAFTAR SISWA'!D29 -> Sisca Indriani Harsari | F28: =E28*60% -> 0 | H28: =G28*40% -> 0 | I28: =SUM(F28+H28) -> 0
B29: 25 | C29: ='DAFTAR SISWA'!B30 -> 1249 | D29: ='DAFTAR SISWA'!D30 -> Zaidan Arley | F29: =E29*60% -> 0 | H29: =G29*40% -> 0 | I29: =SUM(F29+H29) -> 0
H30: =G30*40% -> 0 | I30: =SUM(F30+H30) -> 0
H31: =G31*40% -> 0 | I31: =SUM(F31+H31) -> 0
H32: =G32*40% -> 0 | I32: =SUM(F32+H32) -> 0
H33: =G33*40% -> 0 | I33: =SUM(F33+H33) -> 0
I34: =SUM(F34+H34) -> 0
I35: =SUM(F35+H35) -> 0
I36: =SUM(F36+H36) -> 0
I37: =SUM(F37+H37) -> 0
I38: =SUM(F38+H38) -> 0
I39: =SUM(F39+H39) -> 0
I40: =SUM(F40+H40) -> 0
I41: =SUM(F41+H41) -> 0

Sheet Nilai Final
B1: NILAI FINAL | AF1: pujiutami2307
A2: NO | B2: NAMA | C2: Aspek yang dinilai
C3: PAI | E3: NILAI AKHIR | F3: PKN | H3: NILAI AKHIR | I3: B.IND | K3: NILAI AKHIR | L3: MAT | N3: NILAI AKHIR | O3: IPA | Q3: NILAI AKHIR | R3: IPS | T3: NILAI AKHIR | U3: SBDP | W3: NILAI AKHIR | X3: PJOK | Z3: NILAI AKHIR | AA3: B.JAWA | AC3: NILAI AKHIR | AD3: MULOK2 | AF3: NILAI AKHIR | AG3: MULOK3 | AI3: NILAI AKHIR
C4: NR 40% | D4: US 60% | F4: NR 40% | G4: US 60% | I4: NR 40% | J4: US 60% | L4: NR 40% | M4: US 60% | O4: NR 40% | P4: US 60% | R4: NR 40% | S4: US 60% | U4: NR 40% | V4: US 60% | X4: NR 40% | Y4: US 60% | AA4: NR 40% | AB4: US 60% | AD4: NR 40% | AE4: US 60% | AG4: NR 40% | AH4: US 60%
A5: 1 | B5: ='DAFTAR SISWA'!D6 -> Adya Woro Anggraeni | C5: =' RaporPAI'!T6*40% -> 19.36 | D5: =USPAI!I5*60% -> 40.2 | E5: =SUM(C5:D5) -> 59.56 | F5: =RaporPKn!T6*40% -> 18.96 | G5: =USPKN!I5*60% -> 43.2 | H5: =SUM(F5:G5) -> 62.16 | I5: ='RaporB.Ind'!T6*40% -> 19.16 | J5: =USB.IND!I5*60% -> 41.64 | K5: =SUM(I5:J5) -> 60.8 | L5: =RaporMat!T6*40% -> 19.16 | M5: =USMAT!I5*60% -> 40.92 | N5: =SUM(L5:M5) -> 60.08 | O5: =RaporIPA!T6*40% -> 19.16 | P5: =USIPA!I5*60% -> 42 | Q5: =SUM(O5:P5) -> 61.16 | R5: =RaporIPS!T6*40% -> 19.16 | S5: =USIPS!I5*60% -> 45 | T5: =SUM(R5:S5) -> 64.16 | U5: =RaporSBDP!T6*40% -> 19.16 | V5: =USSBDP!I5*60% -> 45 | W5: =SUM(U5:V5) -> 64.16 | X5: =RaporPJOK!T6*40% -> 19.16 | Y5: =USPJOK!I5*60% -> 44.4 | Z5: =SUM(X5:Y5) -> 63.56 | AA5: =RaporM1!T6*40% -> 19.16 | AB5: =USMULOK1!I5*60% -> 47.28 | AC5: =SUM(AA5:AB5) -> 66.44 | AD5: =RaporM2!T6*40% -> 19.16 | AE5: =USMULOK2!I5*60% -> 44.4 | AF5: =SUM(AD5:AE5) -> 63.56 | AG5: =RaporM3!T6*40% -> 19.16 | AH5: =USMULOK3!I5*60% -> 42 | AI5: =SUM(AG5:AH5) -> 61.16
A6: 2 | B6: ='DAFTAR SISWA'!D7 -> Amanda Nikeisya Sudibyo | C6: =' RaporPAI'!T7*40% -> 9.08 | D6: =USPAI!I6*60% -> 43.2 | E6: =SUM(C6:D6) -> 52.28 | F6: =RaporPKn!T7*40% -> 2.84 | G6: =USPKN!I6*60% -> 44.4 | H6: =SUM(F6:G6) -> 47.24 | I6: ='RaporB.Ind'!T7*40% -> 2.84 | J6: =USB.IND!I6*60% -> 44.4 | K6: =SUM(I6:J6) -> 47.24 | L6: =RaporMat!T7*40% -> 2.84 | M6: =USMAT!I6*60% -> 44.4 | N6: =SUM(L6:M6) -> 47.24 | O6: =RaporIPA!T7*40% -> 2.84 | P6: =USIPA!I6*60% -> 44.4 | Q6: =SUM(O6:P6) -> 47.24 | R6: =RaporIPS!T7*40% -> 2.84 | S6: =USIPS!I6*60% -> 44.4 | T6: =SUM(R6:S6) -> 47.24 | U6: =RaporSBDP!T7*40% -> 2.84 | V6: =USSBDP!I6*60% -> 44.4 | W6: =SUM(U6:V6) -> 47.24 | X6: =RaporPJOK!T7*40% -> 2.84 | Y6: =USPJOK!I6*60% -> 44.4 | Z6: =SUM(X6:Y6) -> 47.24 | AA6: =RaporM1!T7*40% -> 2.84 | AB6: =USMULOK1!I6*60% -> 44.4 | AC6: =SUM(AA6:AB6) -> 47.24 | AD6: =RaporM2!T7*40% -> 2.84 | AE6: =USMULOK2!I6*60% -> 44.4 | AF6: =SUM(AD6:AE6) -> 47.24 | AG6: =RaporM3!T7*40% -> 2.84 | AH6: =USMULOK3!I6*60% -> 44.4 | AI6: =SUM(AG6:AH6) -> 47.24
A7: 3 | B7: ='DAFTAR SISWA'!D8 -> Bimo Anggamahenda | C7: =' RaporPAI'!T8*40% -> 0.8 | D7: =USPAI!I7*60% -> 0 | E7: =SUM(C7:D7) -> 0.8 | F7: =RaporPKn!T8*40% -> 0.8 | G7: =USPKN!I7*60% -> 0 | H7: =SUM(F7:G7) -> 0.8 | I7: ='RaporB.Ind'!T8*40% -> 0.8 | J7: =USB.IND!I7*60% -> 0 | K7: =SUM(I7:J7) -> 0.8 | L7: =RaporMat!T8*40% -> 0.8 | M7: =USMAT!I7*60% -> 0 | N7: =SUM(L7:M7) -> 0.8 | O7: =RaporIPA!T8*40% -> 0.8 | P7: =USIPA!I7*60% -> 0 | Q7: =SUM(O7:P7) -> 0.8 | R7: =RaporIPS!T8*40% -> 0.8 | S7: =USIPS!I7*60% -> 0 | T7: =SUM(R7:S7) -> 0.8 | U7: =RaporSBDP!T8*40% -> 0.8 | V7: =USSBDP!I7*60% -> 0 | W7: =SUM(U7:V7) -> 0.8 | X7: =RaporPJOK!T8*40% -> 0.8 | Y7: =USPJOK!I7*60% -> 0 | Z7: =SUM(X7:Y7) -> 0.8 | AA7: =RaporM1!T8*40% -> 0.8 | AB7: =USMULOK1!I7*60% -> 0 | AC7: =SUM(AA7:AB7) -> 0.8 | AD7: =RaporM2!T8*40% -> 0.8 | AE7: =USMULOK2!I7*60% -> 0 | AF7: =SUM(AD7:AE7) -> 0.8 | AG7: =RaporM3!T8*40% -> 0.8 | AH7: =USMULOK3!I7*60% -> 0 | AI7: =SUM(AG7:AH7) -> 0.8
A8: 4 | B8: ='DAFTAR SISWA'!D9 -> Bungah Rizki Rokhimah | C8: =' RaporPAI'!T9*40% -> 4.44 | D8: =USPAI!I8*60% -> 0 | E8: =SUM(C8:D8) -> 4.44 | F8: =RaporPKn!T9*40% -> 4.44 | G8: =USPKN!I8*60% -> 0 | H8: =SUM(F8:G8) -> 4.44 | I8: ='RaporB.Ind'!T9*40% -> 4.44 | J8: =USB.IND!I8*60% -> 0 | K8: =SUM(I8:J8) -> 4.44 | L8: =RaporMat!T9*40% -> 4.44 | M8: =USMAT!I8*60% -> 0 | N8: =SUM(L8:M8) -> 4.44 | O8: =RaporIPA!T9*40% -> 4.44 | P8: =USIPA!I8*60% -> 0 | Q8: =SUM(O8:P8) -> 4.44 | R8: =RaporIPS!T9*40% -> 4.44 | S8: =USIPS!I8*60% -> 0 | T8: =SUM(R8:S8) -> 4.44 | U8: =RaporSBDP!T9*40% -> 4.44 | V8: =USSBDP!I8*60% -> 0 | W8: =SUM(U8:V8) -> 4.44 | X8: =RaporPJOK!T9*40% -> 4.44 | Y8: =USPJOK!I8*60% -> 40.8 | Z8: =SUM(X8:Y8) -> 45.24 | AA8: =RaporM1!T9*40% -> 4.44 | AB8: =USMULOK1!I8*60% -> 40.8 | AC8: =SUM(AA8:AB8) -> 45.24 | AD8: =RaporM2!T9*40% -> 4.44 | AE8: =USMULOK2!I8*60% -> 40.8 | AF8: =SUM(AD8:AE8) -> 45.24 | AG8: =RaporM3!T9*40% -> 4.44 | AH8: =USMULOK3!I8*60% -> 40.8 | AI8: =SUM(AG8:AH8) -> 45.24
A9: 5 | B9: ='DAFTAR SISWA'!D10 -> Enggar Megawantoro | C9: =' RaporPAI'!T10*40% -> 6.76 | D9: =USPAI!I9*60% -> 0 | E9: =SUM(C9:D9) -> 6.76 | F9: =RaporPKn!T10*40% -> 1.64 | G9: =USPKN!I9*60% -> 0 | H9: =SUM(F9:G9) -> 1.64 | I9: ='RaporB.Ind'!T10*40% -> 1.64 | J9: =USB.IND!I9*60% -> 0 | K9: =SUM(I9:J9) -> 1.64 | L9: =RaporMat!T10*40% -> 6.76 | M9: =USMAT!I9*60% -> 0 | N9: =SUM(L9:M9) -> 6.76 | O9: =RaporIPA!T10*40% -> 1.64 | P9: =USIPA!I9*60% -> 0 | Q9: =SUM(O9:P9) -> 1.64 | R9: =RaporIPS!T10*40% -> 1.64 | S9: =USIPS!I9*60% -> 0 | T9: =SUM(R9:S9) -> 1.64 | U9: =RaporSBDP!T10*40% -> 1.64 | V9: =USSBDP!I9*60% -> 0 | W9: =SUM(U9:V9) -> 1.64 | X9: =RaporPJOK!T10*40% -> 1.64 | Y9: =USPJOK!I9*60% -> 0 | Z9: =SUM(X9:Y9) -> 1.64 | AA9: =RaporM1!T10*40% -> 1.64 | AB9: =USMULOK1!I9*60% -> 0 | AC9: =SUM(AA9:AB9) -> 1.64 | AD9: =RaporM2!T10*40% -> 1.64 | AE9: =USMULOK2!I9*60% -> 0 | AF9: =SUM(AD9:AE9) -> 1.64 | AG9: =RaporM3!T10*40% -> 1.64 | AH9: =USMULOK3!I9*60% -> 0 | AI9: =SUM(AG9:AH9) -> 1.64
A10: 6 | B10: ='DAFTAR SISWA'!D11 -> Firman Ainur Rahmad | C10: =' RaporPAI'!T11*40% -> 1.52 | D10: =USPAI!I10*60% -> 0 | E10: =SUM(C10:D10) -> 1.52 | F10: =RaporPKn!T11*40% -> 1.52 | G10: =USPKN!I10*60% -> 0 | H10: =SUM(F10:G10) -> 1.52 | I10: ='RaporB.Ind'!T11*40% -> 1.52 | J10: =USB.IND!I10*60% -> 0 | K10: =SUM(I10:J10) -> 1.52 | L10: =RaporMat!T11*40% -> 1.52 | M10: =USMAT!I10*60% -> 0 | N10: =SUM(L10:M10) -> 1.52 | O10: =RaporIPA!T11*40% -> 1.52 | P10: =USIPA!I10*60% -> 0 | Q10: =SUM(O10:P10) -> 1.52 | R10: =RaporIPS!T11*40% -> 1.52 | S10: =USIPS!I10*60% -> 0 | T10: =SUM(R10:S10) -> 1.52 | U10: =RaporSBDP!T11*40% -> 1.52 | V10: =USSBDP!I10*60% -> 0 | W10: =SUM(U10:V10) -> 1.52 | X10: =RaporPJOK!T11*40% -> 1.52 | Y10: =USPJOK!I10*60% -> 0 | Z10: =SUM(X10:Y10) -> 1.52 | AA10: =RaporM1!T11*40% -> 1.52 | AB10: =USMULOK1!I10*60% -> 0 | AC10: =SUM(AA10:AB10) -> 1.52 | AD10: =RaporM2!T11*40% -> 1.52 | AE10: =USMULOK2!I10*60% -> 0 | AF10: =SUM(AD10:AE10) -> 1.52 | AG10: =RaporM3!T11*40% -> 1.52 | AH10: =USMULOK3!I10*60% -> 0 | AI10: =SUM(AG10:AH10) -> 1.52
A11: 7 | B11: ='DAFTAR SISWA'!D12 -> Indra Setyawan | C11: =' RaporPAI'!T12*40% -> 1.4 | D11: =USPAI!I11*60% -> 0 | E11: =SUM(C11:D11) -> 1.4 | F11: =RaporPKn!T12*40% -> 1.4 | G11: =USPKN!I11*60% -> 0 | H11: =SUM(F11:G11) -> 1.4 | I11: ='RaporB.Ind'!T12*40% -> 1.4 | J11: =USB.IND!I11*60% -> 0 | K11: =SUM(I11:J11) -> 1.4 | L11: =RaporMat!T12*40% -> 1.4 | M11: =USMAT!I11*60% -> 0 | N11: =SUM(L11:M11) -> 1.4 | O11: =RaporIPA!T12*40% -> 1.4 | P11: =USIPA!I11*60% -> 0 | Q11: =SUM(O11:P11) -> 1.4 | R11: =RaporIPS!T12*40% -> 1.4 | S11: =USIPS!I11*60% -> 0 | T11: =SUM(R11:S11) -> 1.4 | U11: =RaporSBDP!T12*40% -> 1.4 | V11: =USSBDP!I11*60% -> 0 | W11: =SUM(U11:V11) -> 1.4 | X11: =RaporPJOK!T12*40% -> 1.4 | Y11: =USPJOK!I11*60% -> 0 | Z11: =SUM(X11:Y11) -> 1.4 | AA11: =RaporM1!T12*40% -> 1.4 | AB11: =USMULOK1!I11*60% -> 0 | AC11: =SUM(AA11:AB11) -> 1.4 | AD11: =RaporM2!T12*40% -> 1.4 | AE11: =USMULOK2!I11*60% -> 0 | AF11: =SUM(AD11:AE11) -> 1.4 | AG11: =RaporM3!T12*40% -> 1.4 | AH11: =USMULOK3!I11*60% -> 0 | AI11: =SUM(AG11:AH11) -> 1.4
A12: 8 | B12: ='DAFTAR SISWA'!D13 -> Ismi Nur Fadilah | C12: =' RaporPAI'!T13*40% -> 7.76 | D12: =USPAI!I12*60% -> 0 | E12: =SUM(C12:D12) -> 7.76 | F12: =RaporPKn!T13*40% -> 1.28 | G12: =USPKN!I12*60% -> 0 | H12: =SUM(F12:G12) -> 1.28 | I12: ='RaporB.Ind'!T13*40% -> 1.28 | J12: =USB.IND!I12*60% -> 0 | K12: =SUM(I12:J12) -> 1.28 | L12: =RaporMat!T13*40% -> 1.28 | M12: =USMAT!I12*60% -> 0 | N12: =SUM(L12:M12) -> 1.28 | O12: =RaporIPA!T13*40% -> 1.28 | P12: =USIPA!I12*60% -> 0 | Q12: =SUM(O12:P12) -> 1.28 | R12: =RaporIPS!T13*40% -> 1.28 | S12: =USIPS!I12*60% -> 0 | T12: =SUM(R12:S12) -> 1.28 | U12: =RaporSBDP!T13*40% -> 1.28 | V12: =USSBDP!I12*60% -> 0 | W12: =SUM(U12:V12) -> 1.28 | X12: =RaporPJOK!T13*40% -> 1.28 | Y12: =USPJOK!I12*60% -> 0 | Z12: =SUM(X12:Y12) -> 1.28 | AA12: =RaporM1!T13*40% -> 1.28 | AB12: =USMULOK1!I12*60% -> 0 | AC12: =SUM(AA12:AB12) -> 1.28 | AD12: =RaporM2!T13*40% -> 1.28 | AE12: =USMULOK2!I12*60% -> 0 | AF12: =SUM(AD12:AE12) -> 1.28 | AG12: =RaporM3!T13*40% -> 1.28 | AH12: =USMULOK3!I12*60% -> 0 | AI12: =SUM(AG12:AH12) -> 1.28
A13: 9 | B13: ='DAFTAR SISWA'!D14 -> Jordan Ahmad Kautsar | C13: =' RaporPAI'!T14*40% -> 1.16 | D13: =USPAI!I13*60% -> 0 | E13: =SUM(C13:D13) -> 1.16 | F13: =RaporPKn!T14*40% -> 1.16 | G13: =USPKN!I13*60% -> 0 | H13: =SUM(F13:G13) -> 1.16 | I13: ='RaporB.Ind'!T14*40% -> 1.16 | J13: =USB.IND!I13*60% -> 0 | K13: =SUM(I13:J13) -> 1.16 | L13: =RaporMat!T14*40% -> 1.16 | M13: =USMAT!I13*60% -> 0 | N13: =SUM(L13:M13) -> 1.16 | O13: =RaporIPA!T14*40% -> 1.16 | P13: =USIPA!I13*60% -> 0 | Q13: =SUM(O13:P13) -> 1.16 | R13: =RaporIPS!T14*40% -> 1.16 | S13: =USIPS!I13*60% -> 0 | T13: =SUM(R13:S13) -> 1.16 | U13: =RaporSBDP!T14*40% -> 1.16 | V13: =USSBDP!I13*60% -> 0 | W13: =SUM(U13:V13) -> 1.16 | X13: =RaporPJOK!T14*40% -> 1.16 | Y13: =USPJOK!I13*60% -> 0 | Z13: =SUM(X13:Y13) -> 1.16 | AA13: =RaporM1!T14*40% -> 1.16 | AB13: =USMULOK1!I13*60% -> 0 | AC13: =SUM(AA13:AB13) -> 1.16 | AD13: =RaporM2!T14*40% -> 1.16 | AE13: =USMULOK2!I13*60% -> 0 | AF13: =SUM(AD13:AE13) -> 1.16 | AG13: =RaporM3!T14*40% -> 1.16 | AH13: =USMULOK3!I13*60% -> 0 | AI13: =SUM(AG13:AH13) -> 1.16
A14: 10 | B14: ='DAFTAR SISWA'!D15 -> Kahfila Zahra Aulia | C14: =' RaporPAI'!T15*40% -> 1.04 | D14: =USPAI!I14*60% -> 0 | E14: =SUM(C14:D14) -> 1.04 | F14: =RaporPKn!T15*40% -> 1.04 | G14: =USPKN!I14*60% -> 0 | H14: =SUM(F14:G14) -> 1.04 | I14: ='RaporB.Ind'!T15*40% -> 1.04 | J14: =USB.IND!I14*60% -> 0 | K14: =SUM(I14:J14) -> 1.04 | L14: =RaporMat!T15*40% -> 1.04 | M14: =USMAT!I14*60% -> 0 | N14: =SUM(L14:M14) -> 1.04 | O14: =RaporIPA!T15*40% -> 1.04 | P14: =USIPA!I14*60% -> 0 | Q14: =SUM(O14:P14) -> 1.04 | R14: =RaporIPS!T15*40% -> 1.04 | S14: =USIPS!I14*60% -> 0 | T14: =SUM(R14:S14) -> 1.04 | U14: =RaporSBDP!T15*40% -> 1.04 | V14: =USSBDP!I14*60% -> 0 | W14: =SUM(U14:V14) -> 1.04 | X14: =RaporPJOK!T15*40% -> 1.04 | Y14: =USPJOK!I14*60% -> 0 | Z14: =SUM(X14:Y14) -> 1.04 | AA14: =RaporM1!T15*40% -> 1.04 | AB14: =USMULOK1!I14*60% -> 0 | AC14: =SUM(AA14:AB14) -> 1.04 | AD14: =RaporM2!T15*40% -> 1.04 | AE14: =USMULOK2!I14*60% -> 0 | AF14: =SUM(AD14:AE14) -> 1.04 | AG14: =RaporM3!T15*40% -> 1.04 | AH14: =USMULOK3!I14*60% -> 0 | AI14: =SUM(AG14:AH14) -> 1.04
A15: 11 | B15: ='DAFTAR SISWA'!D16 -> Marvin Aditya Pratama | C15: =' RaporPAI'!T16*40% -> 0.92 | D15: =USPAI!I15*60% -> 0 | E15: =SUM(C15:D15) -> 0.92 | F15: =RaporPKn!T16*40% -> 0.92 | G15: =USPKN!I15*60% -> 0 | H15: =SUM(F15:G15) -> 0.92 | I15: ='RaporB.Ind'!T16*40% -> 0.92 | J15: =USB.IND!I15*60% -> 0 | K15: =SUM(I15:J15) -> 0.92 | L15: =RaporMat!T16*40% -> 0.92 | M15: =USMAT!I15*60% -> 0 | N15: =SUM(L15:M15) -> 0.92 | O15: =RaporIPA!T16*40% -> 0.92 | P15: =USIPA!I15*60% -> 0 | Q15: =SUM(O15:P15) -> 0.92 | R15: =RaporIPS!T16*40% -> 0.92 | S15: =USIPS!I15*60% -> 0 | T15: =SUM(R15:S15) -> 0.92 | U15: =RaporSBDP!T16*40% -> 0.92 | V15: =USSBDP!I15*60% -> 0 | W15: =SUM(U15:V15) -> 0.92 | X15: =RaporPJOK!T16*40% -> 0.92 | Y15: =USPJOK!I15*60% -> 0 | Z15: =SUM(X15:Y15) -> 0.92 | AA15: =RaporM1!T16*40% -> 0.92 | AB15: =USMULOK1!I15*60% -> 0 | AC15: =SUM(AA15:AB15) -> 0.92 | AD15: =RaporM2!T16*40% -> 0.92 | AE15: =USMULOK2!I15*60% -> 0 | AF15: =SUM(AD15:AE15) -> 0.92 | AG15: =RaporM3!T16*40% -> 0.92 | AH15: =USMULOK3!I15*60% -> 0 | AI15: =SUM(AG15:AH15) -> 0.92
A16: 12 | B16: ='DAFTAR SISWA'!D17 -> Muhammad Jibril Al Hafidz | C16: =' RaporPAI'!T17*40% -> 0.8 | D16: =USPAI!I16*60% -> 0 | E16: =SUM(C16:D16) -> 0.8 | F16: =RaporPKn!T17*40% -> 0.8 | G16: =USPKN!I16*60% -> 0 | H16: =SUM(F16:G16) -> 0.8 | I16: ='RaporB.Ind'!T17*40% -> 0.8 | J16: =USB.IND!I16*60% -> 0 | K16: =SUM(I16:J16) -> 0.8 | L16: =RaporMat!T17*40% -> 0.8 | M16: =USMAT!I16*60% -> 0 | N16: =SUM(L16:M16) -> 0.8 | O16: =RaporIPA!T17*40% -> 0.8 | P16: =USIPA!I16*60% -> 0 | Q16: =SUM(O16:P16) -> 0.8 | R16: =RaporIPS!T17*40% -> 0.8 | S16: =USIPS!I16*60% -> 0 | T16: =SUM(R16:S16) -> 0.8 | U16: =RaporSBDP!T17*40% -> 0.8 | V16: =USSBDP!I16*60% -> 0 | W16: =SUM(U16:V16) -> 0.8 | X16: =RaporPJOK!T17*40% -> 0.8 | Y16: =USPJOK!I16*60% -> 0 | Z16: =SUM(X16:Y16) -> 0.8 | AA16: =RaporM1!T17*40% -> 0.8 | AB16: =USMULOK1!I16*60% -> 0 | AC16: =SUM(AA16:AB16) -> 0.8 | AD16: =RaporM2!T17*40% -> 0.8 | AE16: =USMULOK2!I16*60% -> 0 | AF16: =SUM(AD16:AE16) -> 0.8 | AG16: =RaporM3!T17*40% -> 0.8 | AH16: =USMULOK3!I16*60% -> 0 | AI16: =SUM(AG16:AH16) -> 0.8
... A29: 25 | B29: ='DAFTAR SISWA'!D30 -> Zaidan Arley | C29: =' RaporPAI'!T30*40% -> -0.76 | D29: =USPAI!I29*60% -> 0 | E29: =SUM(C29:D29) -> -0.76 | F29: =RaporPKn!T30*40% -> -0.76 | G29: =USPKN!I29*60% -> 0 | H29: =SUM(F29:G29) -> -0.76 | I29: ='RaporB.Ind'!T30*40% -> -0.76 | J29: =USB.IND!I29*60% -> 0 | K29: =SUM(I29:J29) -> -0.76 | L29: =RaporMat!T30*40% -> -0.76 | M29: =USMAT!I29*60% -> 0 | N29: =SUM(L29:M29) -> -0.76 | O29: =RaporIPA!T30*40% -> -0.76 | P29: =USIPA!I29*60% -> 0 | Q29: =SUM(O29:P29) -> -0.76 | R29: =RaporIPS!T30*40% -> -0.76 | S29: =USIPS!I29*60% -> 0 | T29: =SUM(R29:S29) -> -0.76 | U29: =RaporSBDP!T30*40% -> -0.76 | V29: =USSBDP!I29*60% -> 0 | W29: =SUM(U29:V29) -> -0.76 | X29: =RaporPJOK!T30*40% -> -0.76 | Y29: =USPJOK!I29*60% -> 0 | Z29: =SUM(X29:Y29) -> -0.76 | AA29: =RaporM1!T30*40% -> -0.76 | AB29: =USMULOK1!I29*60% -> 0 | AC29: =SUM(AA29:AB29) -> -0.76 | AD29: =RaporM2!T30*40% -> -0.76 | AE29: =USMULOK2!I29*60% -> 0 | AF29: =SUM(AD29:AE29) -> -0.76 | AG29: =RaporM3!T30*40% -> -0.76 | AH29: =USMULOK3!I29*60% -> 0 | AI29: =SUM(AG29:AH29) -> -0.76
B30: ='DAFTAR SISWA'!D31 -> 0 | C30: =' RaporPAI'!T31*40% -> 0 | D30: =USPAI!I30*60% -> 0 | E30: =SUM(C30:D30) -> 0 | F30: =RaporPKn!T31*40% -> 0 | G30: =USPKN!I30*60% -> 0 | H30: =SUM(F30:G30) -> 0 | I30: ='RaporB.Ind'!T31*40% -> 0 | J30: =USB.IND!I30*60% -> 0 | K30: =SUM(I30:J30) -> 0 | L30: =RaporMat!T31*40% -> 0 | M30: =USMAT!I30*60% -> 0 | N30: =SUM(L30:M30) -> 0 | O30: =RaporIPA!T31*40% -> 0 | P30: =USIPA!I30*60% -> 0 | Q30: =SUM(O30:P30) -> 0 | R30: =RaporIPS!T31*40% -> 0 | S30: =USIPS!I30*60% -> 0 | T30: =SUM(R30:S30) -> 0 | U30: =RaporSBDP!T31*40% -> 0 | V30: =USSBDP!I30*60% -> 0 | W30: =SUM(U30:V30) -> 0 | X30: =RaporPJOK!T31*40% -> 0 | Y30: =USPJOK!I30*60% -> 0 | Z30: =SUM(X30:Y30) -> 0 | AA30: =RaporM1!T31*40% -> 0 | AB30: =USMULOK1!I30*60% -> 0 | AC30: =SUM(AA30:AB30) -> 0 | AD30: =RaporM2!T31*40% -> 0 | AE30: =USMULOK2!I30*60% -> 0 | AF30: =SUM(AD30:AE30) -> 0 | AG30: =RaporM3!T31*40% -> 0 | AH30: =USMULOK3!I30*60% -> 0 | AI30: =SUM(AG30:AH30) -> 0
B31: ='DAFTAR SISWA'!D32 -> 0 | C31: =' RaporPAI'!T32*40% -> 0 | D31: =USPAI!I31*60% -> 0 | E31: =SUM(C31:D31) -> 0 | F31: =RaporPKn!T32*40% -> 0 | G31: =USPKN!I31*60% -> 0 | H31: =SUM(F31:G31) -> 0 | I31: ='RaporB.Ind'!T32*40% -> 0 | J31: =USB.IND!I31*60% -> 0 | K31: =SUM(I31:J31) -> 0 | L31: =RaporMat!T32*40% -> 0 | M31: =USMAT!I31*60% -> 0 | N31: =SUM(L31:M31) -> 0 | O31: =RaporIPA!T32*40% -> 0 | P31: =USIPA!I31*60% -> 0 | Q31: =SUM(O31:P31) -> 0 | R31: =RaporIPS!T32*40% -> 0 | S31: =USIPS!I31*60% -> 0 | T31: =SUM(R31:S31) -> 0 | U31: =RaporSBDP!T32*40% -> 0 | V31: =USSBDP!I31*60% -> 0 | W31: =SUM(U31:V31) -> 0 | X31: =RaporPJOK!T32*40% -> 0 | Y31: =USPJOK!I31*60% -> 0 | Z31: =SUM(X31:Y31) -> 0 | AA31: =RaporM1!T32*40% -> 0 | AB31: =USMULOK1!I31*60% -> 0 | AC31: =SUM(AA31:AB31) -> 0 | AD31: =RaporM2!T32*40% -> 0 | AE31: =USMULOK2!I31*60% -> 0 | AF31: =SUM(AD31:AE31) -> 0 | AG31: =RaporM3!T32*40% -> 0 | AH31: =USMULOK3!I31*60% -> 0 | AI31: =SUM(AG31:AH31) -> 0
B32: ='DAFTAR SISWA'!D33 -> 0 | C32: =' RaporPAI'!T33*40% -> 0 | D32: =USPAI!I32*60% -> 0 | E32: =SUM(C32:D32) -> 0 | F32: =RaporPKn!T33*40% -> 0 | G32: =USPKN!I32*60% -> 0 | H32: =SUM(F32:G32) -> 0 | I32: ='RaporB.Ind'!T33*40% -> 0 | J32: =USB.IND!I32*60% -> 0 | K32: =SUM(I32:J32) -> 0 | L32: =RaporMat!T33*40% -> 0 | M32: =USMAT!I32*60% -> 0 | N32: =SUM(L32:M32) -> 0 | O32: =RaporIPA!T33*40% -> 0 | P32: =USIPA!I32*60% -> 0 | Q32: =SUM(O32:P32) -> 0 | R32: =RaporIPS!T33*40% -> 0 | S32: =USIPS!I32*60% -> 0 | T32: =SUM(R32:S32) -> 0 | U32: =RaporSBDP!T33*40% -> 0 | V32: =USSBDP!I32*60% -> 0 | W32: =SUM(U32:V32) -> 0 | X32: =RaporPJOK!T33*40% -> 0 | Y32: =USPJOK!I32*60% -> 0 | Z32: =SUM(X32:Y32) -> 0 | AA32: =RaporM1!T33*40% -> 0 | AB32: =USMULOK1!I32*60% -> 0 | AC32: =SUM(AA32:AB32) -> 0 | AD32: =RaporM2!T33*40% -> 0 | AE32: =USMULOK2!I32*60% -> 0 | AF32: =SUM(AD32:AE32) -> 0 | AG32: =RaporM3!T33*40% -> 0 | AH32: =USMULOK3!I32*60% -> 0 | AI32: =SUM(AG32:AH32) -> 0
B33: ='DAFTAR SISWA'!D34 -> 0 | C33: =' RaporPAI'!T34*40% -> 0 | D33: =USPAI!I33*60% -> 0 | E33: =SUM(C33:D33) -> 0 | F33: =RaporPKn!T34*40% -> 0 | G33: =USPKN!I33*60% -> 0 | H33: =SUM(F33:G33) -> 0 | I33: ='RaporB.Ind'!T34*40% -> 0 | J33: =USB.IND!I33*60% -> 0 | K33: =SUM(I33:J33) -> 0 | L33: =RaporMat!T34*40% -> 0 | M33: =USMAT!I33*60% -> 0 | N33: =SUM(L33:M33) -> 0 | O33: =RaporIPA!T34*40% -> 0 | P33: =USIPA!I33*60% -> 0 | Q33: =SUM(O33:P33) -> 0 | R33: =RaporIPS!T34*40% -> 0 | S33: =USIPS!I33*60% -> 0 | T33: =SUM(R33:S33) -> 0 | U33: =RaporSBDP!T34*40% -> 0 | V33: =USSBDP!I33*60% -> 0 | W33: =SUM(U33:V33) -> 0 | X33: =RaporPJOK!T34*40% -> 0 | Y33: =USPJOK!I33*60% -> 0 | Z33: =SUM(X33:Y33) -> 0 | AA33: =RaporM1!T34*40% -> 0 | AB33: =USMULOK1!I33*60% -> 0 | AC33: =SUM(AA33:AB33) -> 0 | AD33: =RaporM2!T34*40% -> 0 | AE33: =USMULOK2!I33*60% -> 0 | AF33: =SUM(AD33:AE33) -> 0 | AG33: =RaporM3!T34*40% -> 0 | AH33: =USMULOK3!I33*60% -> 0 | AI33: =SUM(AG33:AH33) -> 0
B34: ='DAFTAR SISWA'!D35 -> 0 | C34: =' RaporPAI'!T35 -> 0 | D34: =USPAI!I34*60% -> 0 | E34: =SUM(C34:D34) -> 0 | F34: =RaporPKn!T35*40% -> 0 | G34: =USPKN!I34*60% -> 0 | H34: =SUM(F34:G34) -> 0 | I34: ='RaporB.Ind'!T35*40% -> 0 | J34: =USB.IND!I34*60% -> 0 | K34: =SUM(I34:J34) -> 0 | L34: =RaporMat!T35*40% -> 0 | M34: =USMAT!I34*60% -> 0 | N34: =SUM(L34:M34) -> 0 | O34: =RaporIPA!T35*40% -> 0 | P34: =USIPA!I34*60% -> 0 | Q34: =SUM(O34:P34) -> 0 | R34: =RaporIPS!T35*40% -> 0 | S34: =USIPS!I34*60% -> 0 | T34: =SUM(R34:S34) -> 0 | U34: =RaporSBDP!T35*40% -> 0 | V34: =USSBDP!I34*60% -> 0 | W34: =SUM(U34:V34) -> 0 | X34: =RaporPJOK!T35*40% -> 0 | Y34: =USPJOK!I34*60% -> 0 | Z34: =SUM(X34:Y34) -> 0 | AA34: =RaporM1!T35*40% -> 0 | AB34: =USMULOK1!I34*60% -> 0 | AC34: =SUM(AA34:AB34) -> 0 | AD34: =RaporM2!T35*40% -> 0 | AE34: =USMULOK2!I34*60% -> 0 | AF34: =SUM(AD34:AE34) -> 0 | AG34: =RaporM3!T35*40% -> 0 | AH34: =USMULOK3!I34*60% -> 0 | AI34: =SUM(AG34:AH34) -> 0
B35: ='DAFTAR SISWA'!D36 -> 0 | C35: =' RaporPAI'!T36 -> 0 | D35: =USPAI!I35*60% -> 0 | E35: =SUM(C35:D35) -> 0 | F35: =RaporPKn!T36*40% -> 0 | G35: =USPKN!I35*60% -> 0 | H35: =SUM(F35:G35) -> 0 | I35: ='RaporB.Ind'!T36*40% -> 0 | J35: =USB.IND!I35*60% -> 0 | K35: =SUM(I35:J35) -> 0 | L35: =RaporMat!T36*40% -> 0 | M35: =USMAT!I35*60% -> 0 | N35: =SUM(L35:M35) -> 0 | O35: =RaporIPA!T36*40% -> 0 | P35: =USIPA!I35*60% -> 0 | Q35: =SUM(O35:P35) -> 0 | R35: =RaporIPS!T36*40% -> 0 | S35: =USIPS!I35*60% -> 0 | T35: =SUM(R35:S35) -> 0 | U35: =RaporSBDP!T36*40% -> 0 | V35: =USSBDP!I35*60% -> 0 | W35: =SUM(U35:V35) -> 0 | X35: =RaporPJOK!T36*40% -> 0 | Y35: =USPJOK!I35*60% -> 0 | Z35: =SUM(X35:Y35) -> 0 | AA35: =RaporM1!T36*40% -> 0 | AB35: =USMULOK1!I35*60% -> 0 | AC35: =SUM(AA35:AB35) -> 0 | AD35: =RaporM2!T36*40% -> 0 | AE35: =USMULOK2!I35*60% -> 0 | AF35: =SUM(AD35:AE35) -> 0 | AG35: =RaporM3!T36*40% -> 0 | AH35: =USMULOK3!I35*60% -> 0 | AI35: =SUM(AG35:AH35) -> 0
B36: ='DAFTAR SISWA'!D37 -> 0 | C36: =' RaporPAI'!T37 -> 0 | D36: =USPAI!I36*60% -> 0 | E36: =SUM(C36:D36) -> 0 | F36: =RaporPKn!T37*40% -> 0 | G36: =USPKN!I36*60% -> 0 | H36: =SUM(F36:G36) -> 0 | I36: ='RaporB.Ind'!T37*40% -> 0 | J36: =USB.IND!I36*60% -> 0 | K36: =SUM(I36:J36) -> 0 | L36: =RaporMat!T37*40% -> 0 | M36: =USMAT!I36*60% -> 0 | N36: =SUM(L36:M36) -> 0 | O36: =RaporIPA!T37*40% -> 0 | P36: =USIPA!I36*60% -> 0 | Q36: =SUM(O36:P36) -> 0 | R36: =RaporIPS!T37*40% -> 0 | S36: =USIPS!I36*60% -> 0 | T36: =SUM(R36:S36) -> 0 | U36: =RaporSBDP!T37*40% -> 0 | V36: =USSBDP!I36*60% -> 0 | W36: =SUM(U36:V36) -> 0 | X36: =RaporPJOK!T37*40% -> 0 | Y36: =USPJOK!I36*60% -> 0 | Z36: =SUM(X36:Y36) -> 0 | AA36: =RaporM1!T37*40% -> 0 | AB36: =USMULOK1!I36*60% -> 0 | AC36: =SUM(AA36:AB36) -> 0 | AD36: =RaporM2!T37*40% -> 0 | AE36: =USMULOK2!I36*60% -> 0 | AF36: =SUM(AD36:AE36) -> 0 | AG36: =RaporM3!T37*40% -> 0 | AH36: =USMULOK3!I36*60% -> 0 | AI36: =SUM(AG36:AH36) -> 0
B37: ='DAFTAR SISWA'!D38 -> 0 | D37: =USPAI!I37*60% -> 0 | E37: =SUM(C37:D37) -> 0 | F37: =RaporPKn!T38*40% -> 0 | G37: =USPKN!I37*60% -> 0 | H37: =SUM(F37:G37) -> 0 | I37: ='RaporB.Ind'!T38*40% -> 0 | J37: =USB.IND!I37*60% -> 0 | K37: =SUM(I37:J37) -> 0 | L37: =RaporMat!T38*40% -> 0 | M37: =USMAT!I37*60% -> 0 | N37: =SUM(L37:M37) -> 0 | O37: =RaporIPA!T38*40% -> 0 | P37: =USIPA!I37*60% -> 0 | Q37: =SUM(O37:P37) -> 0 | R37: =RaporIPS!T38*40% -> 0 | S37: =USIPS!I37*60% -> 0 | T37: =SUM(R37:S37) -> 0 | U37: =RaporSBDP!T38*40% -> 0 | V37: =USSBDP!I37*60% -> 0 | W37: =SUM(U37:V37) -> 0 | X37: =RaporPJOK!T38*40% -> 0 | Y37: =USPJOK!I37*60% -> 0 | Z37: =SUM(X37:Y37) -> 0 | AA37: =RaporM1!T38*40% -> 0 | AB37: =USMULOK1!I37*60% -> 0 | AC37: =SUM(AA37:AB37) -> 0 | AD37: =RaporM2!T38*40% -> 0 | AE37: =USMULOK2!I37*60% -> 0 | AF37: =SUM(AD37:AE37) -> 0 | AG37: =RaporM3!T38*40% -> 0 | AH37: =USMULOK3!I37*60% -> 0 | AI37: =SUM(AG37:AH37) -> 0
B38: ='DAFTAR SISWA'!D39 -> 0 | D38: =USPAI!I38 -> 0 | E38: =SUM(C38:D38) -> 0 | F38: =RaporPKn!T39*40% -> 0 | G38: =USPKN!I38*60% -> 0 | H38: =SUM(F38:G38) -> 0 | I38: ='RaporB.Ind'!T39*40% -> 0 | J38: =USB.IND!I38*60% -> 0 | K38: =SUM(I38:J38) -> 0 | L38: =RaporMat!T39*40% -> 0 | M38: =USMAT!I38*60% -> 0 | N38: =SUM(L38:M38) -> 0 | O38: =RaporIPA!T39*40% -> 0 | P38: =USIPA!I38*60% -> 0 | Q38: =SUM(O38:P38) -> 0 | R38: =RaporIPS!T39*40% -> 0 | S38: =USIPS!I38*60% -> 0 | T38: =SUM(R38:S38) -> 0 | U38: =RaporSBDP!T39*40% -> 0 | V38: =USSBDP!I38*60% -> 0 | W38: =SUM(U38:V38) -> 0 | X38: =RaporPJOK!T39*40% -> 0 | Y38: =USPJOK!I38*60% -> 0 | Z38: =SUM(X38:Y38) -> 0 | AA38: =RaporM1!T39*40% -> 0 | AB38: =USMULOK1!I38*60% -> 0 | AC38: =SUM(AA38:AB38) -> 0 | AD38: =RaporM2!T39*40% -> 0 | AE38: =USMULOK2!I38*60% -> 0 | AF38: =SUM(AD38:AE38) -> 0 | AG38: =RaporM3!T39*40% -> 0 | AH38: =USMULOK3!I38*60% -> 0 | AI38: =SUM(AG38:AH38) -> 0
B39: ='DAFTAR SISWA'!D40 -> 0 | D39: =USPAI!I39 -> 0 | E39: =SUM(C39:D39) -> 0 | F39: =RaporPKn!T40*40% -> 0 | G39: =USPKN!I39*60% -> 0 | H39: =SUM(F39:G39) -> 0 | I39: ='RaporB.Ind'!T40*40% -> 0 | J39: =USB.IND!I39*60% -> 0 | K39: =SUM(I39:J39) -> 0 | L39: =RaporMat!T40*40% -> 0 | M39: =USMAT!I39*60% -> 0 | N39: =SUM(L39:M39) -> 0 | O39: =RaporIPA!T40*40% -> 0 | P39: =USIPA!I39*60% -> 0 | Q39: =SUM(O39:P39) -> 0 | R39: =RaporIPS!T40*40% -> 0 | S39: =USIPS!I39*60% -> 0 | T39: =SUM(R39:S39) -> 0 | U39: =RaporSBDP!T40*40% -> 0 | V39: =USSBDP!I39*60% -> 0 | W39: =SUM(U39:V39) -> 0 | X39: =RaporPJOK!T40*40% -> 0 | Y39: =USPJOK!I39*60% -> 0 | Z39: =SUM(X39:Y39) -> 0 | AA39: =RaporM1!T40*40% -> 0 | AB39: =USMULOK1!I39*60% -> 0 | AC39: =SUM(AA39:AB39) -> 0 | AD39: =RaporM2!T40*40% -> 0 | AE39: =USMULOK2!I39*60% -> 0 | AF39: =SUM(AD39:AE39) -> 0 | AG39: =RaporM3!T40*40% -> 0 | AH39: =USMULOK3!I39*60% -> 0 | AI39: =SUM(AG39:AH39) -> 0
B40: ='DAFTAR SISWA'!D41 -> 0 | D40: =USPAI!I40 -> 0 | E40: =SUM(C40:D40) -> 0 | F40: =RaporPKn!T41*40% -> 0 | G40: =USPKN!I40*60% -> 0 | I40: ='RaporB.Ind'!T41*40% -> 0 | J40: =USB.IND!I40*60% -> 0 | K40: =SUM(I40:J40) -> 0 | L40: =RaporMat!T41*40% -> 0 | M40: =USMAT!I40*60% -> 0 | N40: =SUM(L40:M40) -> 0 | O40: =RaporIPA!T41*40% -> 0 | P40: =USIPA!I40*60% -> 0 | Q40: =SUM(O40:P40) -> 0 | R40: =RaporIPS!N41*40% -> 0 | S40: =USIPS!I40 -> 0 | T40: =SUM(R40:S40) -> 0 | U40: =RaporSBDP!T41*40% -> 0 | V40: =USSBDP!I40*60% -> 0 | W40: =SUM(U40:V40) -> 0 | X40: =RaporPJOK!T41*40% -> 0 | Y40: =USPJOK!I40*60% -> 0 | Z40: =SUM(X40:Y40) -> 0 | AA40: =RaporM1!T41*40% -> 0 | AB40: =USMULOK1!I40*60% -> 0 | AC40: =SUM(AA40:AB40) -> 0 | AD40: =RaporM2!T41*40% -> 0 | AE40: =USMULOK2!I40*60% -> 0 | AF40: =SUM(AD40:AE40) -> 0 | AG40: =RaporM3!T41*40% -> 0 | AH40: =USMULOK3!I40*60% -> 0 | AI40: =SUM(AG40:AH40) -> 0
B41: ='DAFTAR SISWA'!D42 -> 0 | D41: =USPAI!I41 -> 0 | E41: =SUM(C41:D41) -> 0 | F41: =RaporPKn!N42*40% -> 0 | I41: ='RaporB.Ind'!T42*40% -> 0 | J41: =USB.IND!I41*60% -> 0 | K41: =SUM(I41:J41) -> 0 | L41: =RaporMat!T42*40% -> 0 | M41: =USMAT!I41*60% -> 0 | N41: =SUM(L41:M41) -> 0 | O41: =RaporIPA!T42*40% -> 0 | P41: =USIPA!I41*60% -> 0 | Q41: =SUM(O41:P41) -> 0 | R41: =RaporIPS!N42*40% -> 0 | S41: =USIPS!I41 -> 0 | T41: =SUM(R41:S41) -> 0 | U41: =RaporSBDP!T42*40% -> 0 | V41: =USSBDP!I41*60% -> 0 | W41: =SUM(U41:V41) -> 0 | X41: =RaporPJOK!T42*40% -> 0 | Y41: =USPJOK!I41*60% -> 0 | Z41: =SUM(X41:Y41) -> 0 | AA41: =RaporM1!T42*40% -> 0 | AB41: =USMULOK1!I41*60% -> 0 | AC41: =SUM(AA41:AB41) -> 0 | AD41: =RaporM2!T42*40% -> 0 | AE41: =USMULOK2!I41*60% -> 0 | AF41: =SUM(AD41:AE41) -> 0 | AG41: =RaporM3!T42*40% -> 0 | AH41: =USMULOK3!I41*60% -> 0 | AI41: =SUM(AG41:AH41) -> 0
B42: ='DAFTAR SISWA'!D43 -> 0 | D42: =USPAI!I42 -> 0 | E42: =SUM(C42:D42) -> 0 | I42: ='RaporB.Ind'!T43*40% -> 0 | J42: =USB.IND!I42*60% -> 0 | K42: =SUM(I42:J42) -> 0 | L42: =RaporMat!T43*40% -> 0 | M42: =USMAT!I42*60% -> 0 | N42: =SUM(L42:M42) -> 0 | O42: =RaporIPA!T43*40% -> 0 | P42: =USIPA!I42*60% -> 0 | Q42: =SUM(O42:P42) -> 0 | R42: =RaporIPS!N43*40% -> 0 | S42: =USIPS!I42 -> 0 | T42: =SUM(R42:S42) -> 0 | U42: =RaporSBDP!T43*40% -> 0 | V42: =USSBDP!I42*60% -> 0 | W42: =SUM(U42:V42) -> 0 | X42: =RaporPJOK!T43*40% -> 0 | Y42: =USPJOK!I42*60% -> 0 | Z42: =SUM(X42:Y42) -> 0 | AA42: =RaporM1!T43*40% -> 0 | AB42: =USMULOK1!I42*60% -> 0 | AC42: =SUM(AA42:AB42) -> 0 | AD42: =RaporM2!T43*40% -> 0 | AE42: =USMULOK2!I42*60% -> 0 | AF42: =SUM(AD42:AE42) -> 0 | AG42: =RaporM3!T43*40% -> 0 | AH42: =USMULOK3!I42*60% -> 0 | AI42: =SUM(AG42:AH42) -> 0
B43: ='DAFTAR SISWA'!D44 -> 0 | D43: =USPAI!I43 -> 0 | I43: ='RaporB.Ind'!T44*40% -> 0 | J43: =USB.IND!I43*60% -> 0 | K43: =SUM(I43:J43) -> 0 | L43: =RaporMat!T44*40% -> 0 | M43: =USMAT!I43*60% -> 0 | N43: =SUM(L43:M43) -> 0 | O43: =RaporIPA!T44*40% -> 0 | P43: =USIPA!I43*60% -> 0 | Q43: =SUM(O43:P43) -> 0 | R43: =RaporIPS!N44*40% -> 0 | S43: =USIPS!I43 -> 0 | T43: =SUM(R43:S43) -> 0 | U43: =RaporSBDP!T44*40% -> 0 | V43: =USSBDP!I43*60% -> 0 | W43: =SUM(U43:V43) -> 0 | X43: =RaporPJOK!T44*40% -> 0 | Y43: =USPJOK!I43*60% -> 0 | Z43: =SUM(X43:Y43) -> 0 | AA43: =RaporM1!T44*40% -> 0 | AB43: =USMULOK1!I43*60% -> 0 | AC43: =SUM(AA43:AB43) -> 0 | AD43: =RaporM2!T44*40% -> 0 | AE43: =USMULOK2!I43*60% -> 0 | AF43: =SUM(AD43:AE43) -> 0 | AG43: =RaporM3!T44*40% -> 0 | AH43: =USMULOK3!I43*60% -> 0 | AI43: =SUM(AG43:AH43) -> 0
B44: ='DAFTAR SISWA'!D45 -> 0 | I44: ='RaporB.Ind'!T45*40% -> 0 | K44: =SUM(I44:J44) -> 0 | L44: =RaporMat!T45*40% -> 0 | M44: =USMAT!I44*60% -> 0 | N44: =SUM(L44:M44) -> 0 | O44: =RaporIPA!T45*40% -> 0 | P44: =USIPA!I44*60% -> 0 | Q44: =SUM(O44:P44) -> 0 | R44: =RaporIPS!T45*40% -> 0 | S44: =USIPS!I44 -> 0 | T44: =SUM(R44:S44) -> 0 | U44: =RaporSBDP!T45*40% -> 0 | V44: =USSBDP!I44*60% -> 0 | W44: =SUM(U44:V44) -> 0 | X44: =RaporPJOK!T45*40% -> 0 | Y44: =USPJOK!I44*60% -> 0 | Z44: =SUM(X44:Y44) -> 0 | AA44: =RaporM1!N45*40% -> 0 | AB44: =USMULOK1!I44*60% -> 0 | AC44: =SUM(AA44:AB44) -> 0 | AD44: =RaporM2!T45*40% -> 0 | AE44: =USMULOK2!I44*60% -> 0 | AF44: =SUM(AD44:AE44) -> 0 | AG44: =RaporM3!T45*40% -> 0 | AH44: =USMULOK3!I44*60% -> 0 | AI44: =SUM(AG44:AH44) -> 0
B45: ='DAFTAR SISWA'!D46 -> 0 | I45: ='RaporB.Ind'!T46*40% -> 0 | K45: =SUM(I45:J45) -> 0 | L45: =RaporMat!T46*40% -> 0 | M45: =USMAT!I45*60% -> 0 | N45: =SUM(L45:M45) -> 0 | O45: =RaporIPA!T46*40% -> 0 | P45: =USIPA!I45*60% -> 0 | Q45: =SUM(O45:P45) -> 0 | R45: =RaporIPS!T46*40% -> 0 | S45: =USIPS!I45 -> 0 | T45: =SUM(R45:S45) -> 0 | U45: =RaporSBDP!T46*40% -> 0 | V45: =USSBDP!I45*60% -> 0 | W45: =SUM(U45:V45) -> 0 | X45: =RaporPJOK!T46*40% -> 0 | Y45: =USPJOK!I45*60% -> 0 | Z45: =SUM(X45:Y45) -> 0 | AA45: =RaporM1!N46*40% -> 0 | AB45: =USMULOK1!I45*60% -> 0 | AC45: =SUM(AA45:AB45) -> 0 | AD45: =RaporM2!T46*40% -> 0 | AE45: =USMULOK2!I45*60% -> 0 | AF45: =SUM(AD45:AE45) -> 0 | AG45: =RaporM3!T46*40% -> 0 | AH45: =USMULOK3!I45*60% -> 0 | AI45: =SUM(AG45:AH45) -> 0
B46: ='DAFTAR SISWA'!D47 -> 0 | I46: ='RaporB.Ind'!T47*40% -> 0 | K46: =SUM(I46:J46) -> 0 | L46: =RaporMat!T47*40% -> 0 | M46: =USMAT!I46*60% -> 0 | N46: =SUM(L46:M46) -> 0 | O46: =RaporIPA!T47*40% -> 0 | P46: =USIPA!I46*60% -> 0 | Q46: =SUM(O46:P46) -> 0 | R46: =RaporIPS!T47*40% -> 0 | S46: =USIPS!I46 -> 0 | T46: =SUM(R46:S46) -> 0 | U46: =RaporSBDP!T47*40% -> 0 | V46: =USSBDP!I46*60% -> 0 | W46: =SUM(U46:V46) -> 0 | X46: =RaporPJOK!T47*40% -> 0 | Y46: =USPJOK!I46*60% -> 0 | Z46: =SUM(X46:Y46) -> 0 | AA46: =RaporM1!N47*40% -> 0 | AB46: =USMULOK1!I46*60% -> 0 | AC46: =SUM(AA46:AB46) -> 0 | AD46: =RaporM2!T47*40% -> 0 | AE46: =USMULOK2!I46*60% -> 0 | AF46: =SUM(AD46:AE46) -> 0 | AG46: =RaporM3!T47*40% -> 0 | AH46: =USMULOK3!I46*60% -> 0 | AI46: =SUM(AG46:AH46) -> 0
B47: ='DAFTAR SISWA'!D48 -> 0 | K47: =SUM(I47:J47) -> 0 | L47: =RaporMat!T48*40% -> 0 | M47: =USMAT!I47*60% -> 0 | N47: =SUM(L47:M47) -> 0 | O47: =RaporIPA!T48*40% -> 0 | P47: =USIPA!I47*60% -> 0 | Q47: =SUM(O47:P47) -> 0 | R47: =RaporIPS!T48*40% -> 0 | S47: =USIPS!I47 -> 0 | T47: =SUM(R47:S47) -> 0 | U47: =RaporSBDP!T48*40% -> 0 | V47: =USSBDP!I47*60% -> 0 | W47: =SUM(U47:V47) -> 0 | X47: =RaporPJOK!N48*40% -> 0 | Y47: =USPJOK!I47*60% -> 0 | Z47: =SUM(X47:Y47) -> 0 | AA47: =RaporM1!N48*40% -> 0 | AB47: =USMULOK1!I47*60% -> 0 | AC47: =SUM(AA47:AB47) -> 0 | AD47: =RaporM2!T48*40% -> 0 | AE47: =USMULOK2!I47*60% -> 0 | AF47: =SUM(AD47:AE47) -> 0 | AG47: =RaporM3!T48*40% -> 0 | AH47: =USMULOK3!I47*60% -> 0 | AI47: =SUM(AG47:AH47) -> 0
B48: ='DAFTAR SISWA'!D49 -> dono | K48: =SUM(I48:J48) -> 0 | L48: =RaporMat!T49*40% -> 0 | M48: =USMAT!I48*60% -> 0 | N48: =SUM(L48:M48) -> 0 | O48: =RaporIPA!T49*40% -> 0 | P48: =USIPA!I48*60% -> 0 | Q48: =SUM(O48:P48) -> 0 | R48: =RaporIPS!N49*40% -> 0 | S48: =USIPS!I48 -> 0 | T48: =SUM(R48:S48) -> 0 | U48: =RaporSBDP!T49*40% -> 0 | V48: =USSBDP!I48*60% -> 0 | W48: =SUM(U48:V48) -> 0 | X48: =RaporPJOK!N49*40% -> 0 | Y48: =USPJOK!I48*60% -> 0 | Z48: =SUM(X48:Y48) -> 0 | AA48: =RaporM1!N49*40% -> 0 | AB48: =USMULOK1!I48*60% -> 0 | AC48: =SUM(AA48:AB48) -> 0 | AD48: =RaporM2!T49*40% -> 0 | AE48: =USMULOK2!I48*60% -> 0 | AF48: =SUM(AD48:AE48) -> 0 | AG48: =RaporM3!T49*40% -> 0 | AH48: =USMULOK3!I48*60% -> 0 | AI48: =SUM(AG48:AH48) -> 0
B49: ='DAFTAR SISWA'!D50 -> 0 | K49: =SUM(I49:J49) -> 0 | L49: =RaporMat!T50*40% -> 0 | M49: =USMAT!I49*60% -> 0 | N49: =SUM(L49:M49) -> 0 | O49: =RaporIPA!T50*40% -> 0 | P49: =USIPA!I49*60% -> 0 | Q49: =SUM(O49:P49) -> 0 | R49: =RaporIPS!N50*40% -> 0 | S49: =USIPS!I49 -> 0 | T49: =SUM(R49:S49) -> 0 | U49: =RaporSBDP!T50*40% -> 0 | V49: =USSBDP!I49*60% -> 0 | W49: =SUM(U49:V49) -> 0 | X49: =RaporPJOK!N50*40% -> 0 | Y49: =USPJOK!I49*60% -> 0 | Z49: =SUM(X49:Y49) -> 0 | AA49: =RaporM1!N50*40% -> 0 | AB49: =USMULOK1!I49*60% -> 0 | AC49: =SUM(AA49:AB49) -> 0 | AD49: =RaporM2!T50*40% -> 0 | AE49: =USMULOK2!I49*60% -> 0 | AF49: =SUM(AD49:AE49) -> 0 | AG49: =RaporM3!T50*40% -> 0 | AH49: =USMULOK3!I49*60% -> 0 | AI49: =SUM(AG49:AH49) -> 0
B50: ='DAFTAR SISWA'!D51 -> 0 | K50: =SUM(I50:J50) -> 0 | L50: =RaporMat!T51*40% -> 0 | M50: =USMAT!I50*60% -> 0 | N50: =SUM(L50:M50) -> 0 | O50: =RaporIPA!T51*40% -> 0 | P50: =USIPA!I50*60% -> 0 | Q50: =SUM(O50:P50) -> 0 | R50: =RaporIPS!N51*40% -> 0 | S50: =USIPS!I50 -> 0 | T50: =SUM(R50:S50) -> 0 | U50: =RaporSBDP!T51*40% -> 0 | V50: =USSBDP!I50*60% -> 0 | W50: =SUM(U50:V50) -> 0 | X50: =RaporPJOK!N51*40% -> 0 | Y50: =USPJOK!I50*60% -> 0 | Z50: =SUM(X50:Y50) -> 0 | AA50: =RaporM1!N51*40% -> 0 | AB50: =USMULOK1!I50*60% -> 0 | AC50: =SUM(AA50:AB50) -> 0 | AD50: =RaporM2!T51*40% -> 0 | AE50: =USMULOK2!I50*60% -> 0 | AF50: =SUM(AD50:AE50) -> 0 | AG50: =RaporM3!T51*40% -> 0 | AH50: =USMULOK3!I50*60% -> 0 | AI50: =SUM(AG50:AH50) -> 0
B51: ='DAFTAR SISWA'!D52 -> 0 | K51: =SUM(I51:J51) -> 0 | L51: =RaporMat!T52*40% -> 0 | M51: =USMAT!I51*60% -> 0 | N51: =SUM(L51:M51) -> 0 | O51: =RaporIPA!T52*40% -> 0 | P51: =USIPA!I51*60% -> 0 | Q51: =SUM(O51:P51) -> 0 | R51: =RaporIPS!N52*40% -> 0 | S51: =USIPS!I51 -> 0 | T51: =SUM(R51:S51) -> 0 | U51: =RaporSBDP!T52*40% -> 0 | V51: =USSBDP!I51*60% -> 0 | W51: =SUM(U51:V51) -> 0 | X51: =RaporPJOK!N52*40% -> 0 | Y51: =USPJOK!I51*60% -> 0 | Z51: =SUM(X51:Y51) -> 0 | AA51: =RaporM1!N52*40% -> 0 | AB51: =USMULOK1!I51*60% -> 0 | AC51: =SUM(AA51:AB51) -> 0 | AD51: =RaporM2!T52*40% -> 0 | AE51: =USMULOK2!I51*60% -> 0 | AF51: =SUM(AD51:AE51) -> 0 | AG51: =RaporM3!T52*40% -> 0 | AH51: =USMULOK3!I51*60% -> 0 | AI51: =SUM(AG51:AH51) -> 0
B52: ='DAFTAR SISWA'!D53 -> 0 | C52: =' RaporPAI'!T53*40% -> 0 | D52: =USPAI!I52*60% -> 0 | E52: =SUM(C52:D52) -> 0 | F52: =RaporPKn!T53*40% -> 0 | G52: =USPKN!I52*60% -> 0 | H52: =SUM(F52:G52) -> 0 | I52: ='RaporB.Ind'!T53*40% -> 0 | J52: =USB.IND!I52*60% -> 0 | K52: =SUM(I52:J52) -> 0 | L52: =RaporMat!T53*40% -> 0 | M52: =USMAT!I52*60% -> 0 | N52: =SUM(L52:M52) -> 0 | O52: =RaporIPA!T53*40% -> 0 | P52: =USIPA!I52*60% -> 0 | Q52: =SUM(O52:P52) -> 0 | R52: =RaporIPS!T53*40% -> 0 | S52: =USIPS!I52*60% -> 0 | T52: =SUM(R52:S52) -> 0 | U52: =RaporSBDP!T53*40% -> 0 | V52: =USSBDP!I52*60% -> 0 | W52: =SUM(U52:V52) -> 0 | X52: =RaporPJOK!T53*40% -> 0 | Y52: =USPJOK!I52*60% -> 0 | Z52: =SUM(X52:Y52) -> 0 | AA52: =RaporM1!T53*40% -> 0 | AB52: =USMULOK1!I52*60% -> 0 | AC52: =SUM(AA52:AB52) -> 0 | AD52: =RaporM2!T53*40% -> 0 | AE52: =USMULOK2!I52*60% -> 0 | AF52: =SUM(AD52:AE52) -> 0 | AG52: =RaporM3!T53*40% -> 0 | AH52: =USMULOK3!I52*60% -> 0 | AI52: =SUM(AG52:AH52) -> 0
B53: ='DAFTAR SISWA'!D54 -> 0 | C53: =' RaporPAI'!T54*40% -> 0 | D53: =USPAI!I53*60% -> 0 | E53: =SUM(C53:D53) -> 0 | F53: =RaporPKn!T54*40% -> 0 | G53: =USPKN!I53*60% -> 0 | H53: =SUM(F53:G53) -> 0 | I53: ='RaporB.Ind'!T54*40% -> 0 | J53: =USB.IND!I53*60% -> 0 | K53: =SUM(I53:J53) -> 0 | L53: =RaporMat!T54*40% -> 0 | M53: =USMAT!I53*60% -> 0 | N53: =SUM(L53:M53) -> 0 | O53: =RaporIPA!T54*40% -> 0 | P53: =USIPA!I53*60% -> 0 | Q53: =SUM(O53:P53) -> 0 | R53: =RaporIPS!T54*40% -> 0 | S53: =USIPS!I53*60% -> 0 | T53: =SUM(R53:S53) -> 0 | U53: =RaporSBDP!T54*40% -> 0 | V53: =USSBDP!I53*60% -> 0 | W53: =SUM(U53:V53) -> 0 | X53: =RaporPJOK!T54*40% -> 0 | Y53: =USPJOK!I53*60% -> 0 | Z53: =SUM(X53:Y53) -> 0 | AA53: =RaporM1!T54*40% -> 0 | AB53: =USMULOK1!I53*60% -> 0 | AC53: =SUM(AA53:AB53) -> 0 | AD53: =RaporM2!T54*40% -> 0 | AE53: =USMULOK2!I53*60% -> 0 | AF53: =SUM(AD53:AE53) -> 0 | AG53: =RaporM3!T54*40% -> 0 | AH53: =USMULOK3!I53*60% -> 0 | AI53: =SUM(AG53:AH53) -> 0
B54: ='DAFTAR SISWA'!D55 -> 0 | C54: =' RaporPAI'!T55*40% -> 0 | D54: =USPAI!I54*60% -> 0 | E54: =SUM(C54:D54) -> 0 | F54: =RaporPKn!T55*40% -> 0 | G54: =USPKN!I54*60% -> 0 | H54: =SUM(F54:G54) -> 0 | I54: ='RaporB.Ind'!T55*40% -> 0 | J54: =USB.IND!I54*60% -> 0 | K54: =SUM(I54:J54) -> 0 | L54: =RaporMat!T55*40% -> 0 | M54: =USMAT!I54*60% -> 0 | N54: =SUM(L54:M54) -> 0 | O54: =RaporIPA!T55*40% -> 0 | P54: =USIPA!I54*60% -> 0 | Q54: =SUM(O54:P54) -> 0 | R54: =RaporIPS!T55*40% -> 0 | S54: =USIPS!I54*60% -> 0 | T54: =SUM(R54:S54) -> 0 | U54: =RaporSBDP!T55*40% -> 0 | V54: =USSBDP!I54*60% -> 0 | W54: =SUM(U54:V54) -> 0 | X54: =RaporPJOK!T55*40% -> 0 | Y54: =USPJOK!I54*60% -> 0 | Z54: =SUM(X54:Y54) -> 0 | AA54: =RaporM1!T55*40% -> 0 | AB54: =USMULOK1!I54*60% -> 0 | AC54: =SUM(AA54:AB54) -> 0 | AD54: =RaporM2!T55*40% -> 0 | AE54: =USMULOK2!I54*60% -> 0 | AF54: =SUM(AD54:AE54) -> 0 | AG54: =RaporM3!T55*40% -> 0 | AH54: =USMULOK3!I54*60% -> 0 | AI54: =SUM(AG54:AH54) -> 0
B55: ='DAFTAR SISWA'!D56 -> 0 | C55: =' RaporPAI'!T56*40% -> 0 | D55: =USPAI!I55*60% -> 0 | E55: =SUM(C55:D55) -> 0 | F55: =RaporPKn!T56*40% -> 0 | G55: =USPKN!I55*60% -> 0 | H55: =SUM(F55:G55) -> 0 | I55: ='RaporB.Ind'!T56*40% -> 0 | J55: =USB.IND!I55*60% -> 0 | K55: =SUM(I55:J55) -> 0 | L55: =RaporMat!T56*40% -> 0 | M55: =USMAT!I55*60% -> 0 | N55: =SUM(L55:M55) -> 0 | O55: =RaporIPA!T56*40% -> 0 | P55: =USIPA!I55*60% -> 0 | Q55: =SUM(O55:P55) -> 0 | R55: =RaporIPS!T56*40% -> 0 | S55: =USIPS!I55*60% -> 0 | T55: =SUM(R55:S55) -> 0 | U55: =RaporSBDP!T56*40% -> 0 | V55: =USSBDP!I55*60% -> 0 | W55: =SUM(U55:V55) -> 0 | X55: =RaporPJOK!T56*40% -> 0 | Y55: =USPJOK!I55*60% -> 0 | Z55: =SUM(X55:Y55) -> 0 | AA55: =RaporM1!T56*40% -> 0 | AB55: =USMULOK1!I55*60% -> 0 | AC55: =SUM(AA55:AB55) -> 0 | AD55: =RaporM2!T56*40% -> 0 | AE55: =USMULOK2!I55*60% -> 0 | AF55: =SUM(AD55:AE55) -> 0 | AG55: =RaporM3!T56*40% -> 0 | AH55: =USMULOK3!I55*60% -> 0 | AI55: =SUM(AG55:AH55) -> 0
B56: ='DAFTAR SISWA'!D57 -> 0 | C56: =' RaporPAI'!T57*40% -> 0 | D56: =USPAI!I56*60% -> 0 | E56: =SUM(C56:D56) -> 0 | F56: =RaporPKn!T57*40% -> 0 | G56: =USPKN!I56*60% -> 0 | H56: =SUM(F56:G56) -> 0 | I56: ='RaporB.Ind'!T57*40% -> 0 | J56: =USB.IND!I56*60% -> 0 | K56: =SUM(I56:J56) -> 0 | L56: =RaporMat!T57*40% -> 0 | M56: =USMAT!I56*60% -> 0 | N56: =SUM(L56:M56) -> 0 | O56: =RaporIPA!T57*40% -> 0 | P56: =USIPA!I56*60% -> 0 | Q56: =SUM(O56:P56) -> 0 | R56: =RaporIPS!T57*40% -> 0 | S56: =USIPS!I56*60% -> 0 | T56: =SUM(R56:S56) -> 0 | U56: =RaporSBDP!T57*40% -> 0 | V56: =USSBDP!I56*60% -> 0 | W56: =SUM(U56:V56) -> 0 | X56: =RaporPJOK!T57*40% -> 0 | Y56: =USPJOK!I56*60% -> 0 | Z56: =SUM(X56:Y56) -> 0 | AA56: =RaporM1!T57*40% -> 0 | AB56: =USMULOK1!I56*60% -> 0 | AC56: =SUM(AA56:AB56) -> 0 | AD56: =RaporM2!T57*40% -> 0 | AE56: =USMULOK2!I56*60% -> 0 | AF56: =SUM(AD56:AE56) -> 0 | AG56: =RaporM3!T57*40% -> 0 | AH56: =USMULOK3!I56*60% -> 0 | AI56: =SUM(AG56:AH56) -> 0
B57: ='DAFTAR SISWA'!D58 -> 0 | C57: =' RaporPAI'!T58*40% -> 0 | D57: =USPAI!I57*60% -> 0 | E57: =SUM(C57:D57) -> 0 | F57: =RaporPKn!T58*40% -> 0 | G57: =USPKN!I57*60% -> 0 | H57: =SUM(F57:G57) -> 0 | I57: ='RaporB.Ind'!T58*40% -> 0 | J57: =USB.IND!I57*60% -> 0 | K57: =SUM(I57:J57) -> 0 | L57: =RaporMat!T58*40% -> 0 | M57: =USMAT!I57*60% -> 0 | N57: =SUM(L57:M57) -> 0 | O57: =RaporIPA!T58*40% -> 0 | P57: =USIPA!I57*60% -> 0 | Q57: =SUM(O57:P57) -> 0 | R57: =RaporIPS!T58*40% -> 0 | S57: =USIPS!I57*60% -> 0 | T57: =SUM(R57:S57) -> 0 | U57: =RaporSBDP!T58*40% -> 0 | V57: =USSBDP!I57*60% -> 0 | W57: =SUM(U57:V57) -> 0 | X57: =RaporPJOK!T58*40% -> 0 | Y57: =USPJOK!I57*60% -> 0 | Z57: =SUM(X57:Y57) -> 0 | AA57: =RaporM1!T58*40% -> 0 | AB57: =USMULOK1!I57*60% -> 0 | AC57: =SUM(AA57:AB57) -> 0 | AD57: =RaporM2!T58*40% -> 0 | AE57: =USMULOK2!I57*60% -> 0 | AF57: =SUM(AD57:AE57) -> 0 | AG57: =RaporM3!T58*40% -> 0 | AH57: =USMULOK3!I57*60% -> 0 | AI57: =SUM(AG57:AH57) -> 0
B58: ='DAFTAR SISWA'!D59 -> 0 | C58: =' RaporPAI'!T59*40% -> 0 | D58: =USPAI!I58*60% -> 0 | E58: =SUM(C58:D58) -> 0 | F58: =RaporPKn!T59*40% -> 0 | G58: =USPKN!I58*60% -> 0 | H58: =SUM(F58:G58) -> 0 | I58: ='RaporB.Ind'!T59*40% -> 0 | J58: =USB.IND!I58*60% -> 0 | K58: =SUM(I58:J58) -> 0 | L58: =RaporMat!T59*40% -> 0 | M58: =USMAT!I58*60% -> 0 | N58: =SUM(L58:M58) -> 0 | O58: =RaporIPA!T59*40% -> 0 | P58: =USIPA!I58*60% -> 0 | Q58: =SUM(O58:P58) -> 0 | R58: =RaporIPS!T59*40% -> 0 | S58: =USIPS!I58*60% -> 0 | T58: =SUM(R58:S58) -> 0 | U58: =RaporSBDP!T59*40% -> 0 | V58: =USSBDP!I58*60% -> 0 | W58: =SUM(U58:V58) -> 0 | X58: =RaporPJOK!T59*40% -> 0 | Y58: =USPJOK!I58*60% -> 0 | Z58: =SUM(X58:Y58) -> 0 | AA58: =RaporM1!T59*40% -> 0 | AB58: =USMULOK1!I58*60% -> 0 | AC58: =SUM(AA58:AB58) -> 0 | AD58: =RaporM2!T59*40% -> 0 | AE58: =USMULOK2!I58*60% -> 0 | AF58: =SUM(AD58:AE58) -> 0 | AG58: =RaporM3!T59*40% -> 0 | AH58: =USMULOK3!I58*60% -> 0 | AI58: =SUM(AG58:AH58) -> 0
B59: ='DAFTAR SISWA'!D60 -> 0 | C59: =' RaporPAI'!T60*40% -> 0 | D59: =USPAI!I59*60% -> 0 | E59: =SUM(C59:D59) -> 0 | F59: =RaporPKn!T60*40% -> 0 | G59: =USPKN!I59*60% -> 0 | H59: =SUM(F59:G59) -> 0 | I59: ='RaporB.Ind'!T60*40% -> 0 | J59: =USB.IND!I59*60% -> 0 | K59: =SUM(I59:J59) -> 0 | L59: =RaporMat!T60*40% -> 0 | M59: =USMAT!I59*60% -> 0 | N59: =SUM(L59:M59) -> 0 | O59: =RaporIPA!T60*40% -> 0 | P59: =USIPA!I59*60% -> 0 | Q59: =SUM(O59:P59) -> 0 | R59: =RaporIPS!T60*40% -> 0 | S59: =USIPS!I59*60% -> 0 | T59: =SUM(R59:S59) -> 0 | U59: =RaporSBDP!T60*40% -> 0 | V59: =USSBDP!I59*60% -> 0 | W59: =SUM(U59:V59) -> 0 | X59: =RaporPJOK!T60*40% -> 0 | Y59: =USPJOK!I59*60% -> 0 | Z59: =SUM(X59:Y59) -> 0 | AA59: =RaporM1!T60*40% -> 0 | AB59: =USMULOK1!I59*60% -> 0 | AC59: =SUM(AA59:AB59) -> 0 | AD59: =RaporM2!T60*40% -> 0 | AE59: =USMULOK2!I59*60% -> 0 | AF59: =SUM(AD59:AE59) -> 0 | AG59: =RaporM3!T60*40% -> 0 | AH59: =USMULOK3!I59*60% -> 0 | AI59: =SUM(AG59:AH59) -> 0
B60: ='DAFTAR SISWA'!D61 -> 0 | C60: =' RaporPAI'!T61*40% -> 0 | D60: =USPAI!I60*60% -> 0 | E60: =SUM(C60:D60) -> 0 | F60: =RaporPKn!T61*40% -> 0 | G60: =USPKN!I60*60% -> 0 | H60: =SUM(F60:G60) -> 0 | I60: ='RaporB.Ind'!T61*40% -> 0 | J60: =USB.IND!I60*60% -> 0 | K60: =SUM(I60:J60) -> 0 | L60: =RaporMat!T61*40% -> 0 | M60: =USMAT!I60*60% -> 0 | N60: =SUM(L60:M60) -> 0 | O60: =RaporIPA!T61*40% -> 0 | P60: =USIPA!I60*60% -> 0 | Q60: =SUM(O60:P60) -> 0 | R60: =RaporIPS!T61*40% -> 0 | S60: =USIPS!I60*60% -> 0 | T60: =SUM(R60:S60) -> 0 | U60: =RaporSBDP!T61*40% -> 0 | V60: =USSBDP!I60*60% -> 0 | W60: =SUM(U60:V60) -> 0 | X60: =RaporPJOK!T61*40% -> 0 | Y60: =USPJOK!I60*60% -> 0 | Z60: =SUM(X60:Y60) -> 0 | AA60: =RaporM1!T61*40% -> 0 | AB60: =USMULOK1!I60*60% -> 0 | AC60: =SUM(AA60:AB60) -> 0 | AD60: =RaporM2!T61*40% -> 0 | AE60: =USMULOK2!I60*60% -> 0 | AF60: =SUM(AD60:AE60) -> 0 | AG60: =RaporM3!T61*40% -> 0 | AH60: =USMULOK3!I60*60% -> 0 | AI60: =SUM(AG60:AH60) -> 0
B61: ='DAFTAR SISWA'!D62 -> 0 | C61: =' RaporPAI'!T62*40% -> 0 | D61: =USPAI!I61*60% -> 0 | E61: =SUM(C61:D61) -> 0 | F61: =RaporPKn!T62*40% -> 0 | G61: =USPKN!I61*60% -> 0 | H61: =SUM(F61:G61) -> 0 | I61: ='RaporB.Ind'!T62*40% -> 0 | J61: =USB.IND!I61*60% -> 0 | K61: =SUM(I61:J61) -> 0 | L61: =RaporMat!T62*40% -> 0 | M61: =USMAT!I61*60% -> 0 | N61: =SUM(L61:M61) -> 0 | O61: =RaporIPA!T62*40% -> 0 | P61: =USIPA!I61*60% -> 0 | Q61: =SUM(O61:P61) -> 0 | R61: =RaporIPS!T62*40% -> 0 | S61: =USIPS!I61*60% -> 0 | T61: =SUM(R61:S61) -> 0 | U61: =RaporSBDP!T62*40% -> 0 | V61: =USSBDP!I61*60% -> 0 | W61: =SUM(U61:V61) -> 0 | X61: =RaporPJOK!T62*40% -> 0 | Y61: =USPJOK!I61*60% -> 0 | Z61: =SUM(X61:Y61) -> 0 | AA61: =RaporM1!T62*40% -> 0 | AB61: =USMULOK1!I61*60% -> 0 | AC61: =SUM(AA61:AB61) -> 0 | AD61: =RaporM2!T62*40% -> 0 | AE61: =USMULOK2!I61*60% -> 0 | AF61: =SUM(AD61:AE61) -> 0 | AG61: =RaporM3!T62*40% -> 0 | AH61: =USMULOK3!I61*60% -> 0 | AI61: =SUM(AG61:AH61) -> 0
B62: ='DAFTAR SISWA'!D63 -> 0 | C62: =' RaporPAI'!T63*40% -> 0 | D62: =USPAI!I62*60% -> 0 | E62: =SUM(C62:D62) -> 0 | F62: =RaporPKn!T63*40% -> 0 | G62: =USPKN!I62*60% -> 0 | H62: =SUM(F62:G62) -> 0 | I62: ='RaporB.Ind'!T63*40% -> 0 | J62: =USB.IND!I62*60% -> 0 | K62: =SUM(I62:J62) -> 0 | L62: =RaporMat!T63*40% -> 0 | M62: =USMAT!I62*60% -> 0 | N62: =SUM(L62:M62) -> 0 | O62: =RaporIPA!T63*40% -> 0 | P62: =USIPA!I62*60% -> 0 | Q62: =SUM(O62:P62) -> 0 | R62: =RaporIPS!T63*40% -> 0 | S62: =USIPS!I62*60% -> 0 | T62: =SUM(R62:S62) -> 0 | U62: =RaporSBDP!T63*40% -> 0 | V62: =USSBDP!I62*60% -> 0 | W62: =SUM(U62:V62) -> 0 | X62: =RaporPJOK!T63*40% -> 0 | Y62: =USPJOK!I62*60% -> 0 | Z62: =SUM(X62:Y62) -> 0 | AA62: =RaporM1!T63*40% -> 0 | AB62: =USMULOK1!I62*60% -> 0 | AC62: =SUM(AA62:AB62) -> 0 | AD62: =RaporM2!T63*40% -> 0 | AE62: =USMULOK2!I62*60% -> 0 | AF62: =SUM(AD62:AE62) -> 0 | AG62: =RaporM3!T63*40% -> 0 | AH62: =USMULOK3!I62*60% -> 0 | AI62: =SUM(AG62:AH62) -> 0
B63: ='DAFTAR SISWA'!D64 -> 0 | C63: =' RaporPAI'!T64*40% -> 0 | D63: =USPAI!I63*60% -> 0 | E63: =SUM(C63:D63) -> 0 | F63: =RaporPKn!T64*40% -> 0 | G63: =USPKN!I63*60% -> 0 | H63: =SUM(F63:G63) -> 0 | I63: ='RaporB.Ind'!T64*40% -> 0 | J63: =USB.IND!I63*60% -> 0 | K63: =SUM(I63:J63) -> 0 | L63: =RaporMat!T64*40% -> 0 | M63: =USMAT!I63*60% -> 0 | N63: =SUM(L63:M63) -> 0 | O63: =RaporIPA!T64*40% -> 0 | P63: =USIPA!I63*60% -> 0 | Q63: =SUM(O63:P63) -> 0 | R63: =RaporIPS!T64*40% -> 0 | S63: =USIPS!I63*60% -> 0 | T63: =SUM(R63:S63) -> 0 | U63: =RaporSBDP!T64*40% -> 0 | V63: =USSBDP!I63*60% -> 0 | W63: =SUM(U63:V63) -> 0 | X63: =RaporPJOK!T64*40% -> 0 | Y63: =USPJOK!I63*60% -> 0 | Z63: =SUM(X63:Y63) -> 0 | AA63: =RaporM1!T64*40% -> 0 | AB63: =USMULOK1!I63*60% -> 0 | AC63: =SUM(AA63:AB63) -> 0 | AD63: =RaporM2!T64*40% -> 0 | AE63: =USMULOK2!I63*60% -> 0 | AF63: =SUM(AD63:AE63) -> 0 | AG63: =RaporM3!T64*40% -> 0 | AH63: =USMULOK3!I63*60% -> 0 | AI63: =SUM(AG63:AH63) -> 0
... B69: ='DAFTAR SISWA'!D70 -> 0 | C69: =' RaporPAI'!T70*40% -> 0 | D69: =USPAI!I69*60% -> 0 | E69: =SUM(C69:D69) -> 0 | F69: =RaporPKn!T70*40% -> 0 | G69: =USPKN!I69*60% -> 0 | H69: =SUM(F69:G69) -> 0 | I69: ='RaporB.Ind'!T70*40% -> 0 | J69: =USB.IND!I69*60% -> 0 | K69: =SUM(I69:J69) -> 0 | L69: =RaporMat!T70*40% -> 0 | M69: =USMAT!I69*60% -> 0 | N69: =SUM(L69:M69) -> 0 | O69: =RaporIPA!T70*40% -> 0 | P69: =USIPA!I69*60% -> 0 | Q69: =SUM(O69:P69) -> 0 | R69: =RaporIPS!T70*40% -> 0 | S69: =USIPS!I69*60% -> 0 | T69: =SUM(R69:S69) -> 0 | U69: =RaporSBDP!T70*40% -> 0 | V69: =USSBDP!I69*60% -> 0 | W69: =SUM(U69:V69) -> 0 | X69: =RaporPJOK!T70*40% -> 0 | Y69: =USPJOK!I69*60% -> 0 | Z69: =SUM(X69:Y69) -> 0 | AA69: =RaporM1!T70*40% -> 0 | AB69: =USMULOK1!I69*60% -> 0 | AC69: =SUM(AA69:AB69) -> 0 | AD69: =RaporM2!T70*40% -> 0 | AE69: =USMULOK2!I69*60% -> 0 | AF69: =SUM(AD69:AE69) -> 0 | AG69: =RaporM3!T70*40% -> 0 | AH69: =USMULOK3!I69*60% -> 0 | AI69: =SUM(AG69:AH69) -> 0
C70: =' RaporPAI'!T71*40% -> 0 | D70: =USPAI!I70*60% -> 0 | E70: =SUM(C70:D70) -> 0 | F70: =RaporPKn!T71*40% -> 0 | G70: =USPKN!I70*60% -> 0 | H70: =SUM(F70:G70) -> 0 | I70: ='RaporB.Ind'!T71*40% -> 0 | J70: =USB.IND!I70*60% -> 0 | K70: =SUM(I70:J70) -> 0 | L70: =RaporMat!T71*40% -> 0 | M70: =USMAT!I70*60% -> 0 | N70: =SUM(L70:M70) -> 0 | O70: =RaporIPA!T71*40% -> 0 | P70: =USIPA!I70*60% -> 0 | Q70: =SUM(O70:P70) -> 0 | R70: =RaporIPS!T71*40% -> 0 | S70: =USIPS!I70*60% -> 0 | T70: =SUM(R70:S70) -> 0 | U70: =RaporSBDP!T71*40% -> 0 | V70: =USSBDP!I70*60% -> 0 | W70: =SUM(U70:V70) -> 0 | X70: =RaporPJOK!T71*40% -> 0 | Y70: =USPJOK!I70*60% -> 0 | Z70: =SUM(X70:Y70) -> 0 | AA70: =RaporM1!T71*40% -> 0 | AB70: =USMULOK1!I70*60% -> 0 | AC70: =SUM(AA70:AB70) -> 0 | AD70: =RaporM2!T71*40% -> 0 | AE70: =USMULOK2!I70*60% -> 0 | AF70: =SUM(AD70:AE70) -> 0 | AG70: =RaporM3!T71*40% -> 0 | AH70: =USMULOK3!I70*60% -> 0 | AI70: =SUM(AG70:AH70) -> 0
C71: =' RaporPAI'!T72*40% -> 0 | D71: =USPAI!I71*60% -> 0 | E71: =SUM(C71:D71) -> 0 | F71: =RaporPKn!T72*40% -> 0 | G71: =USPKN!I71*60% -> 0 | H71: =SUM(F71:G71) -> 0 | I71: ='RaporB.Ind'!T72*40% -> 0 | J71: =USB.IND!I71*60% -> 0 | K71: =SUM(I71:J71) -> 0 | L71: =RaporMat!T72*40% -> 0 | M71: =USMAT!I71*60% -> 0 | N71: =SUM(L71:M71) -> 0 | O71: =RaporIPA!T72*40% -> 0 | P71: =USIPA!I71*60% -> 0 | Q71: =SUM(O71:P71) -> 0 | R71: =RaporIPS!T72*40% -> 0 | S71: =USIPS!I71*60% -> 0 | T71: =SUM(R71:S71) -> 0 | U71: =RaporSBDP!T72*40% -> 0 | V71: =USSBDP!I71*60% -> 0 | W71: =SUM(U71:V71) -> 0 | X71: =RaporPJOK!T72*40% -> 0 | Y71: =USPJOK!I71*60% -> 0 | Z71: =SUM(X71:Y71) -> 0 | AA71: =RaporM1!T72*40% -> 0 | AB71: =USMULOK1!I71*60% -> 0 | AC71: =SUM(AA71:AB71) -> 0 | AD71: =RaporM2!T72*40% -> 0 | AE71: =USMULOK2!I71*60% -> 0 | AF71: =SUM(AD71:AE71) -> 0 | AG71: =RaporM3!T72*40% -> 0 | AH71: =USMULOK3!I71*60% -> 0 | AI71: =SUM(AG71:AH71) -> 0
C72: =' RaporPAI'!T73*40% -> 0 | D72: =USPAI!I72*60% -> 0 | E72: =SUM(C72:D72) -> 0 | F72: =RaporPKn!T73*40% -> 0 | G72: =USPKN!I72*60% -> 0 | H72: =SUM(F72:G72) -> 0 | I72: ='RaporB.Ind'!T73*40% -> 0 | J72: =USB.IND!I72*60% -> 0 | K72: =SUM(I72:J72) -> 0 | L72: =RaporMat!T73*40% -> 0 | M72: =USMAT!I72*60% -> 0 | N72: =SUM(L72:M72) -> 0 | O72: =RaporIPA!T73*40% -> 0 | P72: =USIPA!I72*60% -> 0 | Q72: =SUM(O72:P72) -> 0 | R72: =RaporIPS!T73*40% -> 0 | S72: =USIPS!I72*60% -> 0 | T72: =SUM(R72:S72) -> 0 | U72: =RaporSBDP!T73*40% -> 0 | V72: =USSBDP!I72*60% -> 0 | W72: =SUM(U72:V72) -> 0 | X72: =RaporPJOK!T73*40% -> 0 | Y72: =USPJOK!I72*60% -> 0 | Z72: =SUM(X72:Y72) -> 0 | AA72: =RaporM1!T73*40% -> 0 | AB72: =USMULOK1!I72*60% -> 0 | AC72: =SUM(AA72:AB72) -> 0 | AD72: =RaporM2!T73*40% -> 0 | AE72: =USMULOK2!I72*60% -> 0 | AF72: =SUM(AD72:AE72) -> 0 | AG72: =RaporM3!T73*40% -> 0 | AH72: =USMULOK3!I72*60% -> 0 | AI72: =SUM(AG72:AH72) -> 0
C73: =' RaporPAI'!T74*40% -> 0 | D73: =USPAI!I73*60% -> 0 | E73: =SUM(C73:D73) -> 0 | F73: =RaporPKn!T74*40% -> 0 | G73: =USPKN!I73*60% -> 0 | H73: =SUM(F73:G73) -> 0 | I73: ='RaporB.Ind'!T74*40% -> 0 | J73: =USB.IND!I73*60% -> 0 | K73: =SUM(I73:J73) -> 0 | L73: =RaporMat!T74*40% -> 0 | M73: =USMAT!I73*60% -> 0 | N73: =SUM(L73:M73) -> 0 | O73: =RaporIPA!T74*40% -> 0 | P73: =USIPA!I73*60% -> 0 | Q73: =SUM(O73:P73) -> 0 | R73: =RaporIPS!T74*40% -> 0 | S73: =USIPS!I73*60% -> 0 | T73: =SUM(R73:S73) -> 0 | U73: =RaporSBDP!T74*40% -> 0 | V73: =USSBDP!I73*60% -> 0 | W73: =SUM(U73:V73) -> 0 | X73: =RaporPJOK!T74*40% -> 0 | Y73: =USPJOK!I73*60% -> 0 | Z73: =SUM(X73:Y73) -> 0 | AA73: =RaporM1!T74*40% -> 0 | AB73: =USMULOK1!I73*60% -> 0 | AC73: =SUM(AA73:AB73) -> 0 | AD73: =RaporM2!T74*40% -> 0 | AE73: =USMULOK2!I73*60% -> 0 | AF73: =SUM(AD73:AE73) -> 0 | AG73: =RaporM3!T74*40% -> 0 | AH73: =USMULOK3!I73*60% -> 0 | AI73: =SUM(AG73:AH73) -> 0
C74: =' RaporPAI'!T75*40% -> 0 | D74: =USPAI!I74*60% -> 0 | E74: =SUM(C74:D74) -> 0 | F74: =RaporPKn!T75*40% -> 0 | G74: =USPKN!I74*60% -> 0 | H74: =SUM(F74:G74) -> 0 | I74: ='RaporB.Ind'!T75*40% -> 0 | J74: =USB.IND!I74*60% -> 0 | K74: =SUM(I74:J74) -> 0 | L74: =RaporMat!T75*40% -> 0 | M74: =USMAT!I74*60% -> 0 | N74: =SUM(L74:M74) -> 0 | O74: =RaporIPA!T75*40% -> 0 | P74: =USIPA!I74*60% -> 0 | Q74: =SUM(O74:P74) -> 0 | R74: =RaporIPS!T75*40% -> 0 | S74: =USIPS!I74*60% -> 0 | T74: =SUM(R74:S74) -> 0 | U74: =RaporSBDP!T75*40% -> 0 | V74: =USSBDP!I74*60% -> 0 | W74: =SUM(U74:V74) -> 0 | X74: =RaporPJOK!T75*40% -> 0 | Y74: =USPJOK!I74*60% -> 0 | Z74: =SUM(X74:Y74) -> 0 | AA74: =RaporM1!T75*40% -> 0 | AB74: =USMULOK1!I74*60% -> 0 | AC74: =SUM(AA74:AB74) -> 0 | AD74: =RaporM2!T75*40% -> 0 | AE74: =USMULOK2!I74*60% -> 0 | AF74: =SUM(AD74:AE74) -> 0 | AG74: =RaporM3!T75*40% -> 0 | AH74: =USMULOK3!I74*60% -> 0 | AI74: =SUM(AG74:AH74) -> 0
C75: =' RaporPAI'!T76*40% -> 0 | D75: =USPAI!I75*60% -> 0 | E75: =SUM(C75:D75) -> 0 | F75: =RaporPKn!T76*40% -> 0 | G75: =USPKN!I75*60% -> 0 | H75: =SUM(F75:G75) -> 0 | I75: ='RaporB.Ind'!T76*40% -> 0 | J75: =USB.IND!I75*60% -> 0 | K75: =SUM(I75:J75) -> 0 | L75: =RaporMat!T76*40% -> 0 | M75: =USMAT!I75*60% -> 0 | N75: =SUM(L75:M75) -> 0 | O75: =RaporIPA!T76*40% -> 0 | P75: =USIPA!I75*60% -> 0 | Q75: =SUM(O75:P75) -> 0 | R75: =RaporIPS!T76*40% -> 0 | S75: =USIPS!I75*60% -> 0 | T75: =SUM(R75:S75) -> 0 | U75: =RaporSBDP!T76*40% -> 0 | V75: =USSBDP!I75*60% -> 0 | W75: =SUM(U75:V75) -> 0 | X75: =RaporPJOK!T76*40% -> 0 | Y75: =USPJOK!I75*60% -> 0 | Z75: =SUM(X75:Y75) -> 0 | AA75: =RaporM1!T76*40% -> 0 | AB75: =USMULOK1!I75*60% -> 0 | AC75: =SUM(AA75:AB75) -> 0 | AD75: =RaporM2!T76*40% -> 0 | AE75: =USMULOK2!I75*60% -> 0 | AF75: =SUM(AD75:AE75) -> 0 | AG75: =RaporM3!T76*40% -> 0 | AH75: =USMULOK3!I75*60% -> 0 | AI75: =SUM(AG75:AH75) -> 0
C76: =' RaporPAI'!T77*40% -> 0 | D76: =USPAI!I76*60% -> 0 | E76: =SUM(C76:D76) -> 0 | F76: =RaporPKn!T77*40% -> 0 | G76: =USPKN!I76*60% -> 0 | H76: =SUM(F76:G76) -> 0 | I76: ='RaporB.Ind'!T77*40% -> 0 | J76: =USB.IND!I76*60% -> 0 | K76: =SUM(I76:J76) -> 0 | L76: =RaporMat!T77*40% -> 0 | M76: =USMAT!I76*60% -> 0 | N76: =SUM(L76:M76) -> 0 | O76: =RaporIPA!T77*40% -> 0 | P76: =USIPA!I76*60% -> 0 | Q76: =SUM(O76:P76) -> 0 | R76: =RaporIPS!T77*40% -> 0 | S76: =USIPS!I76*60% -> 0 | T76: =SUM(R76:S76) -> 0 | U76: =RaporSBDP!T77*40% -> 0 | V76: =USSBDP!I76*60% -> 0 | W76: =SUM(U76:V76) -> 0 | X76: =RaporPJOK!T77*40% -> 0 | Y76: =USPJOK!I76*60% -> 0 | Z76: =SUM(X76:Y76) -> 0 | AA76: =RaporM1!T77*40% -> 0 | AB76: =USMULOK1!I76*60% -> 0 | AC76: =SUM(AA76:AB76) -> 0 | AD76: =RaporM2!T77*40% -> 0 | AE76: =USMULOK2!I76*60% -> 0 | AF76: =SUM(AD76:AE76) -> 0 | AG76: =RaporM3!T77*40% -> 0 | AH76: =USMULOK3!I76*60% -> 0 | AI76: =SUM(AG76:AH76) -> 0
C77: =' RaporPAI'!T78*40% -> 0 | D77: =USPAI!I77*60% -> 0 | E77: =SUM(C77:D77) -> 0 | F77: =RaporPKn!T78*40% -> 0 | G77: =USPKN!I77*60% -> 0 | H77: =SUM(F77:G77) -> 0 | I77: ='RaporB.Ind'!T78*40% -> 0 | J77: =USB.IND!I77*60% -> 0 | K77: =SUM(I77:J77) -> 0 | L77: =RaporMat!T78*40% -> 0 | M77: =USMAT!I77*60% -> 0 | N77: =SUM(L77:M77) -> 0 | O77: =RaporIPA!T78*40% -> 0 | P77: =USIPA!I77*60% -> 0 | Q77: =SUM(O77:P77) -> 0 | R77: =RaporIPS!T78*40% -> 0 | S77: =USIPS!I77*60% -> 0 | T77: =SUM(R77:S77) -> 0 | U77: =RaporSBDP!T78*40% -> 0 | V77: =USSBDP!I77*60% -> 0 | W77: =SUM(U77:V77) -> 0 | X77: =RaporPJOK!T78*40% -> 0 | Y77: =USPJOK!I77*60% -> 0 | Z77: =SUM(X77:Y77) -> 0 | AA77: =RaporM1!T78*40% -> 0 | AB77: =USMULOK1!I77*60% -> 0 | AC77: =SUM(AA77:AB77) -> 0 | AD77: =RaporM2!T78*40% -> 0 | AE77: =USMULOK2!I77*60% -> 0 | AF77: =SUM(AD77:AE77) -> 0 | AG77: =RaporM3!T78*40% -> 0 | AH77: =USMULOK3!I77*60% -> 0 | AI77: =SUM(AG77:AH77) -> 0
C78: =' RaporPAI'!T79*40% -> 0 | D78: =USPAI!I78*60% -> 0 | E78: =SUM(C78:D78) -> 0 | F78: =RaporPKn!T79*40% -> 0 | G78: =USPKN!I78*60% -> 0 | H78: =SUM(F78:G78) -> 0 | I78: ='RaporB.Ind'!T79*40% -> 0 | J78: =USB.IND!I78*60% -> 0 | K78: =SUM(I78:J78) -> 0 | L78: =RaporMat!T79*40% -> 0 | M78: =USMAT!I78*60% -> 0 | N78: =SUM(L78:M78) -> 0 | O78: =RaporIPA!T79*40% -> 0 | P78: =USIPA!I78*60% -> 0 | Q78: =SUM(O78:P78) -> 0 | R78: =RaporIPS!T79*40% -> 0 | S78: =USIPS!I78*60% -> 0 | T78: =SUM(R78:S78) -> 0 | U78: =RaporSBDP!T79*40% -> 0 | V78: =USSBDP!I78*60% -> 0 | W78: =SUM(U78:V78) -> 0 | X78: =RaporPJOK!T79*40% -> 0 | Y78: =USPJOK!I78*60% -> 0 | Z78: =SUM(X78:Y78) -> 0 | AA78: =RaporM1!T79*40% -> 0 | AB78: =USMULOK1!I78*60% -> 0 | AC78: =SUM(AA78:AB78) -> 0 | AD78: =RaporM2!T79*40% -> 0 | AE78: =USMULOK2!I78*60% -> 0 | AF78: =SUM(AD78:AE78) -> 0 | AG78: =RaporM3!T79*40% -> 0 | AH78: =USMULOK3!I78*60% -> 0 | AI78: =SUM(AG78:AH78) -> 0
C79: =' RaporPAI'!T80*40% -> 0 | D79: =USPAI!I79*60% -> 0 | E79: =SUM(C79:D79) -> 0 | F79: =RaporPKn!T80*40% -> 0 | G79: =USPKN!I79*60% -> 0 | H79: =SUM(F79:G79) -> 0 | I79: ='RaporB.Ind'!T80*40% -> 0 | J79: =USB.IND!I79*60% -> 0 | K79: =SUM(I79:J79) -> 0 | L79: =RaporMat!T80*40% -> 0 | M79: =USMAT!I79*60% -> 0 | N79: =SUM(L79:M79) -> 0 | O79: =RaporIPA!T80*40% -> 0 | P79: =USIPA!I79*60% -> 0 | Q79: =SUM(O79:P79) -> 0 | R79: =RaporIPS!T80*40% -> 0 | S79: =USIPS!I79*60% -> 0 | T79: =SUM(R79:S79) -> 0 | U79: =RaporSBDP!T80*40% -> 0 | V79: =USSBDP!I79*60% -> 0 | W79: =SUM(U79:V79) -> 0 | X79: =RaporPJOK!T80*40% -> 0 | Y79: =USPJOK!I79*60% -> 0 | Z79: =SUM(X79:Y79) -> 0 | AA79: =RaporM1!T80*40% -> 0 | AB79: =USMULOK1!I79*60% -> 0 | AC79: =SUM(AA79:AB79) -> 0 | AD79: =RaporM2!T80*40% -> 0 | AE79: =USMULOK2!I79*60% -> 0 | AF79: =SUM(AD79:AE79) -> 0 | AG79: =RaporM3!T80*40% -> 0 | AH79: =USMULOK3!I79*60% -> 0 | AI79: =SUM(AG79:AH79) -> 0
C80: =' RaporPAI'!T81*40% -> 0 | D80: =USPAI!I80*60% -> 0 | E80: =SUM(C80:D80) -> 0 | F80: =RaporPKn!T81*40% -> 0 | G80: =USPKN!I80*60% -> 0 | H80: =SUM(F80:G80) -> 0 | I80: ='RaporB.Ind'!T81*40% -> 0 | J80: =USB.IND!I80*60% -> 0 | K80: =SUM(I80:J80) -> 0 | L80: =RaporMat!T81*40% -> 0 | M80: =USMAT!I80*60% -> 0 | N80: =SUM(L80:M80) -> 0 | O80: =RaporIPA!T81*40% -> 0 | P80: =USIPA!I80*60% -> 0 | Q80: =SUM(O80:P80) -> 0 | R80: =RaporIPS!T81*40% -> 0 | S80: =USIPS!I80*60% -> 0 | T80: =SUM(R80:S80) -> 0 | U80: =RaporSBDP!T81*40% -> 0 | V80: =USSBDP!I80*60% -> 0 | W80: =SUM(U80:V80) -> 0 | X80: =RaporPJOK!T81*40% -> 0 | Y80: =USPJOK!I80*60% -> 0 | Z80: =SUM(X80:Y80) -> 0 | AA80: =RaporM1!T81*40% -> 0 | AB80: =USMULOK1!I80*60% -> 0 | AC80: =SUM(AA80:AB80) -> 0 | AD80: =RaporM2!T81*40% -> 0 | AE80: =USMULOK2!I80*60% -> 0 | AF80: =SUM(AD80:AE80) -> 0 | AG80: =RaporM3!T81*40% -> 0 | AH80: =USMULOK3!I80*60% -> 0 | AI80: =SUM(AG80:AH80) -> 0
C81: =' RaporPAI'!T82*40% -> 0 | D81: =USPAI!I81*60% -> 0 | E81: =SUM(C81:D81) -> 0 | F81: =RaporPKn!T82*40% -> 0 | G81: =USPKN!I81*60% -> 0 | H81: =SUM(F81:G81) -> 0 | I81: ='RaporB.Ind'!T82*40% -> 0 | J81: =USB.IND!I81*60% -> 0 | K81: =SUM(I81:J81) -> 0 | L81: =RaporMat!T82*40% -> 0 | M81: =USMAT!I81*60% -> 0 | N81: =SUM(L81:M81) -> 0 | O81: =RaporIPA!T82*40% -> 0 | P81: =USIPA!I81*60% -> 0 | Q81: =SUM(O81:P81) -> 0 | R81: =RaporIPS!T82*40% -> 0 | S81: =USIPS!I81*60% -> 0 | T81: =SUM(R81:S81) -> 0 | U81: =RaporSBDP!T82*40% -> 0 | V81: =USSBDP!I81*60% -> 0 | W81: =SUM(U81:V81) -> 0 | X81: =RaporPJOK!T82*40% -> 0 | Y81: =USPJOK!I81*60% -> 0 | Z81: =SUM(X81:Y81) -> 0 | AA81: =RaporM1!T82*40% -> 0 | AB81: =USMULOK1!I81*60% -> 0 | AC81: =SUM(AA81:AB81) -> 0 | AD81: =RaporM2!T82*40% -> 0 | AE81: =USMULOK2!I81*60% -> 0 | AF81: =SUM(AD81:AE81) -> 0 | AG81: =RaporM3!T82*40% -> 0 | AH81: =USMULOK3!I81*60% -> 0 | AI81: =SUM(AG81:AH81) -> 0
... C108: =' RaporPAI'!T109*40% -> 0 | D108: =USPAI!I108*60% -> 0 | E108: =SUM(C108:D108) -> 0 | F108: =RaporPKn!T109*40% -> 0 | G108: =USPKN!I108*60% -> 0 | H108: =SUM(F108:G108) -> 0 | I108: ='RaporB.Ind'!T109*40% -> 0 | J108: =USB.IND!I108*60% -> 0 | K108: =SUM(I108:J108) -> 0 | L108: =RaporMat!T109*40% -> 0 | M108: =USMAT!I108*60% -> 0 | N108: =SUM(L108:M108) -> 0 | O108: =RaporIPA!T109*40% -> 0 | P108: =USIPA!I108*60% -> 0 | Q108: =SUM(O108:P108) -> 0 | R108: =RaporIPS!T109*40% -> 0 | S108: =USIPS!I108*60% -> 0 | T108: =SUM(R108:S108) -> 0 | U108: =RaporSBDP!T109*40% -> 0 | V108: =USSBDP!I108*60% -> 0 | W108: =SUM(U108:V108) -> 0 | X108: =RaporPJOK!T109*40% -> 0 | Y108: =USPJOK!I108*60% -> 0 | Z108: =SUM(X108:Y108) -> 0 | AA108: =RaporM1!T109*40% -> 0 | AB108: =USMULOK1!I108*60% -> 0 | AC108: =SUM(AA108:AB108) -> 0 | AD108: =RaporM2!T109*40% -> 0 | AE108: =USMULOK2!I108*60% -> 0 | AF108: =SUM(AD108:AE108) -> 0 | AG108: =RaporM3!T109*40% -> 0 | AH108: =USMULOK3!I108*60% -> 0 | AI108: =SUM(AG108:AH108) -> 0

Sheet Rekap
B1: NILAI FINAL
A2: NO | B2: Nama Siswa | C2: Agama | D2: PPKn | E2: Bhs. Indone sia | F2: Matematika | G2: IPA | H2: IPS | I2: SBDP | J2: Penjas Orkes | K2: Mulok | O2: Rata-rata | P2: RANK | Q2: KETERANGAN
K3: B Jawa | L3: T.Jawa | M3: BTQ | N3: B Inggris
C4: SKM | D4: SKM | E4: SKM | F4: SKM | G4: SKM | H4: SKM | I4: SKM | J4: SKM | K4: SKM | L4: SKM | M4: SKM | N4: SKM
C5: 60 | D5: 60 | E5: 60 | F5: 40 | G5: 60 | H5: 60 | I5: 70 | J5: 70 | K5: 60 | L5: 60 | M5: 60 | N5: 60
A6: 1 | B6: ='DAFTAR SISWA'!D6 -> Adya Woro Anggraeni | C6: ='Nilai Final'!E5 -> 59.56 | D6: ='Nilai Final'!H5 -> 62.16 | E6: ='Nilai Final'!K5 -> 60.8 | F6: ='Nilai Final'!N5 -> 60.08 | G6: ='Nilai Final'!Q5 -> 61.16 | H6: ='Nilai Final'!T5 -> 64.16 | I6: ='Nilai Final'!W5 -> 64.16 | J6: ='Nilai Final'!Z5 -> 63.56 | K6: ='Nilai Final'!AC5 -> 66.44 | L6: ='Nilai Final'!AF5 -> 63.56 | N6: ='Nilai Final'!AI5 -> 61.16 | O6: =AVERAGE(C6:N6) -> 62.436364 | P6: =RANK(O6,$O$6:$O$44,0) -> 1 | Q6: =IF(O6<$S$6,"TIDAK LULUS",IF(O6>$S$6,"LULUS")) -> LULUS | S6: =SKM!$E$8 -> 50
A7: 2 | B7: ='DAFTAR SISWA'!D7 -> Amanda Nikeisya Sudibyo | C7: ='Nilai Final'!E6 -> 52.28 | D7: ='Nilai Final'!H6 -> 47.24 | E7: ='Nilai Final'!K6 -> 47.24 | F7: ='Nilai Final'!N6 -> 47.24 | G7: ='Nilai Final'!Q6 -> 47.24 | H7: ='Nilai Final'!T6 -> 47.24 | I7: ='Nilai Final'!W6 -> 47.24 | J7: ='Nilai Final'!Z6 -> 47.24 | K7: ='Nilai Final'!AC6 -> 47.24 | L7: ='Nilai Final'!AF6 -> 47.24 | N7: ='Nilai Final'!AI6 -> 47.24 | O7: =AVERAGE(C7:N7) -> 47.698182 | P7: =RANK(O7,$O$6:$O$44,0) -> 3 | Q7: =IF(O7<$S$6,"TIDAK LULUS",IF(O7>$S$6,"LULUS")) -> TIDAK LULUS
A8: 3 | B8: ='DAFTAR SISWA'!D8 -> Bimo Anggamahenda | C8: ='Nilai Final'!E7 -> 0.8 | D8: ='Nilai Final'!H7 -> 0.8 | E8: ='Nilai Final'!K7 -> 0.8 | F8: ='Nilai Final'!N7 -> 0.8 | G8: ='Nilai Final'!Q7 -> 0.8 | H8: ='Nilai Final'!T7 -> 0.8 | I8: ='Nilai Final'!W7 -> 0.8 | J8: ='Nilai Final'!Z7 -> 0.8 | K8: ='Nilai Final'!AC7 -> 0.8 | L8: ='Nilai Final'!AF7 -> 0.8 | N8: ='Nilai Final'!AI7 -> 0.8 | O8: =AVERAGE(C8:N8) -> 0.8 | P8: =RANK(O8,$O$6:$O$44,0) -> 13 | Q8: =IF(O8<$S$6,"TIDAK LULUS",IF(O8>$S$6,"LULUS")) -> TIDAK LULUS
A9: 4 | B9: ='DAFTAR SISWA'!D9 -> Bungah Rizki Rokhimah | C9: ='Nilai Final'!E8 -> 4.44 | D9: ='Nilai Final'!H8 -> 4.44 | E9: ='Nilai Final'!K8 -> 4.44 | F9: ='Nilai Final'!N8 -> 4.44 | G9: ='Nilai Final'!Q8 -> 4.44 | H9: ='Nilai Final'!T8 -> 4.44 | I9: ='Nilai Final'!W8 -> 4.44 | J9: ='Nilai Final'!Z8 -> 45.24 | K9: ='Nilai Final'!AC8 -> 45.24 | L9: ='Nilai Final'!AF8 -> 45.24 | N9: ='Nilai Final'!AI8 -> 45.24 | O9: =AVERAGE(C9:N9) -> 19.276364 | P9: =RANK(O9,$O$6:$O$44,0) -> 4 | Q9: =IF(O9<$S$6,"TIDAK LULUS",IF(O9>$S$6,"LULUS")) -> TIDAK LULUS
A10: 5 | B10: ='DAFTAR SISWA'!D10 -> Enggar Megawantoro | C10: ='Nilai Final'!E9 -> 6.76 | D10: ='Nilai Final'!H9 -> 1.64 | E10: ='Nilai Final'!K9 -> 1.64 | F10: ='Nilai Final'!N9 -> 6.76 | G10: ='Nilai Final'!Q9 -> 1.64 | H10: ='Nilai Final'!T9 -> 1.64 | I10: ='Nilai Final'!W9 -> 1.64 | J10: ='Nilai Final'!Z9 -> 1.64 | K10: ='Nilai Final'!AC9 -> 1.64 | L10: ='Nilai Final'!AF9 -> 1.64 | N10: ='Nilai Final'!AI9 -> 1.64 | O10: =AVERAGE(C10:N10) -> 2.5709091 | P10: =RANK(O10,$O$6:$O$44,0) -> 6 | Q10: =IF(O10<$S$6,"TIDAK LULUS",IF(O10>$S$6,"LULUS")) -> TIDAK LULUS
A11: 6 | B11: ='DAFTAR SISWA'!D11 -> Firman Ainur Rahmad | C11: ='Nilai Final'!E10 -> 1.52 | D11: ='Nilai Final'!H10 -> 1.52 | E11: ='Nilai Final'!K10 -> 1.52 | F11: ='Nilai Final'!N10 -> 1.52 | G11: ='Nilai Final'!Q10 -> 1.52 | H11: ='Nilai Final'!T10 -> 1.52 | I11: ='Nilai Final'!W10 -> 1.52 | J11: ='Nilai Final'!Z10 -> 1.52 | K11: ='Nilai Final'!AC10 -> 1.52 | L11: ='Nilai Final'!AF10 -> 1.52 | N11: ='Nilai Final'!AI10 -> 1.52 | O11: =AVERAGE(C11:N11) -> 1.52 | P11: =RANK(O11,$O$6:$O$44,0) -> 8 | Q11: =IF(O11<$S$6,"TIDAK LULUS",IF(O11>$S$6,"LULUS")) -> TIDAK LULUS
A12: 7 | B12: ='DAFTAR SISWA'!D12 -> Indra Setyawan | C12: ='Nilai Final'!E11 -> 1.4 | D12: ='Nilai Final'!H11 -> 1.4 | E12: ='Nilai Final'!K11 -> 1.4 | F12: ='Nilai Final'!N11 -> 1.4 | G12: ='Nilai Final'!Q11 -> 1.4 | H12: ='Nilai Final'!T11 -> 1.4 | I12: ='Nilai Final'!W11 -> 1.4 | J12: ='Nilai Final'!Z11 -> 1.4 | K12: ='Nilai Final'!AC11 -> 1.4 | L12: ='Nilai Final'!AF11 -> 1.4 | N12: ='Nilai Final'!AI11 -> 1.4 | O12: =AVERAGE(C12:N12) -> 1.4 | P12: =RANK(O12,$O$6:$O$44,0) -> 9 | Q12: =IF(O12<$S$6,"TIDAK LULUS",IF(O12>$S$6,"LULUS")) -> TIDAK LULUS
A13: 8 | B13: ='DAFTAR SISWA'!D13 -> Ismi Nur Fadilah | C13: ='Nilai Final'!E12 -> 7.76 | D13: ='Nilai Final'!H12 -> 1.28 | E13: ='Nilai Final'!K12 -> 1.28 | F13: ='Nilai Final'!N12 -> 1.28 | G13: ='Nilai Final'!Q12 -> 1.28 | H13: ='Nilai Final'!T12 -> 1.28 | I13: ='Nilai Final'!W12 -> 1.28 | J13: ='Nilai Final'!Z12 -> 1.28 | K13: ='Nilai Final'!AC12 -> 1.28 | L13: ='Nilai Final'!AF12 -> 1.28 | N13: ='Nilai Final'!AI12 -> 1.28 | O13: =AVERAGE(C13:N13) -> 1.8690909 | P13: =RANK(O13,$O$6:$O$44,0) -> 7 | Q13: =IF(O13<$S$6,"TIDAK LULUS",IF(O13>$S$6,"LULUS")) -> TIDAK LULUS
A14: 9 | B14: ='DAFTAR SISWA'!D14 -> Jordan Ahmad Kautsar | C14: ='Nilai Final'!E13 -> 1.16 | D14: ='Nilai Final'!H13 -> 1.16 | E14: ='Nilai Final'!K13 -> 1.16 | F14: ='Nilai Final'!N13 -> 1.16 | G14: ='Nilai Final'!Q13 -> 1.16 | H14: ='Nilai Final'!T13 -> 1.16 | I14: ='Nilai Final'!W13 -> 1.16 | J14: ='Nilai Final'!Z13 -> 1.16 | K14: ='Nilai Final'!AC13 -> 1.16 | L14: ='Nilai Final'!AF13 -> 1.16 | N14: ='Nilai Final'!AI13 -> 1.16 | O14: =AVERAGE(C14:N14) -> 1.16 | P14: =RANK(O14,$O$6:$O$44,0) -> 10 | Q14: =IF(O14<$S$6,"TIDAK LULUS",IF(O14>$S$6,"LULUS")) -> TIDAK LULUS
A15: 10 | B15: ='DAFTAR SISWA'!D15 -> Kahfila Zahra Aulia | C15: ='Nilai Final'!E14 -> 1.04 | D15: ='Nilai Final'!H14 -> 1.04 | E15: ='Nilai Final'!K14 -> 1.04 | F15: ='Nilai Final'!N14 -> 1.04 | G15: ='Nilai Final'!Q14 -> 1.04 | H15: ='Nilai Final'!T14 -> 1.04 | I15: ='Nilai Final'!W14 -> 1.04 | J15: ='Nilai Final'!Z14 -> 1.04 | K15: ='Nilai Final'!AC14 -> 1.04 | L15: ='Nilai Final'!AF14 -> 1.04 | N15: ='Nilai Final'!AI14 -> 1.04 | O15: =AVERAGE(C15:N15) -> 1.04 | P15: =RANK(O15,$O$6:$O$44,0) -> 11 | Q15: =IF(O15<$S$6,"TIDAK LULUS",IF(O15>$S$6,"LULUS")) -> TIDAK LULUS
A16: 11 | B16: ='DAFTAR SISWA'!D16 -> Marvin Aditya Pratama | C16: ='Nilai Final'!E15 -> 0.92 | D16: ='Nilai Final'!H15 -> 0.92 | E16: ='Nilai Final'!K15 -> 0.92 | F16: ='Nilai Final'!N15 -> 0.92 | G16: ='Nilai Final'!Q15 -> 0.92 | H16: ='Nilai Final'!T15 -> 0.92 | I16: ='Nilai Final'!W15 -> 0.92 | J16: ='Nilai Final'!Z15 -> 0.92 | K16: ='Nilai Final'!AC15 -> 0.92 | L16: ='Nilai Final'!AF15 -> 0.92 | N16: ='Nilai Final'!AI15 -> 0.92 | O16: =AVERAGE(C16:N16) -> 0.92 | P16: =RANK(O16,$O$6:$O$44,0) -> 12 | Q16: =IF(O16<$S$6,"TIDAK LULUS",IF(O16>$S$6,"LULUS")) -> TIDAK LULUS
A17: 12 | B17: ='DAFTAR SISWA'!D17 -> Muhammad Jibril Al Hafidz | C17: ='Nilai Final'!E16 -> 0.8 | D17: ='Nilai Final'!H16 -> 0.8 | E17: ='Nilai Final'!K16 -> 0.8 | F17: ='Nilai Final'!N16 -> 0.8 | G17: ='Nilai Final'!Q16 -> 0.8 | H17: ='Nilai Final'!T16 -> 0.8 | I17: ='Nilai Final'!W16 -> 0.8 | J17: ='Nilai Final'!Z16 -> 0.8 | K17: ='Nilai Final'!AC16 -> 0.8 | L17: ='Nilai Final'!AF16 -> 0.8 | N17: ='Nilai Final'!AI16 -> 0.8 | O17: =AVERAGE(C17:N17) -> 0.8 | P17: =RANK(O17,$O$6:$O$44,0) -> 13 | Q17: =IF(O17<$S$6,"TIDAK LULUS",IF(O17>$S$6,"LULUS")) -> TIDAK LULUS
A18: 13 | B18: ='DAFTAR SISWA'!D18 -> Muhammad Khoirun Hanafi | C18: ='Nilai Final'!E17 -> 0.68 | D18: ='Nilai Final'!H17 -> 0.68 | E18: ='Nilai Final'!K17 -> 0.68 | F18: ='Nilai Final'!N17 -> 0.68 | G18: ='Nilai Final'!Q17 -> 0.68 | H18: ='Nilai Final'!T17 -> 0.68 | I18: ='Nilai Final'!W17 -> 0.68 | J18: ='Nilai Final'!Z17 -> 0.68 | K18: ='Nilai Final'!AC17 -> 0.68 | L18: ='Nilai Final'!AF17 -> 0.68 | N18: ='Nilai Final'!AI17 -> 0.68 | O18: =AVERAGE(C18:N18) -> 0.68 | P18: =RANK(O18,$O$6:$O$44,0) -> 15 | Q18: =IF(O18<$S$6,"TIDAK LULUS",IF(O18>$S$6,"LULUS")) -> TIDAK LULUS
... A30: 25 | B30: ='DAFTAR SISWA'!D30 -> Zaidan Arley | C30: ='Nilai Final'!E29 -> -0.76 | D30: ='Nilai Final'!H29 -> -0.76 | E30: ='Nilai Final'!K29 -> -0.76 | F30: ='Nilai Final'!N29 -> -0.76 | G30: ='Nilai Final'!Q29 -> -0.76 | H30: ='Nilai Final'!T29 -> -0.76 | I30: ='Nilai Final'!W29 -> -0.76 | J30: ='Nilai Final'!Z29 -> -0.76 | K30: ='Nilai Final'!AC29 -> -0.76 | L30: ='Nilai Final'!AF29 -> -0.76 | N30: ='Nilai Final'!AI29 -> -0.76 | O30: =AVERAGE(C30:N30) -> -0.76 | P30: =RANK(O30,$O$6:$O$44,0) -> 35 | Q30: =IF(O30<$S$6,"TIDAK LULUS",IF(O30>$S$6,"LULUS")) -> TIDAK LULUS
C31: ='Nilai Final'!E30 -> 0 | D31: ='Nilai Final'!H30 -> 0 | E31: ='Nilai Final'!K30 -> 0 | F31: ='Nilai Final'!N30 -> 0 | G31: ='Nilai Final'!Q30 -> 0 | H31: ='Nilai Final'!T30 -> 0 | I31: ='Nilai Final'!W30 -> 0 | J31: ='Nilai Final'!Z30 -> 0 | K31: ='Nilai Final'!AC30 -> 0 | L31: ='Nilai Final'!AF30 -> 0 | N31: ='Nilai Final'!AI30 -> 0 | O31: =AVERAGE(C31:N31) -> 0 | P31: =RANK(O31,$O$6:$O$44,0) -> 21 | Q31: =IF(O31<$S$6,"TIDAK LULUS",IF(O31>$S$6,"LULUS")) -> TIDAK LULUS
C32: ='Nilai Final'!E31 -> 0 | D32: ='Nilai Final'!H31 -> 0 | E32: ='Nilai Final'!K31 -> 0 | F32: ='Nilai Final'!N31 -> 0 | G32: ='Nilai Final'!Q31 -> 0 | H32: ='Nilai Final'!T31 -> 0 | I32: ='Nilai Final'!W31 -> 0 | J32: ='Nilai Final'!Z31 -> 0 | K32: ='Nilai Final'!AC31 -> 0 | L32: ='Nilai Final'!AF31 -> 0 | N32: ='Nilai Final'!AI31 -> 0 | O32: =AVERAGE(C32:N32) -> 0 | P32: =RANK(O32,$O$6:$O$44,0) -> 21 | Q32: =IF(O32<$S$6,"TIDAK LULUS",IF(O32>$S$6,"LULUS")) -> TIDAK LULUS
C33: ='Nilai Final'!E32 -> 0 | D33: ='Nilai Final'!H32 -> 0 | E33: ='Nilai Final'!K32 -> 0 | F33: ='Nilai Final'!N32 -> 0 | G33: ='Nilai Final'!Q32 -> 0 | H33: ='Nilai Final'!T32 -> 0 | I33: ='Nilai Final'!W32 -> 0 | J33: ='Nilai Final'!Z32 -> 0 | K33: ='Nilai Final'!AC32 -> 0 | L33: ='Nilai Final'!AF32 -> 0 | N33: ='Nilai Final'!AI32 -> 0 | O33: =AVERAGE(C33:N33) -> 0 | P33: =RANK(O33,$O$6:$O$44,0) -> 21 | Q33: =IF(O33<$S$6,"TIDAK LULUS",IF(O33>$S$6,"LULUS")) -> TIDAK LULUS
C34: ='Nilai Final'!E33 -> 0 | D34: ='Nilai Final'!H33 -> 0 | E34: ='Nilai Final'!K33 -> 0 | F34: ='Nilai Final'!N33 -> 0 | G34: ='Nilai Final'!Q33 -> 0 | H34: ='Nilai Final'!T33 -> 0 | I34: ='Nilai Final'!W33 -> 0 | J34: ='Nilai Final'!Z33 -> 0 | K34: ='Nilai Final'!AC33 -> 0 | L34: ='Nilai Final'!AF33 -> 0 | N34: ='Nilai Final'!AI33 -> 0 | O34: =AVERAGE(C34:N34) -> 0 | P34: =RANK(O34,$O$6:$O$44,0) -> 21 | Q34: =IF(O34<$S$6,"TIDAK LULUS",IF(O34>$S$6,"LULUS")) -> TIDAK LULUS
C35: ='Nilai Final'!E34 -> 0 | D35: ='Nilai Final'!H34 -> 0 | E35: ='Nilai Final'!K34 -> 0 | F35: ='Nilai Final'!N34 -> 0 | G35: ='Nilai Final'!Q34 -> 0 | H35: ='Nilai Final'!T34 -> 0 | I35: ='Nilai Final'!W34 -> 0 | J35: ='Nilai Final'!Z34 -> 0 | K35: ='Nilai Final'!AC34 -> 0 | L35: ='Nilai Final'!AF34 -> 0 | N35: ='Nilai Final'!AI34 -> 0 | O35: =AVERAGE(C35:N35) -> 0 | P35: =RANK(O35,$O$6:$O$44,0) -> 21 | Q35: =IF(O35<$S$6,"TIDAK LULUS",IF(O35>$S$6,"LULUS")) -> TIDAK LULUS
C36: ='Nilai Final'!E35 -> 0 | D36: ='Nilai Final'!H35 -> 0 | E36: ='Nilai Final'!K35 -> 0 | F36: ='Nilai Final'!N35 -> 0 | G36: ='Nilai Final'!Q35 -> 0 | H36: ='Nilai Final'!T35 -> 0 | I36: ='Nilai Final'!W35 -> 0 | J36: ='Nilai Final'!Z35 -> 0 | K36: ='Nilai Final'!AC35 -> 0 | L36: ='Nilai Final'!AF35 -> 0 | N36: ='Nilai Final'!AI35 -> 0 | O36: =AVERAGE(C36:N36) -> 0 | P36: =RANK(O36,$O$6:$O$44,0) -> 21
D37: ='Nilai Final'!H36 -> 0 | E37: ='Nilai Final'!K36 -> 0 | F37: ='Nilai Final'!N36 -> 0 | G37: ='Nilai Final'!Q36 -> 0 | H37: ='Nilai Final'!T36 -> 0 | I37: ='Nilai Final'!W36 -> 0 | J37: ='Nilai Final'!Z36 -> 0 | K37: ='Nilai Final'!AC36 -> 0 | L37: ='Nilai Final'!AF36 -> 0 | N37: ='Nilai Final'!AI36 -> 0 | O37: =AVERAGE(C37:N37) -> 0 | P37: =RANK(O37,$O$6:$O$44,0) -> 21
D38: ='Nilai Final'!H37 -> 0 | E38: ='Nilai Final'!K37 -> 0 | F38: ='Nilai Final'!N37 -> 0 | G38: ='Nilai Final'!Q37 -> 0 | H38: ='Nilai Final'!T37 -> 0 | I38: ='Nilai Final'!W37 -> 0 | J38: ='Nilai Final'!Z37 -> 0 | K38: ='Nilai Final'!AC37 -> 0 | L38: ='Nilai Final'!AF37 -> 0 | N38: ='Nilai Final'!AI37 -> 0 | O38: =AVERAGE(C38:N38) -> 0 | P38: =RANK(O38,$O$6:$O$44,0) -> 21
D39: ='Nilai Final'!H38 -> 0 | E39: ='Nilai Final'!K38 -> 0 | F39: ='Nilai Final'!N38 -> 0 | H39: ='Nilai Final'!T38 -> 0 | I39: ='Nilai Final'!W38 -> 0 | J39: ='Nilai Final'!Z38 -> 0 | K39: ='Nilai Final'!AC38 -> 0 | L39: ='Nilai Final'!AF38 -> 0 | N39: ='Nilai Final'!AI38 -> 0 | O39: =AVERAGE(C39:N39) -> 0 | P39: =RANK(O39,$O$6:$O$44,0) -> 21
D40: ='Nilai Final'!H39 -> 0 | E40: ='Nilai Final'!K39 -> 0 | F40: ='Nilai Final'!N39 -> 0 | H40: ='Nilai Final'!T39 -> 0 | I40: ='Nilai Final'!W39 -> 0 | J40: ='Nilai Final'!Z39 -> 0 | K40: ='Nilai Final'!AC39 -> 0 | L40: ='Nilai Final'!AF39 -> 0 | N40: ='Nilai Final'!AI39 -> 0 | O40: =AVERAGE(C40:N40) -> 0 | P40: =RANK(O40,$O$6:$O$44,0) -> 21
E41: ='Nilai Final'!K40 -> 0 | F41: ='Nilai Final'!N40 -> 0 | H41: ='Nilai Final'!T40 -> 0 | I41: ='Nilai Final'!W40 -> 0 | J41: ='Nilai Final'!Z40 -> 0 | K41: ='Nilai Final'!AC40 -> 0 | L41: ='Nilai Final'!AF40 -> 0 | N41: ='Nilai Final'!AI40 -> 0 | P41: =RANK(O41,$O$6:$O$44,0) -> 21
F42: ='Nilai Final'!N41 -> 0 | H42: ='Nilai Final'!T41 -> 0 | I42: ='Nilai Final'!W41 -> 0 | J42: ='Nilai Final'!Z41 -> 0 | K42: ='Nilai Final'!AC41 -> 0 | L42: ='Nilai Final'!AF41 -> 0 | N42: ='Nilai Final'!AI41 -> 0
H43: ='Nilai Final'!T42 -> 0 | I43: ='Nilai Final'!W42 -> 0 | K43: ='Nilai Final'!AC42 -> 0 | L43: ='Nilai Final'!AF42 -> 0 | N43: ='Nilai Final'!AI42 -> 0
N44: ='Nilai Final'!AI43 -> 0

Sheet Surat Kelulusan
B1: PEMERINTAH KABUPATEN SEMARANG
B2: DINAS PENDIDIKAN, KEBUDAYAAN, KEPEMUDAAN DAN OLAHRAGA
B3: ="UPTD SATUAN PENDIDIKAN FORMAL SD NEGERI " &'Menu Utama'!$K$7 -> UPTD SATUAN PENDIDIKAN FORMAL SD NEGERI PRINGSARI 01
B4: KECAMATAN PRINGAPUS
B5: ="Alamat : "&'Menu Utama'!$K$8 -> Alamat : RT 03 RW 04 Kertosari, Pringsari, Kec.Pringapus
B7: SURAT KETERANGAN LULUS
B8: TAHUN PELAJARAN 2021 / 2022
B10: ="Yang bertanda tangan dibawah ini Kepala UPTD SPF SD Negeri "&PROPER('Menu Utama'!K7&" Nomor Pokok Sekolah") -> Yang bertanda tangan dibawah ini Kepala UPTD SPF SD Negeri Pringsari 01 Nomor Pokok Sekolah
B11: ="Nasional : " &'Menu Utama'!K6 &" Kabupaten Semarang Provinsi Jawa Tengah menerangkan bahwa : " -> Nasional : 20319975 Kabupaten Semarang Provinsi Jawa Tengah menerangkan bahwa :
B13: nama | D13: : | E13: =VLOOKUP($J$19,'DAFTAR SISWA'!$A$6:$F$100,4,0) -> Adya Woro Anggraeni
B14: tempat dan tanggal lahir | D14: : | E14: =VLOOKUP($J$19,'DAFTAR SISWA'!$A$6:$F$100,5,0) -> Kab. Semarang, 6 November 2009
B15: nama orang tua / wali | D15: : | E15: =VLOOKUP($J$19,'DAFTAR SISWA'!$A$6:$F$100,6,0) -> Adi Wibowo
B16: nomor induk siswa | D16: : | E16: =VLOOKUP($J$19,'DAFTAR SISWA'!$A$6:$F$100,2,0) -> 1255
B17: nomor induk siswa nasional | D17: : | E17: =VLOOKUP($J$19,'DAFTAR SISWA'!$A$6:$F$100,3,0) -> 0097179388
B19: =VLOOKUP($J$19,Rekap!$A$6:$Q$115,17,0) -> LULUS | J19: 1
B21: dari sekolah dasar setelah memenuhi seluruh kriteria kelulusan sesuai ketentuan perundang-undangan
B22: yang telah diumumkan pada … dengan hasil sebagai berikut :
B24: NO | C24: MATA PELAJARAN | G24: NILAI
B25: Kelompok A
B26: 1 | C26: Pendidikan Agama dan Budi Pekerti | G26: =VLOOKUP($J$19,Rekap!$A$6:$P$120,3,0) -> 59.56
B27: 2 | C27: Pendidikan Pancasila dan Kewarganegaraan | G27: =VLOOKUP($J$19,Rekap!$A$6:$P$120,4,0) -> 62.16
B28: 3 | C28: Bahasa Indonesia | G28: =VLOOKUP($J$19,Rekap!$A$6:$P$120,5,0) -> 60.8
B29: 4 | C29: Matematika | G29: =VLOOKUP($J$19,Rekap!$A$6:$P$120,6,0) -> 60.08
B30: 5 | C30: Ilmu Pengetahuan Alam | G30: =VLOOKUP($J$19,Rekap!$A$6:$P$120,7,0) -> 61.16
B31: 6 | C31: Ilmu Pengetahuan Sosial | G31: =VLOOKUP($J$19,Rekap!$A$6:$P$120,8,0) -> 64.16
B32: Kelompok B
B33: 7 | C33: Seni Budaya dan Prakarya | G33: =VLOOKUP($J$19,Rekap!$A$6:$P$120,9,0) -> 64.16
B34: 8 | C34: Pendidikan Jasmani, Olahraga dan Kesehatan | G34: =VLOOKUP($J$19,Rekap!$A$6:$P$120,10,0) -> 63.56
B35: 9 | C35: Muatan Lokal
C36: a. Bahasa Jawa | G36: =VLOOKUP($J$19,Rekap!$A$6:$P$120,11,0) -> 66.44
C37: b. Tembang Jawa / BTQ | G37: =VLOOKUP($J$19,Rekap!$A$6:$P$120,12,0) -> 63.56
C38: c. Bahasa Inggris | G38: =VLOOKUP($J$19,Rekap!$A$6:$P$120,14,0) -> 61.16
F42: ='Menu Utama'!$K$19 -> Pringsari,
F43: Kepala Sekolah
F47: ='Menu Utama'!$K$9 -> Tohar, S.Pd
F48: ="NIP. " &'Menu Utama'!$K$10 -> NIP. 19660609 199201 1 001
