Workbook
Name _Hlk70666672: 'Surat Kelulusan'!$A$1

Sheet Menu Utama
J5: ¿ IDENTITAS SEKOLAH (Isi manual di bawah ini)
J6: NPSN | K6: 20319975
J7: Nama Sekolah | K7: PRINGSARI 01
J8: Alamat | K8: RT 03 RW 04 Kertosari, Pringsari, Kec.Pringapus
J9: Kepala Sekolah | K9: Tohar, S.Pd
J10: NIP | K10: 19660609 199201 1 001
J11: Kelas/ Semester | K11: 6 (Enam) | M11: Genap
J12: Tahun Pelajaran | K12: 2021/2022
J13: Guru Kelas | K13: PUJI UTAMI, S.PdSD
J14: NIP | K14: 198607232009022004
J15: Desa | K15: PRINGSARI
J16: Kecamatan | K16: PRINGAPUS
J17: Kabupaten/Kota | K17: SEMARANG
J18: Propinsi | K18: JAWA TENGAH
J19: Tanggal Kelulusan | K19: Pringsari,
J20: Jumlah siswa | K20: 24
P22: Puji Utami

Sheet SKM
C8: SKM | D8: : | E8: 50 | M8: : | N8: =(100-E8)/3 -> 16.666667
E11: 0 | F11: - | G11: =$E$8-1 -> 49 | H11: =G11+1 -> 50 | I11: - | J11: =$E$8+$N$8-1 -> 65.666667 | K11: =$E$8+$N$8 -> 66.666667 | L11: - | M11: =$E$8+$N$8+$N$8-1 -> 82.333333 | N11: =$E$8+$N$8+$N$8 -> 83.333333 | O11: - | P11: =$E$8+$N$8+$N$8+$N$8 -> 100
F12: =IF(G11<$E$8,"D",IF(G11<$E$8+$N$8,"C",IF(G11<$E$8+$N$8+$N$8,"B",IF(G11<=$E$8+$N$8+$N$8+$N$8,"A")))) -> D | I12: =IF(J11<$E$8,"D",IF(J11<$E$8+$N$8,"C",IF(J11<$E$8+$N$8+$N$8,"B",IF(J11<=$E$8+$N$8+$N$8+$N$8,"A")))) -> C | L12: =IF(M11<$E$8,"D",IF(M11<$E$8+$N$8,"C",IF(M11<$E$8+$N$8+$N$8,"B",IF(M11<=$E$8+$N$8+$N$8+$N$8,"A")))) -> B | O12: =IF(P11<$E$8,"D",IF(P11<$E$8+$N$8,"C",IF(P11<$E$8+$N$8+$N$8,"B",IF(P11<=$E$8+$N$8+$N$8+$N$8,"A")))) -> A
E14: =O12 -> A | F14: = | G14: SANGAT BAIK
E15: =L12 -> B | F15: = | G15: BAIK
E16: =I12 -> C | F16: = | G16: CUKUP
E17: =F12 -> D | F17: = | G17: PERLU BIMBINGAN
C19: Silahkan tulis KKM satuan pendidikan di tempat yang disediakan
B31: Puji237

Sheet DAFTAR SISWA
A1: DATA SISWA
A3: NO | B3: No. Induk | C3: NISN | D3: Nama | E3: Tempat Tanggal Lahir | F3: Nama Orang Tua
A5: 1 | B5: 2 | C5: 3 | D5: 4 | E5: 5 | F5: 6
A6: 1 | B6: 1255 | C6: 0097179388 | D6: Adya Woro Anggraeni | E6: Kab. Semarang, 6 November 2009 | F6: Adi Wibowo
A7: 2 | B7: 1349 | C7: 00109936452 | D7: Amanda Nikeisya Sudibyo | E7: Semarang, 13 Januari 2010 | F7: Yulianto Sudibyo
A8: 3 | B8: 1257 | C8: 0096836083 | D8: Bimo Anggamahenda | E8: Pekanbaru, 10 Juni 2009 | F8: Supianto
A9: 4 | B9: 1258 | C9: 0096546046 | D9: Bungah Rizki Rokhimah | E9: Semarang, 4 Maret 2010 | F9: Sunoko
A10: 5 | B10: 1259 | C10: 0095246769 | D10: Enggar Megawantoro | E10: Kab.Semarang, 8 Mei 2009 | F10: Minanto
A11: 6 | B11: 1260 | C11: 0102039164 | D11: Firman Ainur Rahmad | E11: Kab. Semarang, 6 Januari 2010 | F11: Rohmad
A12: 7 | B12: 1263 | C12: 0096060217 | D12: Indra Setyawan | E12: Purbalingga,28 Juli 2009 | F12: Giyono
A13: 8 | B13: 1311 | C13: 0062163309 | D13: Ismi Nur Fadilah | E13: Kab.Semarang, 17 Juli 2006 | F13: Sunadi
A14: 9 | B14: 1264 | C14: 0108445988 | D14: Jordan Ahmad Kautsar | E14: Kab.Semarang, 25 Juni 2010 | F14: Purwanto
A15: 10 | B15: 1351 | C15: 0106225197 | D15: Kahfila Zahra Aulia | E15: Semarang, 20 Juli 2010 | F15: Agung Fitrianto
A16: 11 | B16: 1265 | C16: 0107053186 | D16: Marvin Aditya Pratama | E16: Kab. Semarang, 23 Juni 2010 | F16: Ari Setiawan
A17: 12 | B17: 1266 | C17: 0104081443 | D17: Muhammad Jibril Al Hafidz | E17: Kab.Semarang, 3 Februari 2010 | F17: Muhammad Taufiq
... A30: 25 | B30: 1249 | C30: 0087535922 | D30: Zaidan Arley | E30: Semarang, 1 Oktober 2008 | F30: Lilik Kurniawan
D49: dono

Sheet  RaporPAI
B1: AGAMA (RAPOR)
B2: NO | C2: No.Induk | D2: Nama | T2: NILAI RAPOR
E3: Kelas IV Semester I | G3: Rata-rata | H3: Kelas IV Semester II | J3: Rata-rata | K3: Kelas V Semester I | M3: Rata-rata | N3: Kelas V Semester II | P3: Rata-rata | Q3: Kelas VI Semester I | S3: Rata-rata
E4: Pengetahuan | F4: Keterampilan | H4: Pengetahuan | I4: Keterampilan | K4: Pengetahuan | L4: Keterampilan | N4: Pengetahuan | O4: Keterampilan | Q4: Pengetahuan | R4: Keterampilan
B5: 1 | C5: 2 | D5: 3 | E5: 4 | F5: 5 | G5: 6 | H5: 7 | I5: 8 | J5: 9 | K5: 10 | L5: 11 | M5: 12 | N5: 13 | O5: 14 | P5: 15 | Q5: 16 | R5: 17 | S5: 18 | T5: 19
B6: ='DAFTAR SISWA'!A6 -> 1 | C6: ='DAFTAR SISWA'!B6 -> 1255 | D6: ='DAFTAR SISWA'!D6 -> Adya Woro Anggraeni | E6: 2 | F6: 3 | G6: =AVERAGE(E6:F6) -> 2.5 | H6: 4 | I6: 5 | J6: =AVERAGE(H6:I6) -> 4.5 | K6: 70 | L6: 60 | M6: =AVERAGE(K6:L6) -> 65 | N6: 75 | O6: 80 | P6: =AVERAGE(N6:O6) -> 77.5 | Q6: 95 | R6: 90 | S6: =AVERAGE(Q6:R6) -> 92.5 | T6: =AVERAGE(G6+J6+M6+P6+S6)/5 -> 48.4
B7: 2 | C7: ='DAFTAR SISWA'!B7 -> 1349 | D7: ='DAFTAR SISWA'!D7 -> Amanda Nikeisya Sudibyo | E7: 3 | G7: =AVERAGE(E7:F7) -> 3 | H7: 2 | J7: =AVERAGE(H7:I7) -> 2 | K7: 45 | L7: 6 | M7: =AVERAGE(K7:L7) -> 25.5 | N7: 2 | O7: 4 | P7: =AVERAGE(N7:O7) -> 3 | Q7: 80 | S7: =AVERAGE(Q7:R7) -> 80 | T7: =AVERAGE(G7+J7+M7+P7+S7)/5 -> 22.7
B8: 3 | C8: ='DAFTAR SISWA'!B8 -> 1257 | D8: ='DAFTAR SISWA'!D8 -> Bimo Anggamahenda | E8: 4 | G8: =AVERAGE(E8:F8) -> 4 | H8: 0 | J8: =AVERAGE(H8:I8) -> 0 | K8: 1 | L8: 3 | M8: =AVERAGE(K8:L8) -> 2 | N8: 3 | P8: =AVERAGE(N8:O8) -> 3 | Q8: 1 | S8: =AVERAGE(Q8:R8) -> 1 | T8: =AVERAGE(G8+J8+M8+P8+S8)/5 -> 2
B9: 4 | C9: ='DAFTAR SISWA'!B9 -> 1258 | D9: ='DAFTAR SISWA'!D9 -> Bungah Rizki Rokhimah | E9: 5 | G9: =AVERAGE(E9:F9) -> 5 | H9: -2 | J9: =AVERAGE(H9:I9) -> -2 | K9: 15 | M9: =AVERAGE(K9:L9) -> 15 | N9: 4 | P9: =AVERAGE(N9:O9) -> 4 | Q9: 0 | R9: 67 | S9: =AVERAGE(Q9:R9) -> 33.5 | T9: =AVERAGE(G9+J9+M9+P9+S9)/5 -> 11.1
B10: 5 | C10: ='DAFTAR SISWA'!B10 -> 1259 | D10: ='DAFTAR SISWA'!D10 -> Enggar Megawantoro | E10: 70 | G10: =AVERAGE(E10:F10) -> 70 | H10: -4 | J10: =AVERAGE(H10:I10) -> -4 | K10: 14.5 | M10: =AVERAGE(K10:L10) -> 14.5 | N10: 5 | P10: =AVERAGE(N10:O10) -> 5 | Q10: -1 | S10: =AVERAGE(Q10:R10) -> -1 | T10: =AVERAGE(G10+J10+M10+P10+S10)/5 -> 16.9
B11: 6 | C11: ='DAFTAR SISWA'!B11 -> 1260 | D11: ='DAFTAR SISWA'!D11 -> Firman Ainur Rahmad | E11: 7 | G11: =AVERAGE(E11:F11) -> 7 | H11: -6 | J11: =AVERAGE(H11:I11) -> -6 | K11: 14 | M11: =AVERAGE(K11:L11) -> 14 | N11: 6 | P11: =AVERAGE(N11:O11) -> 6 | Q11: -2 | S11: =AVERAGE(Q11:R11) -> -2 | T11: =AVERAGE(G11+J11+M11+P11+S11)/5 -> 3.8
B12: 7 | C12: ='DAFTAR SISWA'!B12 -> 1263 | D12: ='DAFTAR SISWA'!D12 -> Indra Setyawan | E12: 8 | G12: =AVERAGE(E12:F12) -> 8 | H12: -8 | J12: =AVERAGE(H12:I12) -> -8 | K12: 13.5 | M12: =AVERAGE(K12:L12) -> 13.5 | N12: 7 | P12: =AVERAGE(N12:O12) -> 7 | Q12: -3 | S12: =AVERAGE(Q12:R12) -> -3 | T12: =AVERAGE(G12+J12+M12+P12+S12)/5 -> 3.5
B13: 8 | C13: ='DAFTAR SISWA'!B13 -> 1311 | D13: ='DAFTAR SISWA'!D13 -> Ismi Nur Fadilah | E13: 90 | G13: =AVERAGE(E13:F13) -> 90 | H13: -10 | J13: =AVERAGE(H13:I13) -> -10 | K13: 13 | M13: =AVERAGE(K13:L13) -> 13 | N13: 8 | P13: =AVERAGE(N13:O13) -> 8 | Q13: -4 | S13: =AVERAGE(Q13:R13) -> -4 | T13: =AVERAGE(G13+J13+M13+P13+S13)/5 -> 19.4
B14: 9 | C14: ='DAFTAR SISWA'!B14 -> 1264 | D14: ='DAFTAR SISWA'!D14 -> Jordan Ahmad Kautsar | E14: 10 | G14: =AVERAGE(E14:F14) -> 10 | H14: -12 | J14: =AVERAGE(H14:I14) -> -12 | K14: 12.5 | M14: =AVERAGE(K14:L14) -> 12.5 | N14: 9 | P14: =AVERAGE(N14:O14) -> 9 | Q14: -5 | S14: =AVERAGE(Q14:R14) -> -5 | T14: =AVERAGE(G14+J14+M14+P14+S14)/5 -> 2.9
B15: 10 | C15: ='DAFTAR SISWA'!B15 -> 1351 | D15: ='DAFTAR SISWA'!D15 -> Kahfila Zahra Aulia | E15: 11 | G15: =AVERAGE(E15:F15) -> 11 | H15: -14 | J15: =AVERAGE(H15:I15) -> -14 | K15: 12 | M15: =AVERAGE(K15:L15) -> 12 | N15: 10 | P15: =AVERAGE(N15:O15) -> 10 | Q15: -6 | S15: =AVERAGE(Q15:R15) -> -6 | T15: =AVERAGE(G15+J15+M15+P15+S15)/5 -> 2.6
B16: 11 | C16: ='DAFTAR SISWA'!B16 -> 1265 | D16: ='DAFTAR SISWA'!D16 -> Marvin Aditya Pratama | E16: 12 | G16: =AVERAGE(E16:F16) -> 12 | H16: -16 | J16: =AVERAGE(H16:I16) -> -16 | K16: 11.5 | M16: =AVERAGE(K16:L16) -> 11.5 | N16: 11 | P16: =AVERAGE(N16:O16) -> 11 | Q16: -7 | S16: =AVERAGE(Q16:R16) -> -7 | T16: =AVERAGE(G16+J16+M16+P16+S16)/5 -> 2.3
B17: 12 | C17: ='DAFTAR SISWA'!B17 -> 1266 | D17: ='DAFTAR SISWA'!D17 -> Muhammad Jibril Al Hafidz | E17: 13 | G17: =AVERAGE(E17:F17) -> 13 | H17: -18 | J17: =AVERAGE(H17:I17) -> -18 | K17: 11 | M17: =AVERAGE(K17:L17) -> 11 | N17: 12 | P17: =AVERAGE(N17:O17) -> 12 | Q17: -8 | S17: =AVERAGE(Q17:R17) -> -8 | T17: =AVERAGE(G17+J17+M17+P17+S17)/5 -> 2
B18: 13 | C18: ='DAFTAR SISWA'!B18 -> 1267 | D18: ='DAFTAR SISWA'!D18 -> Muhammad Khoirun Hanafi | E18: 14 | G18: =AVERAGE(E18:F18) -> 14 | H18: -20 | J18: =AVERAGE(H18:I18) -> -20 | K18: 10.5 | M18: =AVERAGE(K18:L18) -> 10.5 | N18: 13 | P18: =AVERAGE(N18:O18) -> 13 | Q18: -9 | S18: =AVERAGE(Q18:R18) -> -9 | T18: =AVERAGE(G18+J18+M18+P18+S18)/5 -> 1.7
B19: 14 | C19: ='DAFTAR SISWA'!B19 -> 1269 | D19: ='DAFTAR SISWA'!D19 -> Nila Nafira | E19: 15 | G19: =AVERAGE(E19:F19) -> 15 | H19: -22 | J19: =AVERAGE(H19:I19) -> -22 | K19: 10 | M19: =AVERAGE(K19:L19) -> 10 | N19: 14 | P19: =AVERAGE(N19:O19) -> 14 | Q19: -10 | S19: =AVERAGE(Q19:R19) -> -10 | T19: =AVERAGE(G19+J19+M19+P19+S19)/5 -> 1.4
B20: 15 | C20: ='DAFTAR SISWA'!B20 -> 1389 | D20: ='DAFTAR SISWA'!D20 -> Oktavia Vivi Novita | E20: 16 | G20: =AVERAGE(E20:F20) -> 16 | H20: -24 | J20: =AVERAGE(H20:I20) -> -24 | K20: 9.5 | M20: =AVERAGE(K20:L20) -> 9.5 | N20: 15 | P20: =AVERAGE(N20:O20) -> 15 | Q20: -11 | S20: =AVERAGE(Q20:R20) -> -11 | T20: =AVERAGE(G20+J20+M20+P20+S20)/5 -> 1.1
B21: 16 | C21: ='DAFTAR SISWA'!B21 -> 1270 | D21: ='DAFTAR SISWA'!D21 -> Patricia Chiquitita | E21: 17 | G21: =AVERAGE(E21:F21) -> 17 | H21: -26 | J21: =AVERAGE(H21:I21) -> -26 | K21: 9 | M21: =AVERAGE(K21:L21) -> 9 | N21: 16 | P21: =AVERAGE(N21:O21) -> 16 | Q21: -12 | S21: =AVERAGE(Q21:R21) -> -12 | T21: =AVERAGE(G21+J21+M21+P21+S21)/5 -> 0.8
... B30: 25 | C30: ='DAFTAR SISWA'!B30 -> 1249 | D30: ='DAFTAR SISWA'!D30 -> Zaidan Arley | E30: 26 | G30: =AVERAGE(E30:F30) -> 26 | H30: -44 | J30: =AVERAGE(H30:I30) -> -44 | K30: 4.5 | M30: =AVERAGE(K30:L30) -> 4.5 | N30: 25 | P30: =AVERAGE(N30:O30) -> 25 | Q30: -21 | S30: =AVERAGE(Q30:R30) -> -21 | T30: =AVERAGE(G30+J30+M30+P30+S30)/5 -> -1.9
D31: ='DAFTAR SISWA'!D31 -> 0

Sheet RaporPKn
B1: PKN (RAPOR)
B2: NO | C2: No.Induk | D2: Nama | T2: NILAI RAPOR
E3: Kelas IV Semester I | G3: Rata-rata | H3: Kelas IV Semester II | J3: Rata-rata | K3: Kelas V Semester I | M3: Rata-rata | N3: Kelas V Semester II | P3: Rata-rata | Q3: Kelas VI Semester I | S3: Rata-rata
E4: Pengetahuan | F4: Keterampilan | H4: Pengetahuan | I4: Keterampilan | K4: Pengetahuan | L4: Keterampilan | N4: Pengetahuan | O4: Keterampilan | Q4: Pengetahuan | R4: Keterampilan
B5: 1 | C5: 2 | D5: 3 | T5: 13
B6: 1 | C6: ='DAFTAR SISWA'!B6 -> 1255 | D6: ='DAFTAR SISWA'!D6 -> Adya Woro Anggraeni | E6: 2 | F6: 3 | G6: =AVERAGE(E6:F6) -> 2.5 | H6: 4 | I6: 5 | J6: =AVERAGE(H6:I6) -> 4.5 | K6: 70 | L6: 60 | M6: =AVERAGE(K6:L6) -> 65 | N6: 75 | O6: 80 | P6: =AVERAGE(N6:O6) -> 77.5 | Q6: 85 | R6: 90 | S6: =AVERAGE(Q6:R6) -> 87.5 | T6: =AVERAGE(G6+J6+M6+P6+S6)/5 -> 47.4
B7: 2 | C7: ='DAFTAR SISWA'!B7 -> 1349 | D7: ='DAFTAR SISWA'!D7 -> Amanda Nikeisya Sudibyo | E7: 3 | G7: =AVERAGE(E7:F7) -> 3 | H7: 2 | J7: =AVERAGE(H7:I7) -> 2 | K7: 45 | L7: 6 | M7: =AVERAGE(K7:L7) -> 25.5 | N7: 2 | O7: 4 | P7: =AVERAGE(N7:O7) -> 3 | Q7: 2 | S7: =AVERAGE(Q7:R7) -> 2 | T7: =AVERAGE(G7+J7+M7+P7+S7)/5 -> 7.1
B8: 3 | C8: ='DAFTAR SISWA'!B8 -> 1257 | D8: ='DAFTAR SISWA'!D8 -> Bimo Anggamahenda | E8: 4 | G8: =AVERAGE(E8:F8) -> 4 | H8: 0 | J8: =AVERAGE(H8:I8) -> 0 | K8: 1 | L8: 3 | M8: =AVERAGE(K8:L8) -> 2 | N8: 3 | P8: =AVERAGE(N8:O8) -> 3 | Q8: 1 | S8: =AVERAGE(Q8:R8) -> 1 | T8: =AVERAGE(G8+J8+M8+P8+S8)/5 -> 2
B9: 4 | C9: ='DAFTAR SISWA'!B9 -> 1258 | D9: ='DAFTAR SISWA'!D9 -> Bungah Rizki Rokhimah | E9: 5 | G9: =AVERAGE(E9:F9) -> 5 | H9: -2 | J9: =AVERAGE(H9:I9) -> -2 | K9: 15 | M9: =AVERAGE(K9:L9) -> 15 | N9: 4 | P9: =AVERAGE(N9:O9) -> 4 | Q9: 0 | R9: 67 | S9: =AVERAGE(Q9:R9) -> 33.5 | T9: =AVERAGE(G9+J9+M9+P9+S9)/5 -> 11.1
B10: 5 | C10: ='DAFTAR SISWA'!B10 -> 1259 | D10: ='DAFTAR SISWA'!D10 -> Enggar Megawantoro | E10: 6 | G10: =AVERAGE(E10:F10) -> 6 | H10: -4 | J10: =AVERAGE(H10:I10) -> -4 | K10: 14.5 | M10: =AVERAGE(K10:L10) -> 14.5 | N10: 5 | P10: =AVERAGE(N10:O10) -> 5 | Q10: -1 | S10: =AVERAGE(Q10:R10) -> -1 | T10: =AVERAGE(G10+J10+M10+P10+S10)/5 -> 4.1
B11: 6 | C11: ='DAFTAR SISWA'!B11 -> 1260 | D11: ='DAFTAR SISWA'!D11 -> Firman Ainur Rahmad | E11: 7 | G11: =AVERAGE(E11:F11) -> 7 | H11: -6 | J11: =AVERAGE(H11:I11) -> -6 | K11: 14 | M11: =AVERAGE(K11:L11) -> 14 | N11: 6 | P11: =AVERAGE(N11:O11) -> 6 | Q11: -2 | S11: =AVERAGE(Q11:R11) -> -2 | T11: =AVERAGE(G11+J11+M11+P11+S11)/5 -> 3.8
B12: 7 | C12: ='DAFTAR SISWA'!B12 -> 1263 | D12: ='DAFTAR SISWA'!D12 -> Indra Setyawan | E12: 8 | G12: =AVERAGE(E12:F12) -> 8 | H12: -8 | J12: =AVERAGE(H12:I12) -> -8 | K12: 13.5 | M12: =AVERAGE(K12:L12) -> 13.5 | N12: 7 | P12: =AVERAGE(N12:O12) -> 7 | Q12: -3 | S12: =AVERAGE(Q12:R12) -> -3 | T12: =AVERAGE(G12+J12+M12+P12+S12)/5 -> 3.5
B13: 8 | C13: ='DAFTAR SISWA'!B13 -> 1311 | D13: ='DAFTAR SISWA'!D13 -> Ismi Nur Fadilah | E13: 9 | G13: =AVERAGE(E13:F13) -> 9 | H13: -10 | J13: =AVERAGE(H13:I13) -> -10 | K13: 13 | M13: =AVERAGE(K13:L13) -> 13 | N13: 8 | P13: =AVERAGE(N13:O13) -> 8 | Q13: -4 | S13: =AVERAGE(Q13:R13) -> -4 | T13: =AVERAGE(G13+J13+M13+P13+S13)/5 -> 3.2
B14: 9 | C14: ='DAFTAR SISWA'!B14 -> 1264 | D14: ='DAFTAR SISWA'!D14 -> Jordan Ahmad Kautsar | E14: 10 | G14: =AVERAGE(E14:F14) -> 10 | H14: -12 | J14: =AVERAGE(H14:I14) -> -12 | K14: 12.5 | M14: =AVERAGE(K14:L14) -> 12.5 | N14: 9 | P14: =AVERAGE(N14:O14) -> 9 | Q14: -5 | S14: =AVERAGE(Q14:R14) -> -5 | T14: =AVERAGE(G14+J14+M14+P14+S14)/5 -> 2.9
B15: 10 | C15: ='DAFTAR SISWA'!B15 -> 1351 | D15: ='DAFTAR SISWA'!D15 -> Kahfila Zahra Aulia | E15: 11 | G15: =AVERAGE(E15:F15) -> 11 | H15: -14 | J15: =AVERAGE(H15:I15) -> -14 | K15: 12 | M15: =AVERAGE(K15:L15) -> 12 | N15: 10 | P15: =AVERAGE(N15:O15) -> 10 | Q15: -6 | S15: =AVERAGE(Q15:R15) -> -6 | T15: =AVERAGE(G15+J15+M15+P15+S15)/5 -> 2.6
B16: 11 | C16: ='DAFTAR SISWA'!B16 -> 1265 | D16: ='DAFTAR SISWA'!D16 -> Marvin Aditya Pratama | E16: 12 | G16: =AVERAGE(E16:F16) -> 12 | H16: -16 | J16: =AVERAGE(H16:I16) -> -16 | K16: 11.5 | M16: =AVERAGE(K16:L16) -> 11.5 | N16: 11 | P16: =AVERAGE(N16:O16) -> 11 | Q16: -7 | S16: =AVERAGE(Q16:R16) -> -7 | T16: =AVERAGE(G16+J16+M16+P16+S16)/5 -> 2.3
B17: 12 | C17: ='DAFTAR SISWA'!B17 -> 1266 | D17: ='DAFTAR SISWA'!D17 -> Muhammad Jibril Al Hafidz | E17: 13 | G17: =AVERAGE(E17:F17) -> 13 | H17: -18 | J17: =AVERAGE(H17:I17) -> -18 | K17: 11 | M17: =AVERAGE(K17:L17) -> 11 | N17: 12 | P17: =AVERAGE(N17:O17) -> 12 | Q17: -8 | S17: =AVERAGE(Q17:R17) -> -8 | T17: =AVERAGE(G17+J17+M17+P17+S17)/5 -> 2
B18: 13 | C18: ='DAFTAR SISWA'!B18 -> 1267 | D18: ='DAFTAR SISWA'!D18 -> Muhammad Khoirun Hanafi | E18: 14 | G18: =AVERAGE(E18:F18) -> 14 | H18: -20 | J18: =AVERAGE(H18:I18) -> -20 | K18: 10.5 | M18: =AVERAGE(K18:L18) -> 10.5 | N18: 13 | P18: =AVERAGE(N18:O18) -> 13 | Q18: -9 | S18: =AVERAGE(Q18:R18) -> -9 | T18: =AVERAGE(G18+J18+M18+P18+S18)/5 -> 1.7
B19: 14 | C19: ='DAFTAR SISWA'!B19 -> 1269 | D19: ='DAFTAR SISWA'!D19 -> Nila Nafira | E19: 15 | G19: =AVERAGE(E19:F19) -> 15 | H19: -22 | J19: =AVERAGE(H19:I19) -> -22 | K19: 10 | M19: =AVERAGE(K19:L19) -> 10 | N19: 14 | P19: =AVERAGE(N19:O19) -> 14 | Q19: -10 | S19: =AVERAGE(Q19:R19) -> -10 | T19: =AVERAGE(G19+J19+M19+P19+S19)/5 -> 1.4
B20: 15 | C20: ='DAFTAR SISWA'!B20 -> 1389 | D20: ='DAFTAR SISWA'!D20 -> Oktavia Vivi Novita | E20: 16 | G20: =AVERAGE(E20:F20) -> 16 | H20: -24 | J20: =AVERAGE(H20:I20) -> -24 | K20: 9.5 | M20: =AVERAGE(K20:L20) -> 9.5 | N20: 15 | P20: =AVERAGE(N20:O20) -> 15 | Q20: -11 | S20: =AVERAGE(Q20:R20) -> -11 | T20: =AVERAGE(G20+J20+M20+P20+S20)/5 -> 1.1
B21: 16 | C21: ='DAFTAR SISWA'!B21 -> 1270 | D21: ='DAFTAR SISWA'!D21 -> Patricia Chiquitita | E21: 17 | G21: =AVERAGE(E21:F21) -> 17 | H21: -26 | J21: =AVERAGE(H21:I21) -> -26 | K21: 9 | M21: =AVERAGE(K21:L21) -> 9 | N21: 16 | P21: =AVERAGE(N21:O21) -> 16 | Q21: -12 | S21: =AVERAGE(Q21:R21) -> -12 | T21: =AVERAGE(G21+J21+M21+P21+S21)/5 -> 0.8
... B30: 25 | C30: ='DAFTAR SISWA'!B30 -> 1249 | D30: ='DAFTAR SISWA'!D30 -> Zaidan Arley | E30: 26 | G30: =AVERAGE(E30:F30) -> 26 | H30: -44 | J30: =AVERAGE(H30:I30) -> -44 | K30: 4.5 | M30: =AVERAGE(K30:L30) -> 4.5 | N30: 25 | P30: =AVERAGE(N30:O30) -> 25 | Q30: -21 | S30: =AVERAGE(Q30:R30) -> -21 | T30: =AVERAGE(G30+J30+M30+P30+S30)/5 -> -1.9

Sheet RaporB.Ind
B1: B.IND (RAPOR)
B2: NO | C2: No.Induk | D2: Nama | T2: NILAI RAPOR
E3: Kelas IV Semester I | G3: Rata-rata | H3: Kelas IV Semester II | J3: Rata-rata | K3: Kelas V Semester I | M3: Rata-rata | N3: Kelas V Semester II | P3: Rata-rata | Q3: Kelas VI Semester I | S3: Rata-rata
E4: Pengetahuan | F4: Keterampilan | H4: Pengetahuan | I4: Keterampilan | K4: Pengetahuan | L4: Keterampilan | N4: Pengetahuan | O4: Keterampilan | Q4: Pengetahuan | R4: Keterampilan
B5: 1 | C5: 2 | D5: 3 | T5: 13
B6: 1 | C6: ='DAFTAR SISWA'!B6 -> 1255 | D6: ='DAFTAR SISWA'!D6 -> Adya Woro Anggraeni | E6: 2 | F6: 3 | G6: =AVERAGE(E6:F6) -> 2.5 | H6: 4 | I6: 5 | J6: =AVERAGE(H6:I6) -> 4.5 | K6: 70 | L6: 60 | M6: =AVERAGE(K6:L6) -> 65 | N6: 75 | O6: 80 | P6: =AVERAGE(N6:O6) -> 77.5 | Q6: 90 | R6: 90 | S6: =AVERAGE(Q6:R6) -> 90 | T6: =AVERAGE(G6+J6+M6+P6+S6)/5 -> 47.9
B7: 2 | C7: ='DAFTAR SISWA'!B7 -> 1349 | D7: ='DAFTAR SISWA'!D7 -> Amanda Nikeisya Sudibyo | E7: 3 | G7: =AVERAGE(E7:F7) -> 3 | H7: 2 | J7: =AVERAGE(H7:I7) -> 2 | K7: 45 | L7: 6 | M7: =AVERAGE(K7:L7) -> 25.5 | N7: 2 | O7: 4 | P7: =AVERAGE(N7:O7) -> 3 | Q7: 2 | S7: =AVERAGE(Q7:R7) -> 2 | T7: =AVERAGE(G7+J7+M7+P7+S7)/5 -> 7.1
B8: 3 | C8: ='DAFTAR SISWA'!B8 -> 1257 | D8: ='DAFTAR SISWA'!D8 -> Bimo Anggamahenda | E8: 4 | G8: =AVERAGE(E8:F8) -> 4 | H8: 0 | J8: =AVERAGE(H8:I8) -> 0 | K8: 1 | L8: 3 | M8: =AVERAGE(K8:L8) -> 2 | N8: 3 | P8: =AVERAGE(N8:O8) -> 3 | Q8: 1 | S8: =AVERAGE(Q8:R8) -> 1 | T8: =AVERAGE(G8+J8+M8+P8+S8)/5 -> 2
B9: 4 | C9: ='DAFTAR SISWA'!B9 -> 1258 | D9: ='DAFTAR SISWA'!D9 -> Bungah Rizki Rokhimah | E9: 5 | G9: =AVERAGE(E9:F9) -> 5 | H9: -2 | J9: =AVERAGE(H9:I9) -> -2 | K9: 15 | M9: =AVERAGE(K9:L9) -> 15 | N9: 4 | P9: =AVERAGE(N9:O9) -> 4 | Q9: 0 | R9: 67 | S9: =AVERAGE(Q9:R9) -> 33.5 | T9: =AVERAGE(G9+J9+M9+P9+S9)/5 -> 11.1
B10: 5 | C10: ='DAFTAR SISWA'!B10 -> 1259 | D10: ='DAFTAR SISWA'!D10 -> Enggar Megawantoro | E10: 6 | G10: =AVERAGE(E10:F10) -> 6 | H10: -4 | J10: =AVERAGE(H10:I10) -> -4 | K10: 14.5 | M10: =AVERAGE(K10:L10) -> 14.5 | N10: 5 | P10: =AVERAGE(N10:O10) -> 5 | Q10: -1 | S10: =AVERAGE(Q10:R10) -> -1 | T10: =AVERAGE(G10+J10+M10+P10+S10)/5 -> 4.1
B11: 6 | C11: ='DAFTAR SISWA'!B11 -> 1260 | D11: ='DAFTAR SISWA'!D11 -> Firman Ainur Rahmad | E11: 7 | G11: =AVERAGE(E11:F11) -> 7 | H11: -6 | J11: =AVERAGE(H11:I11) -> -6 | K11: 14 | M11: =AVERAGE(K11:L11) -> 14 | N11: 6 | P11: =AVERAGE(N11:O11) -> 6 | Q11: -2 | S11: =AVERAGE(Q11:R11) -> -2 | T11: =AVERAGE(G11+J11+M11+P11+S11)/5 -> 3.8
B12: 7 | C12: ='DAFTAR SISWA'!B12 -> 1263 | D12: ='DAFTAR SISWA'!D12 -> Indra Setyawan | E12: 8 | G12: =AVERAGE(E12:F12) -> 8 | H12: -8 | J12: =AVERAGE(H12:I12) -> -8 | K12: 13.5 | M12: =AVERAGE(K12:L12) -> 13.5 | N12: 7 | P12: =AVERAGE(N12:O12) -> 7 | Q12: -3 | S12: =AVERAGE(Q12:R12) -> -3 | T12: =AVERAGE(G12+J12+M12+P12+S12)/5 -> 3.5
B13: 8 | C13: ='DAFTAR SISWA'!B13 -> 1311 | D13: ='DAFTAR SISWA'!D13 -> Ismi Nur Fadilah | E13: 9 | G13: =AVERAGE(E13:F13) -> 9 | H13: -10 | J13: =AVERAGE(H13:I13) -> -10 | K13: 13 | M13: =AVERAGE(K13:L13) -> 13 | N13: 8 | P13: =AVERAGE(N13:O13) -> 8 | Q13: -4 | S13: =AVERAGE(Q13:R13) -> -4 | T13: =AVERAGE(G13+J13+M13+P13+S13)/5 -> 3.2
B14: 9 | C14: ='DAFTAR SISWA'!B14 -> 1264 | D14: ='DAFTAR SISWA'!D14 -> Jordan Ahmad Kautsar | E14: 10 | G14: =AVERAGE(E14:F14) -> 10 | H14: -12 | J14: =AVERAGE(H14:I14) -> -12 | K14: 12.5 | M14: =AVERAGE(K14:L14) -> 12.5 | N14: 9 | P14: =AVERAGE(N14:O14) -> 9 | Q14: -5 | S14: =AVERAGE(Q14:R14) -> -5 | T14: =AVERAGE(G14+J14+M14+P14+S14)/5 -> 2.9
B15: 10 | C15: ='DAFTAR SISWA'!B15 -> 1351 | D15: ='DAFTAR SISWA'!D15 -> Kahfila Zahra Aulia | E15: 11 | G15: =AVERAGE(E15:F15) -> 11 | H15: -14 | J15: =AVERAGE(H15:I15) -> -14 | K15: 12 | M15: =AVERAGE(K15:L15) -> 12 | N15: 10 | P15: =AVERAGE(N15:O15) -> 10 | Q15: -6 | S15: =AVERAGE(Q15:R15) -> -6 | T15: =AVERAGE(G15+J15+M15+P15+S15)/5 -> 2.6
B16: 11 | C16: ='DAFTAR SISWA'!B16 -> 1265 | D16: ='DAFTAR SISWA'!D16 -> Marvin Aditya Pratama | E16: 12 | G16: =AVERAGE(E16:F16) -> 12 | H16: -16 | J16: =AVERAGE(H16:I16) -> -16 | K16: 11.5 | M16: =AVERAGE(K16:L16) -> 11.5 | N16: 11 | P16: =AVERAGE(N16:O16) -> 11 | Q16: -7 | S16: =AVERAGE(Q16:R16) -> -7 | T16: =AVERAGE(G16+J16+M16+P16+S16)/5 -> 2.3
B17: 12 | C17: ='DAFTAR SISWA'!B17 -> 1266 | D17: ='DAFTAR SISWA'!D17 -> Muhammad Jibril Al Hafidz | E17: 13 | G17: =AVERAGE(E17:F17) -> 13 | H17: -18 | J17: =AVERAGE(H17:I17) -> -18 | K17: 11 | M17: =AVERAGE(K17:L17) -> 11 | N17: 12 | P17: =AVERAGE(N17:O17) -> 12 | Q17: -8 | S17: =AVERAGE(Q17:R17) -> -8 | T17: =AVERAGE(G17+J17+M17+P17+S17)/5 -> 2
B18: 13 | C18: ='DAFTAR SISWA'!B18 -> 1267 | D18: ='DAFTAR SISWA'!D18 -> Muhammad Khoirun Hanafi | E18: 14 | G18: =AVERAGE(E18:F18) -> 14 | H18: -20 | J18: =AVERAGE(H18:I18) -> -20 | K18: 10.5 | M18: =AVERAGE(K18:L18) -> 10.5 | N18: 13 | P18: =AVERAGE(N18:O18) -> 13 | Q18: -9 | S18: =AVERAGE(Q18:R18) -> -9 | T18: =AVERAGE(G18+J18+M18+P18+S18)/5 -> 1.7
B19: 14 | C19: ='DAFTAR SISWA'!B19 -> 1269 | D19: ='DAFTAR SISWA'!D19 -> Nila Nafira | E19: 15 | G19: =AVERAGE(E19:F19) -> 15 | H19: -22 | J19: =AVERAGE(H19:I19) -> -22 | K19: 10 | M19: =AVERAGE(K19:L19) -> 10 | N19: 14 | P19: =AVERAGE(N19:O19) -> 14 | Q19: -10 | S19: =AVERAGE(Q19:R19) -> -10 | T19: =AVERAGE(G19+J19+M19+P19+S19)/5 -> 1.4
B20: 15 | C20: ='DAFTAR SISWA'!B20 -> 1389 | D20: ='DAFTAR SISWA'!D20 -> Oktavia Vivi Novita | E20: 16 | G20: =AVERAGE(E20:F20) -> 16 | H20: -24 | J20: =AVERAGE(H20:I20) -> -24 | K20: 9.5 | M20: =AVERAGE(K20:L20) -> 9.5 | N20: 15 | P20: =AVERAGE(N20:O20) -> 15 | Q20: -11 | S20: =AVERAGE(Q20:R20) -> -11 | T20: =AVERAGE(G20+J20+M20+P20+S20)/5 -> 1.1
B21: 16 | C21: ='DAFTAR SISWA'!B21 -> 1270 | D21: ='DAFTAR SISWA'!D21 -> Patricia Chiquitita | E21: 17 | G21: =AVERAGE(E21:F21) -> 17 | H21: -26 | J21: =AVERAGE(H21:I21) -> -26 | K21: 9 | M21: =AVERAGE(K21:L21) -> 9 | N21: 16 | P21: =AVERAGE(N21:O21) -> 16 | Q21: -12 | S21: =AVERAGE(Q21:R21) -> -12 | T21: =AVERAGE(G21+J21+M21+P21+S21)/5 -> 0.8
... B30: 25 | C30: ='DAFTAR SISWA'!B30 -> 1249 | D30: ='DAFTAR SISWA'!D30 -> Zaidan Arley | E30: 26 | G30: =AVERAGE(E30:F30) -> 26 | H30: -44 | J30: =AVERAGE(H30:I30) -> -44 | K30: 4.5 | M30: =AVERAGE(K30:L30) -> 4.5 | N30: 25 | P30: =AVERAGE(N30:O30) -> 25 | Q30: -21 | S30: =AVERAGE(Q30:R30) -> -21 | T30: =AVERAGE(G30+J30+M30+P30+S30)/5 -> -1.9

Sheet RaporMat
B1: MATEMATIKA (RAPOR)
B2: NO | C2: No.Induk | D2: Nama | T2: NILAI RAPOR
E3: Kelas IV Semester I | G3: Rata-rata | H3: Kelas IV Semester II | J3: Rata-rata | K3: Kelas V Semester I | M3: Rata-rata | N3: Kelas V Semester II | P3: Rata-rata | Q3: Kelas VI Semester I | S3: Rata-rata
E4: Pengetahuan | F4: Keterampilan | H4: Pengetahuan | I4: Keterampilan | K4: Pengetahuan | L4: Keterampilan | N4: Pengetahuan | O4: Keterampilan | Q4: Pengetahuan | R4: Keterampilan
B5: 1 | C5: 2 | D5: 3 | T5: 13
B6: 1 | C6: ='DAFTAR SISWA'!B6 -> 1255 | D6: ='DAFTAR SISWA'!D6 -> Adya Woro Anggraeni | E6: 2 | F6: 3 | G6: =AVERAGE(E6:F6) -> 2.5 | H6: 4 | I6: 5 | J6: =AVERAGE(H6:I6) -> 4.5 | K6: 70 | L6: 60 | M6: =AVERAGE(K6:L6) -> 65 | N6: 75 | O6: 80 | P6: =AVERAGE(N6:O6) -> 77.5 | Q6: 90 | R6: 90 | S6: =AVERAGE(Q6:R6) -> 90 | T6: =AVERAGE(G6+J6+M6+P6+S6)/5 -> 47.9
B7: 2 | C7: ='DAFTAR SISWA'!B7 -> 1349 | D7: ='DAFTAR SISWA'!D7 -> Amanda Nikeisya Sudibyo | E7: 3 | G7: =AVERAGE(E7:F7) -> 3 | H7: 2 | J7: =AVERAGE(H7:I7) -> 2 | K7: 45 | L7: 6 | M7: =AVERAGE(K7:L7) -> 25.5 | N7: 2 | O7: 4 | P7: =AVERAGE(N7:O7) -> 3 | Q7: 2 | S7: =AVERAGE(Q7:R7) -> 2 | T7: =AVERAGE(G7+J7+M7+P7+S7)/5 -> 7.1
B8: 3 | C8: ='DAFTAR SISWA'!B8 -> 1257 | D8: ='DAFTAR SISWA'!D8 -> Bimo Anggamahenda | E8: 4 | G8: =AVERAGE(E8:F8) -> 4 | H8: 0 | J8: =AVERAGE(H8:I8) -> 0 | K8: 1 | L8: 3 | M8: =AVERAGE(K8:L8) -> 2 | N8: 3 | P8: =AVERAGE(N8:O8) -> 3 | Q8: 1 | S8: =AVERAGE(Q8:R8) -> 1 | T8: =AVERAGE(G8+J8+M8+P8+S8)/5 -> 2
B9: 4 | C9: ='DAFTAR SISWA'!B9 -> 1258 | D9: ='DAFTAR SISWA'!D9 -> Bungah Rizki Rokhimah | E9: 5 | G9: =AVERAGE(E9:F9) -> 5 | H9: -2 | J9: =AVERAGE(H9:I9) -> -2 | K9: 15 | M9: =AVERAGE(K9:L9) -> 15 | N9: 4 | P9: =AVERAGE(N9:O9) -> 4 | Q9: 0 | R9: 67 | S9: =AVERAGE(Q9:R9) -> 33.5 | T9: =AVERAGE(G9+J9+M9+P9+S9)/5 -> 11.1
B10: 5 | C10: ='DAFTAR SISWA'!B10 -> 1259 | D10: ='DAFTAR SISWA'!D10 -> Enggar Megawantoro | E10: 70 | G10: =AVERAGE(E10:F10) -> 70 | H10: -4 | J10: =AVERAGE(H10:I10) -> -4 | K10: 14.5 | M10: =AVERAGE(K10:L10) -> 14.5 | N10: 5 | P10: =AVERAGE(N10:O10) -> 5 | Q10: -1 | S10: =AVERAGE(Q10:R10) -> -1 | T10: =AVERAGE(G10+J10+M10+P10+S10)/5 -> 16.9
B11: 6 | C11: ='DAFTAR SISWA'!B11 -> 1260 | D11: ='DAFTAR SISWA'!D11 -> Firman Ainur Rahmad | E11: 7 | G11: =AVERAGE(E11:F11) -> 7 | H11: -6 | J11: =AVERAGE(H11:I11) -> -6 | K11: 14 | M11: =AVERAGE(K11:L11) -> 14 | N11: 6 | P11: =AVERAGE(N11:O11) -> 6 | Q11: -2 | S11: =AVERAGE(Q11:R11) -> -2 | T11: =AVERAGE(G11+J11+M11+P11+S11)/5 -> 3.8
B12: 7 | C12: ='DAFTAR SISWA'!B12 -> 1263 | D12: ='DAFTAR SISWA'!D12 -> Indra Setyawan | E12: 8 | G12: =AVERAGE(E12:F12) -> 8 | H12: -8 | J12: =AVERAGE(H12:I12) -> -8 | K12: 13.5 | M12: =AVERAGE(K12:L12) -> 13.5 | N12: 7 | P12: =AVERAGE(N12:O12) -> 7 | Q12: -3 | S12: =AVERAGE(Q12:R12) -> -3 | T12: =AVERAGE(G12+J12+M12+P12+S12)/5 -> 3.5
B13: 8 | C13: ='DAFTAR SISWA'!B13 -> 1311 | D13: ='DAFTAR SISWA'!D13 -> Ismi Nur Fadilah | E13: 9 | G13: =AVERAGE(E13:F13) -> 9 | H13: -10 | J13: =AVERAGE(H13:I13) -> -10 | K13: 13 | M13: =AVERAGE(K13:L13) -> 13 | N13: 8 | P13: =AVERAGE(N13:O13) -> 8 | Q13: -4 | S13: =AVERAGE(Q13:R13) -> -4 | T13: =AVERAGE(G13+J13+M13+P13+S13)/5 -> 3.2
B14: 9 | C14: ='DAFTAR SISWA'!B14 -> 1264 | D14: ='DAFTAR SISWA'!D14 -> Jordan Ahmad Kautsar | E14: 10 | G14: =AVERAGE(E14:F14) -> 10 | H14: -12 | J14: =AVERAGE(H14:I14) -> -12 | K14: 12.5 | M14: =AVERAGE(K14:L14) -> 12.5 | N14: 9 | P14: =AVERAGE(N14:O14) -> 9 | Q14: -5 | S14: =AVERAGE(Q14:R14) -> -5 | T14: =AVERAGE(G14+J14+M14+P14+S14)/5 -> 2.9
B15: 10 | C15: ='DAFTAR SISWA'!B15 -> 1351 | D15: ='DAFTAR SISWA'!D15 -> Kahfila Zahra Aulia | E15: 11 | G15: =AVERAGE(E15:F15) -> 11 | H15: -14 | J15: =AVERAGE(H15:I15) -> -14 | K15: 12 | M15: =AVERAGE(K15:L15) -> 12 | N15: 10 | P15: =AVERAGE(N15:O15) -> 10 | Q15: -6 | S15: =AVERAGE(Q15:R15) -> -6 | T15: =AVERAGE(G15+J15+M15+P15+S15)/5 -> 2.6
B16: 11 | C16: ='DAFTAR SISWA'!B16 -> 1265 | D16: ='DAFTAR SISWA'!D16 -> Marvin Aditya Pratama | E16: 12 | G16: =AVERAGE(E16:F16) -> 12 | H16: -16 | J16: =AVERAGE(H16:I16) -> -16 | K16: 11.5 | M16: =AVERAGE(K16:L16) -> 11.5 | N16: 11 | P16: =AVERAGE(N16:O16) -> 11 | Q16: -7 | S16: =AVERAGE(Q16:R16) -> -7 | T16: =AVERAGE(G16+J16+M16+P16+S16)/5 -> 2.3
B17: 12 | C17: ='DAFTAR SISWA'!B17 -> 1266 | D17: ='DAFTAR SISWA'!D17 -> Muhammad Jibril Al Hafidz | E17: 13 | G17: =AVERAGE(E17:F17) -> 13 | H17: -18 | J17: =AVERAGE(H17:I17) -> -18 | K17: 11 | M17: =AVERAGE(K17:L17) -> 11 | N17: 12 | P17: =AVERAGE(N17:O17) -> 12 | Q17: -8 | S17: =AVERAGE(Q17:R17) -> -8 | T17: =AVERAGE(G17+J17+M17+P17+S17)/5 -> 2
B18: 13 | C18: ='DAFTAR SISWA'!B18 -> 1267 | D18: ='DAFTAR SISWA'!D18 -> Muhammad Khoirun Hanafi | E18: 14 | G18: =AVERAGE(E18:F18) -> 14 | H18: -20 | J18: =AVERAGE(H18:I18) -> -20 | K18: 10.5 | M18: =AVERAGE(K18:L18) -> 10.5 | N18: 13 | P18: =AVERAGE(N18:O18) -> 13 | Q18: -9 | S18: =AVERAGE(Q18:R18) -> -9 | T18: =AVERAGE(G18+J18+M18+P18+S18)/5 -> 1.7
B19: 14 | C19: ='DAFTAR SISWA'!B19 -> 1269 | D19: ='DAFTAR SISWA'!D19 -> Nila Nafira | E19: 15 | G19: =AVERAGE(E19:F19) -> 15 | H19: -22 | J19: =AVERAGE(H19:I19) -> -22 | K19: 10 | M19: =AVERAGE(K19:L19) -> 10 | N19: 14 | P19: =AVERAGE(N19:O19) -> 14 | Q19: -10 | S19: =AVERAGE(Q19:R19) -> -10 | T19: =AVERAGE(G19+J19+M19+P19+S19)/5 -> 1.4
B20: 15 | C20: ='DAFTAR SISWA'!B20 -> 1389 | D20: ='DAFTAR SISWA'!D20 -> Oktavia Vivi Novita | E20: 16 | G20: =AVERAGE(E20:F20) -> 16 | H20: -24 | J20: =AVERAGE(H20:I20) -> -24 | K20: 9.5 | M20: =AVERAGE(K20:L20) -> 9.5 | N20: 15 | P20: =AVERAGE(N20:O20) -> 15 | Q20: -11 | S20: =AVERAGE(Q20:R20) -> -11 | T20: =AVERAGE(G20+J20+M20+P20+S20)/5 -> 1.1
B21: 16 | C21: ='DAFTAR SISWA'!B21 -> 1270 | D21: ='DAFTAR SISWA'!D21 -> Patricia Chiquitita | E21: 17 | G21: =AVERAGE(E21:F21) -> 17 | H21: -26 | J21: =AVERAGE(H21:I21) -> -26 | K21: 9 | M21: =AVERAGE(K21:L21) -> 9 | N21: 16 | P21: =AVERAGE(N21:O21) -> 16 | Q21: -12 | S21: =AVERAGE(Q21:R21) -> -12 | T21: =AVERAGE(G21+J21+M21+P21+S21)/5 -> 0.8
... B30: 25 | C30: ='DAFTAR SISWA'!B30 -> 1249 | D30: ='DAFTAR SISWA'!D30 -> Zaidan Arley | E30: 26 | G30: =AVERAGE(E30:F30) -> 26 | H30: -44 | J30: =AVERAGE(H30:I30) -> -44 | K30: 4.5 | M30: =AVERAGE(K30:L30) -> 4.5 | N30: 25 | P30: =AVERAGE(N30:O30) -> 25 | Q30: -21 | S30: =AVERAGE(Q30:R30) -> -21 | T30: =AVERAGE(G30+J30+M30+P30+S30)/5 -> -1.9

Sheet RaporIPA
B1: IPA (RAPOR)
B2: NO | C2: No.Induk | D2: Nama | T2: NILAI RAPOR
E3: Kelas IV Semester I | G3: Rata-rata | H3: Kelas IV Semester II | J3: Rata-rata | K3: Kelas V Semester I | M3: Rata-rata | N3: Kelas V Semester II | P3: Rata-rata | Q3: Kelas VI Semester I | S3: Rata-rata
E4: Pengetahuan | F4: Keterampilan | H4: Pengetahuan | I4: Keterampilan | K4: Pengetahuan | L4: Keterampilan | N4: Pengetahuan | O4: Keterampilan | Q4: Pengetahuan | R4: Keterampilan
B5: 1 | C5: 2 | D5: 3 | T5: 13
B6: 1 | C6: ='DAFTAR SISWA'!B6 -> 1255 | D6: ='DAFTAR SISWA'!D6 -> Adya Woro Anggraeni | E6: 2 | F6: 3 | G6: =AVERAGE(E6:F6) -> 2.5 | H6: 4 | I6: 5 | J6: =AVERAGE(H6:I6) -> 4.5 | K6: 70 | L6: 60 | M6: =AVERAGE(K6:L6) -> 65 | N6: 75 | O6: 80 | P6: =AVERAGE(N6:O6) -> 77.5 | Q6: 90 | R6: 90 | S6: =AVERAGE(Q6:R6) -> 90 | T6: =AVERAGE(G6+J6+M6+P6+S6)/5 -> 47.9
B7: 2 | C7: ='DAFTAR SISWA'!B7 -> 1349 | D7: ='DAFTAR SISWA'!D7 -> Amanda Nikeisya Sudibyo | E7: 3 | G7: =AVERAGE(E7:F7) -> 3 | H7: 2 | J7: =AVERAGE(H7:I7) -> 2 | K7: 45 | L7: 6 | M7: =AVERAGE(K7:L7) -> 25.5 | N7: 2 | O7: 4 | P7: =AVERAGE(N7:O7) -> 3 | Q7: 2 | S7: =AVERAGE(Q7:R7) -> 2 | T7: =AVERAGE(G7+J7+M7+P7+S7)/5 -> 7.1
B8: 3 | C8: ='DAFTAR SISWA'!B8 -> 1257 | D8: ='DAFTAR SISWA'!D8 -> Bimo Anggamahenda | E8: 4 | G8: =AVERAGE(E8:F8) -> 4 | H8: 0 | J8: =AVERAGE(H8:I8) -> 0 | K8: 1 | L8: 3 | M8: =AVERAGE(K8:L8) -> 2 | N8: 3 | P8: =AVERAGE(N8:O8) -> 3 | Q8: 1 | S8: =AVERAGE(Q8:R8) -> 1 | T8: =AVERAGE(G8+J8+M8+P8+S8)/5 -> 2
B9: 4 | C9: ='DAFTAR SISWA'!B9 -> 1258 | D9: ='DAFTAR SISWA'!D9 -> Bungah Rizki Rokhimah | E9: 5 | G9: =AVERAGE(E9:F9) -> 5 | H9: -2 | J9: =AVERAGE(H9:I9) -> -2 | K9: 15 | M9: =AVERAGE(K9:L9) -> 15 | N9: 4 | P9: =AVERAGE(N9:O9) -> 4 | Q9: 0 | R9: 67 | S9: =AVERAGE(Q9:R9) -> 33.5 | T9: =AVERAGE(G9+J9+M9+P9+S9)/5 -> 11.1
B10: 5 | C10: ='DAFTAR SISWA'!B10 -> 1259 | D10: ='DAFTAR SISWA'!D10 -> Enggar Megawantoro | E10: 6 | G10: =AVERAGE(E10:F10) -> 6 | H10: -4 | J10: =AVERAGE(H10:I10) -> -4 | K10: 14.5 | M10: =AVERAGE(K10:L10) -> 14.5 | N10: 5 | P10: =AVERAGE(N10:O10) -> 5 | Q10: -1 | S10: =AVERAGE(Q10:R10) -> -1 | T10: =AVERAGE(G10+J10+M10+P10+S10)/5 -> 4.1
B11: 6 | C11: ='DAFTAR SISWA'!B11 -> 1260 | D11: ='DAFTAR SISWA'!D11 -> Firman Ainur Rahmad | E11: 7 | G11: =AVERAGE(E11:F11) -> 7 | H11: -6 | J11: =AVERAGE(H11:I11) -> -6 | K11: 14 | M11: =AVERAGE(K11:L11) -> 14 | N11: 6 | P11: =AVERAGE(N11:O11) -> 6 | Q11: -2 | S11: =AVERAGE(Q11:R11) -> -2 | T11: =AVERAGE(G11+J11+M11+P11+S11)/5 -> 3.8
B12: 7 | C12: ='DAFTAR SISWA'!B12 -> 1263 | D12: ='DAFTAR SISWA'!D12 -> Indra Setyawan | E12: 8 | G12: =AVERAGE(E12:F12) -> 8 | H12: -8 | J12: =AVERAGE(H12:I12) -> -8 | K12: 13.5 | M12: =AVERAGE(K12:L12) -> 13.5 | N12: 7 | P12: =AVERAGE(N12:O12) -> 7 | Q12: -3 | S12: =AVERAGE(Q12:R12) -> -3 | T12: =AVERAGE(G12+J12+M12+P12+S12)/5 -> 3.5
B13: 8 | C13: ='DAFTAR SISWA'!B13 -> 1311 | D13: ='DAFTAR SISWA'!D13 -> Ismi Nur Fadilah | E13: 9 | G13: =AVERAGE(E13:F13) -> 9 | H13: -10 | J13: =AVERAGE(H13:I13) -> -10 | K13: 13 | M13: =AVERAGE(K13:L13) -> 13 | N13: 8 | P13: =AVERAGE(N13:O13) -> 8 | Q13: -4 | S13: =AVERAGE(Q13:R13) -> -4 | T13: =AVERAGE(G13+J13+M13+P13+S13)/5 -> 3.2
B14: 9 | C14: ='DAFTAR SISWA'!B14 -> 1264 | D14: ='DAFTAR SISWA'!D14 -> Jordan Ahmad Kautsar | E14: 10 | G14: =AVERAGE(E14:F14) -> 10 | H14: -12 | J14: =AVERAGE(H14:I14) -> -12 | K14: 12.5 | M14: =AVERAGE(K14:L14) -> 12.5 | N14: 9 | P14: =AVERAGE(N14:O14) -> 9 | Q14: -5 | S14: =AVERAGE(Q14:R14) -> -5 | T14: =AVERAGE(G14+J14+M14+P14+S14)/5 -> 2.9
B15: 10 | C15: ='DAFTAR SISWA'!B15 -> 1351 | D15: ='DAFTAR SISWA'!D15 -> Kahfila Zahra Aulia | E15: 11 | G15: =AVERAGE(E15:F15) -> 11 | H15: -14 | J15: =AVERAGE(H15:I15) -> -14 | K15: 12 | M15: =AVERAGE(K15:L15) -> 12 | N15: 10 | P15: =AVERAGE(N15:O15) -> 10 | Q15: -6 | S15: =AVERAGE(Q15:R15) -> -6 | T15: =AVERAGE(G15+J15+M15+P15+S15)/5 -> 2.6
B16: 11 | C16: ='DAFTAR SISWA'!B16 -> 1265 | D16: ='DAFTAR SISWA'!D16 -> Marvin Aditya Pratama | E16: 12 | G16: =AVERAGE(E16:F16) -> 12 | H16: -16 | J16: =AVERAGE(H16:I16) -> -16 | K16: 11.5 | M16: =AVERAGE(K16:L16) -> 11.5 | N16: 11 | P16: =AVERAGE(N16:O16) -> 11 | Q16: -7 | S16: =AVERAGE(Q16:R16) -> -7 | T16: =AVERAGE(G16+J16+M16+P16+S16)/5 -> 2.3
B17: 12 | C17: ='DAFTAR SISWA'!B17 -> 1266 | D17: ='DAFTAR SISWA'!D17 -> Muhammad Jibril Al Hafidz | E17: 13 | G17: =AVERAGE(E17:F17) -> 13 | H17: -18 | J17: =AVERAGE(H17:I17) -> -18 | K17: 11 | M17: =AVERAGE(K17:L17) -> 11 | N17: 12 | P17: =AVERAGE(N17:O17) -> 12 | Q17: -8 | S17: =AVERAGE(Q17:R17) -> -8 | T17: =AVERAGE(G17+J17+M17+P17+S17)/5 -> 2
B18: 13 | C18: ='DAFTAR SISWA'!B18 -> 1267 | D18: ='DAFTAR SISWA'!D18 -> Muhammad Khoirun Hanafi | E18: 14 | G18: =AVERAGE(E18:F18) -> 14 | H18: -20 | J18: =AVERAGE(H18:I18) -> -20 | K18: 10.5 | M18: =AVERAGE(K18:L18) -> 10.5 | N18: 13 | P18: =AVERAGE(N18:O18) -> 13 | Q18: -9 | S18: =AVERAGE(Q18:R18) -> -9 | T18: =AVERAGE(G18+J18+M18+P18+S18)/5 -> 1.7
B19: 14 | C19: ='DAFTAR SISWA'!B19 -> 1269 | D19: ='DAFTAR SISWA'!D19 -> Nila Nafira | E19: 15 | G19: =AVERAGE(E19:F19) -> 15 | H19: -22 | J19: =AVERAGE(H19:I19) -> -22 | K19: 10 | M19: =AVERAGE(K19:L19) -> 10 | N19: 14 | P19: =AVERAGE(N19:O19) -> 14 | Q19: -10 | S19: =AVERAGE(Q19:R19) -> -10 | T19: =AVERAGE(G19+J19+M19+P19+S19)/5 -> 1.4
B20: 15 | C20: ='DAFTAR SISWA'!B20 -> 1389 | D20: ='DAFTAR SISWA'!D20 -> Oktavia Vivi Novita | E20: 16 | G20: =AVERAGE(E20:F20) -> 16 | H20: -24 | J20: =AVERAGE(H20:I20) -> -24 | K20: 9.5 | M20: =AVERAGE(K20:L20) -> 9.5 | N20: 15 | P20: =AVERAGE(N20:O20) -> 15 | Q20: -11 | S20: =AVERAGE(Q20:R20) -> -11 | T20: =AVERAGE(G20+J20+M20+P20+S20)/5 -> 1.1
B21: 16 | C21: ='DAFTAR SISWA'!B21 -> 1270 | D21: ='DAFTAR SISWA'!D21 -> Patricia Chiquitita | E21: 17 | G21: =AVERAGE(E21:F21) -> 17 | H21: -26 | J21: =AVERAGE(H21:I21) -> -26 | K21: 9 | M21: =AVERAGE(K21:L21) -> 9 | N21: 16 | P21: =AVERAGE(N21:O21) -> 16 | Q21: -12 | S21: =AVERAGE(Q21:R21) -> -12 | T21: =AVERAGE(G21+J21+M21+P21+S21)/5 -> 0.8
... B30: 25 | C30: ='DAFTAR SISWA'!B30 -> 1249 | D30: ='DAFTAR SISWA'!D30 -> Zaidan Arley | E30: 26 | G30: =AVERAGE(E30:F30) -> 26 | H30: -44 | J30: =AVERAGE(H30:I30) -> -44 | K30: 4.5 | M30: =AVERAGE(K30:L30) -> 4.5 | N30: 25 | P30: =AVERAGE(N30:O30) -> 25 | Q30: -21 | S30: =AVERAGE(Q30:R30) -> -21 | T30: =AVERAGE(G30+J30+M30+P30+S30)/5 -> -1.9

Sheet RaporIPS
B1: IPS (RAPOR)
B2: NO | C2: No.Induk | D2: Nama | T2: NILAI RAPOR
E3: Kelas IV Semester I | G3: Rata-rata | H3: Kelas IV Semester II | J3: Rata-rata | K3: Kelas V Semester I | M3: Rata-rata | N3: Kelas V Semester II | P3: Rata-rata | Q3: Kelas VI Semester I | S3: Rata-rata
E4: Pengetahuan | F4: Keterampilan | H4: Pengetahuan | I4: Keterampilan | K4: Pengetahuan | L4: Keterampilan | N4: Pengetahuan | O4: Keterampilan | Q4: Pengetahuan | R4: Keterampilan
B5: 1 | C5: 2 | D5: 3 | T5: 13
B6: 1 | C6: ='DAFTAR SISWA'!B6 -> 1255 | D6: ='DAFTAR SISWA'!D6 -> Adya Woro Anggraeni | E6: 2 | F6: 3 | G6: =AVERAGE(E6:F6) -> 2.5 | H6: 4 | I6: 5 | J6: =AVERAGE(H6:I6) -> 4.5 | K6: 70 | L6: 60 | M6: =AVERAGE(K6:L6) -> 65 | N6: 75 | O6: 80 | P6: =AVERAGE(N6:O6) -> 77.5 | Q6: 90 | R6: 90 | S6: =AVERAGE(Q6:R6) -> 90 | T6: =AVERAGE(G6+J6+M6+P6+S6)/5 -> 47.9
B7: 2 | C7: ='DAFTAR SISWA'!B7 -> 1349 | D7: ='DAFTAR SISWA'!D7 -> Amanda Nikeisya Sudibyo | E7: 3 | G7: =AVERAGE(E7:F7) -> 3 | H7: 2 | J7: =AVERAGE(H7:I7) -> 2 | K7: 45 | L7: 6 | M7: =AVERAGE(K7:L7) -> 25.5 | N7: 2 | O7: 4 | P7: =AVERAGE(N7:O7) -> 3 | Q7: 2 | S7: =AVERAGE(Q7:R7) -> 2 | T7: =AVERAGE(G7+J7+M7+P7+S7)/5 -> 7.1
B8: 3 | C8: ='DAFTAR SISWA'!B8 -> 1257 | D8: ='DAFTAR SISWA'!D8 -> Bimo Anggamahenda | E8: 4 | G8: =AVERAGE(E8:F8) -> 4 | H8: 0 | J8: =AVERAGE(H8:I8) -> 0 | K8: 1 | L8: 3 | M8: =AVERAGE(K8:L8) -> 2 | N8: 3 | P8: =AVERAGE(N8:O8) -> 3 | Q8: 1 | S8: =AVERAGE(Q8:R8) -> 1 | T8: =AVERAGE(G8+J8+M8+P8+S8)/5 -> 2
B9: 4 | C9: ='DAFTAR SISWA'!B9 -> 1258 | D9: ='DAFTAR SISWA'!D9 -> Bungah Rizki Rokhimah | E9: 5 | G9: =AVERAGE(E9:F9) -> 5 | H9: -2 | J9: =AVERAGE(H9:I9) -> -2 | K9: 15 | M9: =AVERAGE(K9:L9) -> 15 | N9: 4 | P9: =AVERAGE(N9:O9) -> 4 | Q9: 0 | R9: 67 | S9: =AVERAGE(Q9:R9) -> 33.5 | T9: =AVERAGE(G9+J9+M9+P9+S9)/5 -> 11.1
B10: 5 | C10: ='DAFTAR SISWA'!B10 -> 1259 | D10: ='DAFTAR SISWA'!D10 -> Enggar Megawantoro | E10: 6 | G10: =AVERAGE(E10:F10) -> 6 | H10: -4 | J10: =AVERAGE(H10:I10) -> -4 | K10: 14.5 | M10: =AVERAGE(K10:L10) -> 14.5 | N10: 5 | P10: =AVERAGE(N10:O10) -> 5 | Q10: -1 | S10: =AVERAGE(Q10:R10) -> -1 | T10: =AVERAGE(G10+J10+M10+P10+S10)/5 -> 4.1
B11: 6 | C11: ='DAFTAR SISWA'!B11 -> 1260 | D11: ='DAFTAR SISWA'!D11 -> Firman Ainur Rahmad | E11: 7 | G11: =AVERAGE(E11:F11) -> 7 | H11: -6 | J11: =AVERAGE(H11:I11) -> -6 | K11: 14 | M11: =AVERAGE(K11:L11) -> 14 | N11: 6 | P11: =AVERAGE(N11:O11) -> 6 | Q11: -2 | S11: =AVERAGE(Q11:R11) -> -2 | T11: =AVERAGE(G11+J11+M11+P11+S11)/5 -> 3.8
B12: 7 | C12: ='DAFTAR SISWA'!B12 -> 1263 | D12: ='DAFTAR SISWA'!D12 -> Indra Setyawan | E12: 8 | G12: =AVERAGE(E12:F12) -> 8 | H12: -8 | J12: =AVERAGE(H12:I12) -> -8 | K12: 13.5 | M12: =AVERAGE(K12:L12) -> 13.5 | N12: 7 | P12: =AVERAGE(N12:O12) -> 7 | Q12: -3 | S12: =AVERAGE(Q12:R12) -> -3 | T12: =AVERAGE(G12+J12+M12+P12+S12)/5 -> 3.5
B13: 8 | C13: ='DAFTAR SISWA'!B13 -> 1311 | D13: ='DAFTAR SISWA'!D13 -> Ismi Nur Fadilah | E13: 9 | G13: =AVERAGE(E13:F13) -> 9 | H13: -10 | J13: =AVERAGE(H13:I13) -> -10 | K13: 13 | M13: =AVERAGE(K13:L13) -> 13 | N13: 8 | P13: =AVERAGE(N13:O13) -> 8 | Q13: -4 | S13: =AVERAGE(Q13:R13) -> -4 | T13: =AVERAGE(G13+J13+M13+P13+S13)/5 -> 3.2
B14: 9 | C14: ='DAFTAR SISWA'!B14 -> 1264 | D14: ='DAFTAR SISWA'!D14 -> Jordan Ahmad Kautsar | E14: 10 | G14: =AVERAGE(E14:F14) -> 10 | H14: -12 | J14: =AVERAGE(H14:I14) -> -12 | K14: 12.5 | M14: =AVERAGE(K14:L14) -> 12.5 | N14: 9 | P14: =AVERAGE(N14:O14) -> 9 | Q14: -5 | S14: =AVERAGE(Q14:R14) -> -5 | T14: =AVERAGE(G14+J14+M14+P14+S14)/5 -> 2.9
B15: 10 | C15: ='DAFTAR SISWA'!B15 -> 1351 | D15: ='DAFTAR SISWA'!D15 -> Kahfila Zahra Aulia | E15: 11 | G15: =AVERAGE(E15:F15) -> 11 | H15: -14 | J15: =AVERAGE(H15:I15) -> -14 | K15: 12 | M15: =AVERAGE(K15:L15) -> 12 | N15: 10 | P15: =AVERAGE(N15:O15) -> 10 | Q15: -6 | S15: =AVERAGE(Q15:R15) -> -6 | T15: =AVERAGE(G15+J15+M15+P15+S15)/5 -> 2.6
B16: 11 | C16: ='DAFTAR SISWA'!B16 -> 1265 | D16: ='DAFTAR SISWA'!D16 -> Marvin Aditya Pratama | E16: 12 | G16: =AVERAGE(E16:F16) -> 12 | H16: -16 | J16: =AVERAGE(H16:I16) -> -16 | K16: 11.5 | M16: =AVERAGE(K16:L16) -> 11.5 | N16: 11 | P16: =AVERAGE(N16:O16) -> 11 | Q16: -7 | S16: =AVERAGE(Q16:R16) -> -7 | T16: =AVERAGE(G16+J16+M16+P16+S16)/5 -> 2.3
B17: 12 | C17: ='DAFTAR SISWA'!B17 -> 1266 | D17: ='DAFTAR SISWA'!D17 -> Muhammad Jibril Al Hafidz | E17: 13 | G17: =AVERAGE(E17:F17) -> 13 | H17: -18 | J17: =AVERAGE(H17:I17) -> -18 | K17: 11 | M17: =AVERAGE(K17:L17) -> 11 | N17: 12 | P17: =AVERAGE(N17:O17) -> 12 | Q17: -8 | S17: =AVERAGE(Q17:R17) -> -8 | T17: =AVERAGE(G17+J17+M17+P17+S17)/5 -> 2
B18: 13 | C18: ='DAFTAR SISWA'!B18 -> 1267 | D18: ='DAFTAR SISWA'!D18 -> Muhammad Khoirun Hanafi | E18: 14 | G18: =AVERAGE(E18:F18) -> 14 | H18: -20 | J18: =AVERAGE(H18:I18) -> -20 | K18: 10.5 | M18: =AVERAGE(K18:L18) -> 10.5 | N18: 13 | P18: =AVERAGE(N18:O18) -> 13 | Q18: -9 | S18: =AVERAGE(Q18:R18) -> -9 | T18: =AVERAGE(G18+J18+M18+P18+S18)/5 -> 1.7
B19: 14 | C19: ='DAFTAR SISWA'!B19 -> 1269 | D19: ='DAFTAR SISWA'!D19 -> Nila Nafira | E19: 15 | G19: =AVERAGE(E19:F19) -> 15 | H19: -22 | J19: =AVERAGE(H19:I19) -> -22 | K19: 10 | M19: =AVERAGE(K19:L19) -> 10 | N19: 14 | P19: =AVERAGE(N19:O19) -> 14 | Q19: -10 | S19: =AVERAGE(Q19:R19) -> -10 | T19: =AVERAGE(G19+J19+M19+P19+S19)/5 -> 1.4
B20: 15 | C20: ='DAFTAR SISWA'!B20 -> 1389 | D20: ='DAFTAR SISWA'!D20 -> Oktavia Vivi Novita | E20: 16 | G20: =AVERAGE(E20:F20) -> 16 | H20: -24 | J20: =AVERAGE(H20:I20) -> -24 | K20: 9.5 | M20: =AVERAGE(K20:L20) -> 9.5 | N20: 15 | P20: =AVERAGE(N20:O20) -> 15 | Q20: -11 | S20: =AVERAGE(Q20:R20) -> -11 | T20: =AVERAGE(G20+J20+M20+P20+S20)/5 -> 1.1
B21: 16 | C21: ='DAFTAR SISWA'!B21 -> 1270 | D21: ='DAFTAR SISWA'!D21 -> Patricia Chiquitita | E21: 17 | G21: =AVERAGE(E21:F21) -> 17 | H21: -26 | J21: =AVERAGE(H21:I21) -> -26 | K21: 9 | M21: =AVERAGE(K21:L21) -> 9 | N21: 16 | P21: =AVERAGE(N21:O21) -> 16 | Q21: -12 | S21: =AVERAGE(Q21:R21) -> -12 | T21: =AVERAGE(G21+J21+M21+P21+S21)/5 -> 0.8
... B30: 25 | C30: ='DAFTAR SISWA'!B30 -> 1249 | D30: ='DAFTAR SISWA'!D30 -> Zaidan Arley | E30: 26 | G30: =AVERAGE(E30:F30) -> 26 | H30: -44 | J30: =AVERAGE(H30:I30) -> -44 | K30: 4.5 | M30: =AVERAGE(K30:L30) -> 4.5 | N30: 25 | P30: =AVERAGE(N30:O30) -> 25 | Q30: -21 | S30: =AVERAGE(Q30:R30) -> -21 | T30: =AVERAGE(G30+J30+M30+P30+S30)/5 -> -1.9

Sheet RaporSBDP
B1: SBDP (RAPOR)
B2: NO | C2: No.Induk | D2: Nama | T2: NILAI RAPOR
E3: Kelas IV Semester I | G3: Rata-rata | H3: Kelas IV Semester II | J3: Rata-rata | K3: Kelas V Semester I | M3: Rata-rata | N3: Kelas V Semester II | P3: Rata-rata | Q3: Kelas VI Semester I | S3: Rata-rata
E4: Pengetahuan | F4: Keterampilan | H4: Pengetahuan | I4: Keterampilan | K4: Pengetahuan | L4: Keterampilan | N4: Pengetahuan | O4: Keterampilan | Q4: Pengetahuan | R4: Keterampilan
B5: 1 | C5: 2 | D5: 3 | T5: 13
B6: 1 | C6: ='DAFTAR SISWA'!B6 -> 1255 | D6: ='DAFTAR SISWA'!D6 -> Adya Woro Anggraeni | E6: 2 | F6: 3 | G6: =AVERAGE(E6:F6) -> 2.5 | H6: 4 | I6: 5 | J6: =AVERAGE(H6:I6) -> 4.5 | K6: 70 | L6: 60 | M6: =AVERAGE(K6:L6) -> 65 | N6: 75 | O6: 80 | P6: =AVERAGE(N6:O6) -> 77.5 | Q6: 90 | R6: 90 | S6: =AVERAGE(Q6:R6) -> 90 | T6: =AVERAGE(G6+J6+M6+P6+S6)/5 -> 47.9
B7: 2 | C7: ='DAFTAR SISWA'!B7 -> 1349 | D7: ='DAFTAR SISWA'!D7 -> Amanda Nikeisya Sudibyo | E7: 3 | G7: =AVERAGE(E7:F7) -> 3 | H7: 2 | J7: =AVERAGE(H7:I7) -> 2 | K7: 45 | L7: 6 | M7: =AVERAGE(K7:L7) -> 25.5 | N7: 2 | O7: 4 | P7: =AVERAGE(N7:O7) -> 3 | Q7: 2 | S7: =AVERAGE(Q7:R7) -> 2 | T7: =AVERAGE(G7+J7+M7+P7+S7)/5 -> 7.1
B8: 3 | C8: ='DAFTAR SISWA'!B8 -> 1257 | D8: ='DAFTAR SISWA'!D8 -> Bimo Anggamahenda | E8: 4 | G8: =AVERAGE(E8:F8) -> 4 | H8: 0 | J8: =AVERAGE(H8:I8) -> 0 | K8: 1 | L8: 3 | M8: =AVERAGE(K8:L8) -> 2 | N8: 3 | P8: =AVERAGE(N8:O8) -> 3 | Q8: 1 | S8: =AVERAGE(Q8:R8) -> 1 | T8: =AVERAGE(G8+J8+M8+P8+S8)/5 -> 2
B9: 4 | C9: ='DAFTAR SISWA'!B9 -> 1258 | D9: ='DAFTAR SISWA'!D9 -> Bungah Rizki Rokhimah | E9: 5 | G9: =AVERAGE(E9:F9) -> 5 | H9: -2 | J9: =AVERAGE(H9:I9) -> -2 | K9: 15 | M9: =AVERAGE(K9:L9) -> 15 | N9: 4 | P9: =AVERAGE(N9:O9) -> 4 | Q9: 0 | R9: 67 | S9: =AVERAGE(Q9:R9) -> 33.5 | T9: =AVERAGE(G9+J9+M9+P9+S9)/5 -> 11.1
B10: 5 | C10: ='DAFTAR SISWA'!B10 -> 1259 | D10: ='DAFTAR SISWA'!D10 -> Enggar Megawantoro | E10: 6 | G10: =AVERAGE(E10:F10) -> 6 | H10: -4 | J10: =AVERAGE(H10:I10) -> -4 | K10: 14.5 | M10: =AVERAGE(K10:L10) -> 14.5 | N10: 5 | P10: =AVERAGE(N10:O10) -> 5 | Q10: -1 | S10: =AVERAGE(Q10:R10) -> -1 | T10: =AVERAGE(G10+J10+M10+P10+S10)/5 -> 4.1
B11: 6 | C11: ='DAFTAR SISWA'!B11 -> 1260 | D11: ='DAFTAR SISWA'!D11 -> Firman Ainur Rahmad | E11: 7 | G11: =AVERAGE(E11:F11) -> 7 | H11: -6 | J11: =AVERAGE(H11:I11) -> -6 | K11: 14 | M11: =AVERAGE(K11:L11) -> 14 | N11: 6 | P11: =AVERAGE(N11:O11) -> 6 | Q11: -2 | S11: =AVERAGE(Q11:R11) -> -2 | T11: =AVERAGE(G11+J11+M11+P11+S11)/5 -> 3.8
B12: 7 | C12: ='DAFTAR SISWA'!B12 -> 1263 | D12: ='DAFTAR SISWA'!D12 -> Indra Setyawan | E12: 8 | G12: =AVERAGE(E12:F12) -> 8 | H12: -8 | J12: =AVERAGE(H12:I12) -> -8 | K12: 13.5 | M12: =AVERAGE(K12:L12) -> 13.5 | N12: 7 | P12: =AVERAGE(N12:O12) -> 7 | Q12: -3 | S12: =AVERAGE(Q12:R12) -> -3 | T12: =AVERAGE(G12+J12+M12+P12+S12)/5 -> 3.5
B13: 8 | C13: ='DAFTAR SISWA'!B13 -> 1311 | D13: ='DAFTAR SISWA'!D13 -> Ismi Nur Fadilah | E13: 9 | G13: =AVERAGE(E13:F13) -> 9 | H13: -10 | J13: =AVERAGE(H13:I13) -> -10 | K13: 13 | M13: =AVERAGE(K13:L13) -> 13 | N13: 8 | P13: =AVERAGE(N13:O13) -> 8 | Q13: -4 | S13: =AVERAGE(Q13:R13) -> -4 | T13: =AVERAGE(G13+J13+M13+P13+S13)/5 -> 3.2
B14: 9 | C14: ='DAFTAR SISWA'!B14 -> 1264 | D14: ='DAFTAR SISWA'!D14 -> Jordan Ahmad Kautsar | E14: 10 | G14: =AVERAGE(E14:F14) -> 10 | H14: -12 | J14: =AVERAGE(H14:I14) -> -12 | K14: 12.5 | M14: =AVERAGE(K14:L14) -> 12.5 | N14: 9 | P14: =AVERAGE(N14:O14) -> 9 | Q14: -5 | S14: =AVERAGE(Q14:R14) -> -5 | T14: =AVERAGE(G14+J14+M14+P14+S14)/5 -> 2.9
B15: 10 | C15: ='DAFTAR SISWA'!B15 -> 1351 | D15: ='DAFTAR SISWA'!D15 -> Kahfila Zahra Aulia | E15: 11 | G15: =AVERAGE(E15:F15) -> 11 | H15: -14 | J15: =AVERAGE(H15:I15) -> -14 | K15: 12 | M15: =AVERAGE(K15:L15) -> 12 | N15: 10 | P15: =AVERAGE(N15:O15) -> 10 | Q15: -6 | S15: =AVERAGE(Q15:R15) -> -6 | T15: =AVERAGE(G15+J15+M15+P15+S15)/5 -> 2.6
B16: 11 | C16: ='DAFTAR SISWA'!B16 -> 1265 | D16: ='DAFTAR SISWA'!D16 -> Marvin Aditya Pratama | E16: 12 | G16: =AVERAGE(E16:F16) -> 12 | H16: -16 | J16: =AVERAGE(H16:I16) -> -16 | K16: 11.5 | M16: =AVERAGE(K16:L16) -> 11.5 | N16: 11 | P16: =AVERAGE(N16:O16) -> 11 | Q16: -7 | S16: =AVERAGE(Q16:R16) -> -7 | T16: =AVERAGE(G16+J16+M16+P16+S16)/5 -> 2.3
B17: 12 | C17: ='DAFTAR SISWA'!B17 -> 1266 | D17: ='DAFTAR SISWA'!D17 -> Muhammad Jibril Al Hafidz | E17: 13 | G17: =AVERAGE(E17:F17) -> 13 | H17: -18 | J17: =AVERAGE(H17:I17) -> -18 | K17: 11 | M17: =AVERAGE(K17:L17) -> 11 | N17: 12 | P17: =AVERAGE(N17:O17) -> 12 | Q17: -8 | S17: =AVERAGE(Q17:R17) -> -8 | T17: =AVERAGE(G17+J17+M17+P17+S17)/5 -> 2
B18: 13 | C18: ='DAFTAR SISWA'!B18 -> 1267 | D18: ='DAFTAR SISWA'!D18 -> Muhammad Khoirun Hanafi | E18: 14 | G18: =AVERAGE(E18:F18) -> 14 | H18: -20 | J18: =AVERAGE(H18:I18) -> -20 | K18: 10.5 | M18: =AVERAGE(K18:L18) -> 10.5 | N18: 13 | P18: =AVERAGE(N18:O18) -> 13 | Q18: -9 | S18: =AVERAGE(Q18:R18) -> -9 | T18: =AVERAGE(G18+J18+M18+P18+S18)/5 -> 1.7
B19: 14 | C19: ='DAFTAR SISWA'!B19 -> 1269 | D19: ='DAFTAR SISWA'!D19 -> Nila Nafira | E19: 15 | G19: =AVERAGE(E19:F19) -> 15 | H19: -22 | J19: =AVERAGE(H19:I19) -> -22 | K19: 10 | M19: =AVERAGE(K19:L19) -> 10 | N19: 14 | P19: =AVERAGE(N19:O19) -> 14 | Q19: -10 | S19: =AVERAGE(Q19:R19) -> -10 | T19: =AVERAGE(G19+J19+M19+P19+S19)/5 -> 1.4
B20: 15 | C20: ='DAFTAR SISWA'!B20 -> 1389 | D20: ='DAFTAR SISWA'!D20 -> Oktavia Vivi Novita | E20: 16 | G20: =AVERAGE(E20:F20) -> 16 | H20: -24 | J20: =AVERAGE(H20:I20) -> -24 | K20: 9.5 | M20: =AVERAGE(K20:L20) -> 9.5 | N20: 15 | P20: =AVERAGE(N20:O20) -> 15 | Q20: -11 | S20: =AVERAGE(Q20:R20) -> -11 | T20: =AVERAGE(G20+J20+M20+P20+S20)/5 -> 1.1
B21: 16 | C21: ='DAFTAR SISWA'!B21 -> 1270 | D21: ='DAFTAR SISWA'!D21 -> Patricia Chiquitita | E21: 17 | G21: =AVERAGE(E21:F21) -> 17 | H21: -26 | J21: =AVERAGE(H21:I21) -> -26 | K21: 9 | M21: =AVERAGE(K21:L21) -> 9 | N21: 16 | P21: =AVERAGE(N21:O21) -> 16 | Q21: -12 | S21: =AVERAGE(Q21:R21) -> -12 | T21: =AVERAGE(G21+J21+M21+P21+S21)/5 -> 0.8
... B30: 25 | C30: ='DAFTAR SISWA'!B30 -> 1249 | D30: ='DAFTAR SISWA'!D30 -> Zaidan Arley | E30: 26 | G30: =AVERAGE(E30:F30) -> 26 | H30: -44 | J30: =AVERAGE(H30:I30) -> -44 | K30: 4.5 | M30: =AVERAGE(K30:L30) -> 4.5 | N30: 25 | P30: =AVERAGE(N30:O30) -> 25 | Q30: -21 | S30: =AVERAGE(Q30:R30) -> -21 | T30: =AVERAGE(G30+J30+M30+P30+S30)/5 -> -1.9

Sheet RaporPJOK
B1: PJOK (RAPOR)
B2: NO | C2: No.Induk | D2: Nama | T2: NILAI RAPOR
E3: Kelas IV Semester I | G3: Rata-rata | H3: Kelas IV Semester II | J3: Rata-rata | K3: Kelas V Semester I | M3: Rata-rata | N3: Kelas V Semester II | P3: Rata-rata | Q3: Kelas VI Semester I | S3: Rata-rata
E4: Pengetahuan | F4: Keterampilan | H4: Pengetahuan | I4: Keterampilan | K4: Pengetahuan | L4: Keterampilan | N4: Pengetahuan | O4: Keterampilan | Q4: Pengetahuan | R4: Keterampilan
B5: 1 | C5: 2 | D5: 3 | T5: 13
B6: 1 | C6: ='DAFTAR SISWA'!B6 -> 1255 | D6: ='DAFTAR SISWA'!D6 -> Adya Woro Anggraeni | E6: 2 | F6: 3 | G6: =AVERAGE(E6:F6) -> 2.5 | H6: 4 | I6: 5 | J6: =AVERAGE(H6:I6) -> 4.5 | K6: 70 | L6: 60 | M6: =AVERAGE(K6:L6) -> 65 | N6: 75 | O6: 80 | P6: =AVERAGE(N6:O6) -> 77.5 | Q6: 90 | R6: 90 | S6: =AVERAGE(Q6:R6) -> 90 | T6: =AVERAGE(G6+J6+M6+P6+S6)/5 -> 47.9
B7: 2 | C7: ='DAFTAR SISWA'!B7 -> 1349 | D7: ='DAFTAR SISWA'!D7 -> Amanda Nikeisya Sudibyo | E7: 3 | G7: =AVERAGE(E7:F7) -> 3 | H7: 2 | J7: =AVERAGE(H7:I7) -> 2 | K7: 45 | L7: 6 | M7: =AVERAGE(K7:L7) -> 25.5 | N7: 2 | O7: 4 | P7: =AVERAGE(N7:O7) -> 3 | Q7: 2 | S7: =AVERAGE(Q7:R7) -> 2 | T7: =AVERAGE(G7+J7+M7+P7+S7)/5 -> 7.1
B8: 3 | C8: ='DAFTAR SISWA'!B8 -> 1257 | D8: ='DAFTAR SISWA'!D8 -> Bimo Anggamahenda | E8: 4 | G8: =AVERAGE(E8:F8) -> 4 | H8: 0 | J8: =AVERAGE(H8:I8) -> 0 | K8: 1 | L8: 3 | M8: =AVERAGE(K8:L8) -> 2 | N8: 3 | P8: =AVERAGE(N8:O8) -> 3 | Q8: 1 | S8: =AVERAGE(Q8:R8) -> 1 | T8: =AVERAGE(G8+J8+M8+P8+S8)/5 -> 2
B9: 4 | C9: ='DAFTAR SISWA'!B9 -> 1258 | D9: ='DAFTAR SISWA'!D9 -> Bungah Rizki Rokhimah | E9: 5 | G9: =AVERAGE(E9:F9) -> 5 | H9: -2 | J9: =AVERAGE(H9:I9) -> -2 | K9: 15 | M9: =AVERAGE(K9:L9) -> 15 | N9: 4 | P9: =AVERAGE(N9:O9) -> 4 | Q9: 0 | R9: 67 | S9: =AVERAGE(Q9:R9) -> 33.5 | T9: =AVERAGE(G9+J9+M9+P9+S9)/5 -> 11.1
B10: 5 | C10: ='DAFTAR SISWA'!B10 -> 1259 | D10: ='DAFTAR SISWA'!D10 -> Enggar Megawantoro | E10: 6 | G10: =AVERAGE(E10:F10) -> 6 | H10: -4 | J10: =AVERAGE(H10:I10) -> -4 | K10: 14.5 | M10: =AVERAGE(K10:L10) -> 14.5 | N10: 5 | P10: =AVERAGE(N10:O10) -> 5 | Q10: -1 | S10: =AVERAGE(Q10:R10) -> -1 | T10: =AVERAGE(G10+J10+M10+P10+S10)/5 -> 4.1
B11: 6 | C11: ='DAFTAR SISWA'!B11 -> 1260 | D11: ='DAFTAR SISWA'!D11 -> Firman Ainur Rahmad | E11: 7 | G11: =AVERAGE(E11:F11) -> 7 | H11: -6 | J11: =AVERAGE(H11:I11) -> -6 | K11: 14 | M11: =AVERAGE(K11:L11) -> 14 | N11: 6 | P11: =AVERAGE(N11:O11) -> 6 | Q11: -2 | S11: =AVERAGE(Q11:R11) -> -2 | T11: =AVERAGE(G11+J11+M11+P11+S11)/5 -> 3.8
B12: 7 | C12: ='DAFTAR SISWA'!B12 -> 1263 | D12: ='DAFTAR SISWA'!D12 -> Indra Setyawan | E12: 8 | G12: =AVERAGE(E12:F12) -> 8 | H12: -8 | J12: =AVERAGE(H12:I12) -> -8 | K12: 13.5 | M12: =AVERAGE(K12:L12) -> 13.5 | N12: 7 | P12: =AVERAGE(N12:O12) -> 7 | Q12: -3 | S12: =AVERAGE(Q12:R12) -> -3 | T12: =AVERAGE(G12+J12+M12+P12+S12)/5 -> 3.5
B13: 8 | C13: ='DAFTAR SISWA'!B13 -> 1311 | D13: ='DAFTAR SISWA'!D13 -> Ismi Nur Fadilah | E13: 9 | G13: =AVERAGE(E13:F13) -> 9 | H13: -10 | J13: =AVERAGE(H13:I13) -> -10 | K13: 13 | M13: =AVERAGE(K13:L13) -> 13 | N13: 8 | P13: =AVERAGE(N13:O13) -> 8 | Q13: -4 | S13: =AVERAGE(Q13:R13) -> -4 | T13: =AVERAGE(G13+J13+M13+P13+S13)/5 -> 3.2
B14: 9 | C14: ='DAFTAR SISWA'!B14 -> 1264 | D14: ='DAFTAR SISWA'!D14 -> Jordan Ahmad Kautsar | E14: 10 | G14: =AVERAGE(E14:F14) -> 10 | H14: -12 | J14: =AVERAGE(H14:I14) -> -12 | K14: 12.5 | M14: =AVERAGE(K14:L14) -> 12.5 | N14: 9 | P14: =AVERAGE(N14:O14) -> 9 | Q14: -5 | S14: =AVERAGE(Q14:R14) -> -5 | T14: =AVERAGE(G14+J14+M14+P14+S14)/5 -> 2.9
B15: 10 | C15: ='DAFTAR SISWA'!B15 -> 1351 | D15: ='DAFTAR SISWA'!D15 -> Kahfila Zahra Aulia | E15: 11 | G15: =AVERAGE(E15:F15) -> 11 | H15: -14 | J15: =AVERAGE(H15:I15) -> -14 | K15: 12 | M15: =AVERAGE(K15:L15) -> 12 | N15: 10 | P15: =AVERAGE(N15:O15) -> 10 | Q15: -6 | S15: =AVERAGE(Q15:R15) -> -6 | T15: =AVERAGE(G15+J15+M15+P15+S15)/5 -> 2.6
B16: 11 | C16: ='DAFTAR SISWA'!B16 -> 1265 | D16: ='DAFTAR SISWA'!D16 -> Marvin Aditya Pratama | E16: 12 | G16: =AVERAGE(E16:F16) -> 12 | H16: -16 | J16: =AVERAGE(H16:I16) -> -16 | K16: 11.5 | M16: =AVERAGE(K16:L16) -> 11.5 | N16: 11 | P16: =AVERAGE(N16:O16) -> 11 | Q16: -7 | S16: =AVERAGE(Q16:R16) -> -7 | T16: =AVERAGE(G16+J16+M16+P16+S16)/5 -> 2.3
B17: 12 | C17: ='DAFTAR SISWA'!B17 -> 1266 | D17: ='DAFTAR SISWA'!D17 -> Muhammad Jibril Al Hafidz | E17: 13 | G17: =AVERAGE(E17:F17) -> 13 | H17: -18 | J17: =AVERAGE(H17:I17) -> -18 | K17: 11 | M17: =AVERAGE(K17:L17) -> 11 | N17: 12 | P17: =AVERAGE(N17:O17) -> 12 | Q17: -8 | S17: =AVERAGE(Q17:R17) -> -8 | T17: =AVERAGE(G17+J17+M17+P17+S17)/5 -> 2
B18: 13 | C18: ='DAFTAR SISWA'!B18 -> 1267 | D18: ='DAFTAR SISWA'!D18 -> Muhammad Khoirun Hanafi | E18: 14 | G18: =AVERAGE(E18:F18) -> 14 | H18: -20 | J18: =AVERAGE(H18:I18) -> -20 | K18: 10.5 | M18: =AVERAGE(K18:L18) -> 10.5 | N18: 13 | P18: =AVERAGE(N18:O18) -> 13 | Q18: -9 | S18: =AVERAGE(Q18:R18) -> -9 | T18: =AVERAGE(G18+J18+M18+P18+S18)/5 -> 1.7
B19: 14 | C19: ='DAFTAR SISWA'!B19 -> 1269 | D19: ='DAFTAR SISWA'!D19 -> Nila Nafira | E19: 15 | G19: =AVERAGE(E19:F19) -> 15 | H19: -22 | J19: =AVERAGE(H19:I19) -> -22 | K19: 10 | M19: =AVERAGE(K19:L19) -> 10 | N19: 14 | P19: =AVERAGE(N19:O19) -> 14 | Q19: -10 | S19: =AVERAGE(Q19:R19) -> -10 | T19: =AVERAGE(G19+J19+M19+P19+S19)/5 -> 1.4
B20: 15 | C20: ='DAFTAR SISWA'!B20 -> 1389 | D20: ='DAFTAR SISWA'!D20 -> Oktavia Vivi Novita | E20: 16 | G20: =AVERAGE(E20:F20) -> 16 | H20: -24 | J20: =AVERAGE(H20:I20) -> -24 | K20: 9.5 | M20: =AVERAGE(K20:L20) -> 9.5 | N20: 15 | P20: =AVERAGE(N20:O20) -> 15 | Q20: -11 | S20: =AVERAGE(Q20:R20) -> -11 | T20: =AVERAGE(G20+J20+M20+P20+S20)/5 -> 1.1
B21: 16 | C21: ='DAFTAR SISWA'!B21 -> 1270 | D21: ='DAFTAR SISWA'!D21 -> Patricia Chiquitita | E21: 17 | G21: =AVERAGE(E21:F21) -> 17 | H21: -26 | J21: =AVERAGE(H21:I21) -> -26 | K21: 9 | M21: =AVERAGE(K21:L21) -> 9 | N21: 16 | P21: =AVERAGE(N21:O21) -> 16 | Q21: -12 | S21: =AVERAGE(Q21:R21) -> -12 | T21: =AVERAGE(G21+J21+M21+P21+S21)/5 -> 0.8
... B30: 25 | C30: ='DAFTAR SISWA'!B30 -> 1249 | D30: ='DAFTAR SISWA'!D30 -> Zaidan Arley | E30: 26 | G30: =AVERAGE(E30:F30) -> 26 | H30: -44 | J30: =AVERAGE(H30:I30) -> -44 | K30: 4.5 | M30: =AVERAGE(K30:L30) -> 4.5 | N30: 25 | P30: =AVERAGE(N30:O30) -> 25 | Q30: -21 | S30: =AVERAGE(Q30:R30) -> -21 | T30: =AVERAGE(G30+J30+M30+P30+S30)/5 -> -1.9

Sheet RaporM1
B1: BAHASA JAWA (RAPOR)
B2: NO | C2: No.Induk | D2: Nama | T2: NILAI RAPOR
E3: Kelas IV Semester I | G3: Rata-rata | H3: Kelas IV Semester II | J3: Rata-rata | K3: Kelas V Semester I | M3: Rata-rata | N3: Kelas V Semester II | P3: Rata-rata | Q3: Kelas VI Semester I | S3: Rata-rata
E4: Pengetahuan | F4: Keterampilan | H4: Pengetahuan | I4: Keterampilan | K4: Pengetahuan | L4: Keterampilan | N4: Pengetahuan | O4: Keterampilan | Q4: Pengetahuan | R4: Keterampilan
B5: 1 | C5: 2 | D5: 3 | T5: 13
B6: 1 | C6: ='DAFTAR SISWA'!B6 -> 1255 | D6: ='DAFTAR SISWA'!D6 -> Adya Woro Anggraeni | E6: 2 | F6: 3 | G6: =AVERAGE(E6:F6) -> 2.5 | H6: 4 | I6: 5 | J6: =AVERAGE(H6:I6) -> 4.5 | K6: 70 | L6: 60 | M6: =AVERAGE(K6:L6) -> 65 | N6: 75 | O6: 80 | P6: =AVERAGE(N6:O6) -> 77.5 | Q6: 90 | R6: 90 | S6: =AVERAGE(Q6:R6) -> 90 | T6: =AVERAGE(G6+J6+M6+P6+S6)/5 -> 47.9
B7: 2 | C7: ='DAFTAR SISWA'!B7 -> 1349 | D7: ='DAFTAR SISWA'!D7 -> Amanda Nikeisya Sudibyo | E7: 3 | G7: =AVERAGE(E7:F7) -> 3 | H7: 2 | J7: =AVERAGE(H7:I7) -> 2 | K7: 45 | L7: 6 | M7: =AVERAGE(K7:L7) -> 25.5 | N7: 2 | O7: 4 | P7: =AVERAGE(N7:O7) -> 3 | Q7: 2 | S7: =AVERAGE(Q7:R7) -> 2 | T7: =AVERAGE(G7+J7+M7+P7+S7)/5 -> 7.1
B8: 3 | C8: ='DAFTAR SISWA'!B8 -> 1257 | D8: ='DAFTAR SISWA'!D8 -> Bimo Anggamahenda | E8: 4 | G8: =AVERAGE(E8:F8) -> 4 | H8: 0 | J8: =AVERAGE(H8:I8) -> 0 | K8: 1 | L8: 3 | M8: =AVERAGE(K8:L8) -> 2 | N8: 3 | P8: =AVERAGE(N8:O8) -> 3 | Q8: 1 | S8: =AVERAGE(Q8:R8) -> 1 | T8: =AVERAGE(G8+J8+M8+P8+S8)/5 -> 2
B9: 4 | C9: ='DAFTAR SISWA'!B9 -> 1258 | D9: ='DAFTAR SISWA'!D9 -> Bungah Rizki Rokhimah | E9: 5 | G9: =AVERAGE(E9:F9) -> 5 | H9: -2 | J9: =AVERAGE(H9:I9) -> -2 | K9: 15 | M9: =AVERAGE(K9:L9) -> 15 | N9: 4 | P9: =AVERAGE(N9:O9) -> 4 | Q9: 0 | R9: 67 | S9: =AVERAGE(Q9:R9) -> 33.5 | T9: =AVERAGE(G9+J9+M9+P9+S9)/5 -> 11.1
B10: 5 | C10: ='DAFTAR SISWA'!B10 -> 1259 | D10: ='DAFTAR SISWA'!D10 -> Enggar Megawantoro | E10: 6 | G10: =AVERAGE(E10:F10) -> 6 | H10: -4 | J10: =AVERAGE(H10:I10) -> -4 | K10: 14.5 | M10: =AVERAGE(K10:L10) -> 14.5 | N10: 5 | P10: =AVERAGE(N10:O10) -> 5 | Q10: -1 | S10: =AVERAGE(Q10:R10) -> -1 | T10: =AVERAGE(G10+J10+M10+P10+S10)/5 -> 4.1
B11: 6 | C11: ='DAFTAR SISWA'!B11 -> 1260 | D11: ='DAFTAR SISWA'!D11 -> Firman Ainur Rahmad | E11: 7 | G11: =AVERAGE(E11:F11) -> 7 | H11: -6 | J11: =AVERAGE(H11:I11) -> -6 | K11: 14 | M11: =AVERAGE(K11:L11) -> 14 | N11: 6 | P11: =AVERAGE(N11:O11) -> 6 | Q11: -2 | S11: =AVERAGE(Q11:R11) -> -2 | T11: =AVERAGE(G11+J11+M11+P11+S11)/5 -> 3.8
B12: 7 | C12: ='DAFTAR SISWA'!B12 -> 1263 | D12: ='DAFTAR SISWA'!D12 -> Indra Setyawan | E12: 8 | G12: =AVERAGE(E12:F12) -> 8 | H12: -8 | J12: =AVERAGE(H12:I12) -> -8 | K12: 13.5 | M12: =AVERAGE(K12:L12) -> 13.5 | N12: 7 | P12: =AVERAGE(N12:O12) -> 7 | Q12: -3 | S12: =AVERAGE(Q12:R12) -> -3 | T12: =AVERAGE(G12+J12+M12+P12+S12)/5 -> 3.5
B13: 8 | C13: ='DAFTAR SISWA'!B13 -> 1311 | D13: ='DAFTAR SISWA'!D13 -> Ismi Nur Fadilah | E13: 9 | G13: =AVERAGE(E13:F13) -> 9 | H13: -10 | J13: =AVERAGE(H13:I13) -> -10 | K13: 13 | M13: =AVERAGE(K13:L13) -> 13 | N13: 8 | P13: =AVERAGE(N13:O13) -> 8 | Q13: -4 | S13: =AVERAGE(Q13:R13) -> -4 | T13: =AVERAGE(G13+J13+M13+P13+S13)/5 -> 3.2
B14: 9 | C14: ='DAFTAR SISWA'!B14 -> 1264 | D14: ='DAFTAR SISWA'!D14 -> Jordan Ahmad Kautsar | E14: 10 | G14: =AVERAGE(E14:F14) -> 10 | H14: -12 | J14: =AVERAGE(H14:I14) -> -12 | K14: 12.5 | M14: =AVERAGE(K14:L14) -> 12.5 | N14: 9 | P14: =AVERAGE(N14:O14) -> 9 | Q14: -5 | S14: =AVERAGE(Q14:R14) -> -5 | T14: =AVERAGE(G14+J14+M14+P14+S14)/5 -> 2.9
B15: 10 | C15: ='DAFTAR SISWA'!B15 -> 1351 | D15: ='DAFTAR SISWA'!D15 -> Kahfila Zahra Aulia | E15: 11 | G15: =AVERAGE(E15:F15) -> 11 | H15: -14 | J15: =AVERAGE(H15:I15) -> -14 | K15: 12 | M15: =AVERAGE(K15:L15) -> 12 | N15: 10 | P15: =AVERAGE(N15:O15) -> 10 | Q15: -6 | S15: =AVERAGE(Q15:R15) -> -6 | T15: =AVERAGE(G15+J15+M15+P15+S15)/5 -> 2.6
B16: 11 | C16: ='DAFTAR SISWA'!B16 -> 1265 | D16: ='DAFTAR SISWA'!D16 -> Marvin Aditya Pratama | E16: 12 | G16: =AVERAGE(E16:F16) -> 12 | H16: -16 | J16: =AVERAGE(H16:I16) -> -16 | K16: 11.5 | M16: =AVERAGE(K16:L16) -> 11.5 | N16: 11 | P16: =AVERAGE(N16:O16) -> 11 | Q16: -7 | S16: =AVERAGE(Q16:R16) -> -7 | T16: =AVERAGE(G16+J16+M16+P16+S16)/5 -> 2.3
B17: 12 | C17: ='DAFTAR SISWA'!B17 -> 1266 | D17: ='DAFTAR SISWA'!D17 -> Muhammad Jibril Al Hafidz | E17: 13 | G17: =AVERAGE(E17:F17) -> 13 | H17: -18 | J17: =AVERAGE(H17:I17) -> -18 | K17: 11 | M17: =AVERAGE(K17:L17) -> 11 | N17: 12 | P17: =AVERAGE(N17:O17) -> 12 | Q17: -8 | S17: =AVERAGE(Q17:R17) -> -8 | T17: =AVERAGE(G17+J17+M17+P17+S17)/5 -> 2
B18: 13 | C18: ='DAFTAR SISWA'!B18 -> 1267 | D18: ='DAFTAR SISWA'!D18 -> Muhammad Khoirun Hanafi | E18: 14 | G18: =AVERAGE(E18:F18) -> 14 | H18: -20 | J18: =AVERAGE(H18:I18) -> -20 | K18: 10.5 | M18: =AVERAGE(K18:L18) -> 10.5 | N18: 13 | P18: =AVERAGE(N18:O18) -> 13 | Q18: -9 | S18: =AVERAGE(Q18:R18) -> -9 | T18: =AVERAGE(G18+J18+M18+P18+S18)/5 -> 1.7
B19: 14 | C19: ='DAFTAR SISWA'!B19 -> 1269 | D19: ='DAFTAR SISWA'!D19 -> Nila Nafira | E19: 15 | G19: =AVERAGE(E19:F19) -> 15 | H19: -22 | J19: =AVERAGE(H19:I19) -> -22 | K19: 10 | M19: =AVERAGE(K19:L19) -> 10 | N19: 14 | P19: =AVERAGE(N19:O19) -> 14 | Q19: -10 | S19: =AVERAGE(Q19:R19) -> -10 | T19: =AVERAGE(G19+J19+M19+P19+S19)/5 -> 1.4
B20: 15 | C20: ='DAFTAR SISWA'!B20 -> 1389 | D20: ='DAFTAR SISWA'!D20 -> Oktavia Vivi Novita | E20: 16 | G20: =AVERAGE(E20:F20) -> 16 | H20: -24 | J20: =AVERAGE(H20:I20) -> -24 | K20: 9.5 | M20: =AVERAGE(K20:L20) -> 9.5 | N20: 15 | P20: =AVERAGE(N20:O20) -> 15 | Q20: -11 | S20: =AVERAGE(Q20:R20) -> -11 | T20: =AVERAGE(G20+J20+M20+P20+S20)/5 -> 1.1
